BEGIN:VCALENDAR
VERSION:2.0
PRODID:-//Northern Texas - Northern Louisiana Synod, ELCA - ECPv6.15.20//NONSGML v1.0//EN
CALSCALE:GREGORIAN
METHOD:PUBLISH
X-ORIGINAL-URL:https://www.ntnl.org
X-WR-CALDESC:Events for Northern Texas - Northern Louisiana Synod, ELCA
REFRESH-INTERVAL;VALUE=DURATION:PT1H
X-Robots-Tag:noindex
X-PUBLISHED-TTL:PT1H
BEGIN:VTIMEZONE
TZID:America/Chicago
BEGIN:DAYLIGHT
TZOFFSETFROM:-0600
TZOFFSETTO:-0500
TZNAME:CDT
DTSTART:20160313T080000
END:DAYLIGHT
BEGIN:STANDARD
TZOFFSETFROM:-0500
TZOFFSETTO:-0600
TZNAME:CST
DTSTART:20161106T070000
END:STANDARD
BEGIN:DAYLIGHT
TZOFFSETFROM:-0600
TZOFFSETTO:-0500
TZNAME:CDT
DTSTART:20170312T080000
END:DAYLIGHT
BEGIN:STANDARD
TZOFFSETFROM:-0500
TZOFFSETTO:-0600
TZNAME:CST
DTSTART:20171105T070000
END:STANDARD
BEGIN:DAYLIGHT
TZOFFSETFROM:-0600
TZOFFSETTO:-0500
TZNAME:CDT
DTSTART:20180311T080000
END:DAYLIGHT
BEGIN:STANDARD
TZOFFSETFROM:-0500
TZOFFSETTO:-0600
TZNAME:CST
DTSTART:20181104T070000
END:STANDARD
END:VTIMEZONE
BEGIN:VEVENT
DTSTART;VALUE=DATE:20170404
DTEND;VALUE=DATE:20170407
DTSTAMP:20260420T214925
CREATED:20170208T060000Z
LAST-MODIFIED:20170907T141802Z
UID:16220-1491264000-1491523199@www.ntnl.org
SUMMARY:Young at Heart Retreat (Briarwood)
DESCRIPTION:From Briarwood Retreat Center‘s website: \nCome join us for our annual senior’s retreat! This year’s theme is “Telling Your Story\,” where we remember all of the things that God has done is our lives\, continues to do so daily\, and how we can share our experiences with others. \nWe will have devotions\, play games\, do crafts\, and even have time to relax. Cost is $60-$120\, depending on your lodging arrangements. \nMark your calendars\, and we hope to see you there! \nREGISTER HERE.
URL:https://www.ntnl.org/event/young-heart-retreat-briarwood/
LOCATION:Briarwood Leadership Center\, 670 Copper Canyon Rd.\, Argyle\, TX\, 76226\, United States
ATTACH;FMTTYPE=image/png:https://www.ntnl.org/wp-content/uploads/2017/04/Young-at-Heart-Retreat-Briarwood.png
ORGANIZER;CN="Briarwood Leadership Center":MAILTO:bw@briarwoodretreat.org
GEO:33.0886127;-97.1074111
X-APPLE-STRUCTURED-LOCATION;VALUE=URI;X-ADDRESS=Briarwood Leadership Center 670 Copper Canyon Rd. Argyle TX 76226 United States;X-APPLE-RADIUS=500;X-TITLE=670 Copper Canyon Rd.:geo:-97.1074111,33.0886127
END:VEVENT
END:VCALENDAR