BEGIN:VCALENDAR
VERSION:2.0
PRODID:-//Northern Texas - Northern Louisiana Synod, ELCA - ECPv6.15.20//NONSGML v1.0//EN
CALSCALE:GREGORIAN
METHOD:PUBLISH
X-ORIGINAL-URL:https://www.ntnl.org
X-WR-CALDESC:Events for Northern Texas - Northern Louisiana Synod, ELCA
REFRESH-INTERVAL;VALUE=DURATION:PT1H
X-Robots-Tag:noindex
X-PUBLISHED-TTL:PT1H
BEGIN:VTIMEZONE
TZID:America/Chicago
BEGIN:DAYLIGHT
TZOFFSETFROM:-0600
TZOFFSETTO:-0500
TZNAME:CDT
DTSTART:20170312T080000
END:DAYLIGHT
BEGIN:STANDARD
TZOFFSETFROM:-0500
TZOFFSETTO:-0600
TZNAME:CST
DTSTART:20171105T070000
END:STANDARD
BEGIN:DAYLIGHT
TZOFFSETFROM:-0600
TZOFFSETTO:-0500
TZNAME:CDT
DTSTART:20180311T080000
END:DAYLIGHT
BEGIN:STANDARD
TZOFFSETFROM:-0500
TZOFFSETTO:-0600
TZNAME:CST
DTSTART:20181104T070000
END:STANDARD
BEGIN:DAYLIGHT
TZOFFSETFROM:-0600
TZOFFSETTO:-0500
TZNAME:CDT
DTSTART:20190310T080000
END:DAYLIGHT
BEGIN:STANDARD
TZOFFSETFROM:-0500
TZOFFSETTO:-0600
TZNAME:CST
DTSTART:20191103T070000
END:STANDARD
END:VTIMEZONE
BEGIN:VEVENT
DTSTART;TZID=America/Chicago:20180915T090000
DTEND;TZID=America/Chicago:20180915T153000
DTSTAMP:20260424T230952
CREATED:20170531T050000Z
LAST-MODIFIED:20180321T165219Z
UID:16253-1537002000-1537025400@www.ntnl.org
SUMMARY:Parish Lay Ministry Academy\, Fall 2018\, Course 1
DESCRIPTION:
URL:https://www.ntnl.org/event/plma-fall-2018-course-1/
LOCATION:Christ Evangelical Lutheran Mission Center at Briarwood\, 680 Copper Canyon Rd.\, Argyle\, TX\, 76226\, United States
CATEGORIES:Parish Lay Ministry Academy
ATTACH;FMTTYPE=image/jpeg:https://www.ntnl.org/wp-content/uploads/2017/04/plmbw.jpg
ORGANIZER;CN="NT-NL Parish Lay Ministry Academy":MAILTO:DeanPLMA@ntnl.org
GEO:33.0908265;-97.1099253
X-APPLE-STRUCTURED-LOCATION;VALUE=URI;X-ADDRESS=Christ Evangelical Lutheran Mission Center at Briarwood 680 Copper Canyon Rd. Argyle TX 76226 United States;X-APPLE-RADIUS=500;X-TITLE=680 Copper Canyon Rd.:geo:-97.1099253,33.0908265
END:VEVENT
BEGIN:VEVENT
DTSTART;TZID=America/Chicago:20180915T100000
DTEND;TZID=America/Chicago:20180915T120000
DTSTAMP:20260424T230952
CREATED:20180904T233305Z
LAST-MODIFIED:20180904T233305Z
UID:20363-1537005600-1537012800@www.ntnl.org
SUMMARY:Public Hearing: Women & Justice ELCA Draft
DESCRIPTION:Join us in the Fellowship Hall to discuss this important document: Draft Social Statement on Women and Justice.
URL:https://www.ntnl.org/event/public-hearing-women-justice-elca-draft/
LOCATION:Christ the King – Haltom City\, 4200 Denton Hwy\, Haltom City\, TX\, 76117\, United States
ORGANIZER;CN="Christ the King Lutheran Church":MAILTO:ctkinfo@christthekinglutheranchurch.net
GEO:32.8264281;-97.2638107
X-APPLE-STRUCTURED-LOCATION;VALUE=URI;X-ADDRESS=Christ the King – Haltom City 4200 Denton Hwy Haltom City TX 76117 United States;X-APPLE-RADIUS=500;X-TITLE=4200 Denton Hwy:geo:-97.2638107,32.8264281
END:VEVENT
END:VCALENDAR