BEGIN:VCALENDAR
VERSION:2.0
PRODID:-//Northern Texas - Northern Louisiana Synod, ELCA - ECPv6.15.20//NONSGML v1.0//EN
CALSCALE:GREGORIAN
METHOD:PUBLISH
X-ORIGINAL-URL:https://www.ntnl.org
X-WR-CALDESC:Events for Northern Texas - Northern Louisiana Synod, ELCA
REFRESH-INTERVAL;VALUE=DURATION:PT1H
X-Robots-Tag:noindex
X-PUBLISHED-TTL:PT1H
BEGIN:VTIMEZONE
TZID:America/Chicago
BEGIN:DAYLIGHT
TZOFFSETFROM:-0600
TZOFFSETTO:-0500
TZNAME:CDT
DTSTART:20170312T080000
END:DAYLIGHT
BEGIN:STANDARD
TZOFFSETFROM:-0500
TZOFFSETTO:-0600
TZNAME:CST
DTSTART:20171105T070000
END:STANDARD
BEGIN:DAYLIGHT
TZOFFSETFROM:-0600
TZOFFSETTO:-0500
TZNAME:CDT
DTSTART:20180311T080000
END:DAYLIGHT
BEGIN:STANDARD
TZOFFSETFROM:-0500
TZOFFSETTO:-0600
TZNAME:CST
DTSTART:20181104T070000
END:STANDARD
BEGIN:DAYLIGHT
TZOFFSETFROM:-0600
TZOFFSETTO:-0500
TZNAME:CDT
DTSTART:20190310T080000
END:DAYLIGHT
BEGIN:STANDARD
TZOFFSETFROM:-0500
TZOFFSETTO:-0600
TZNAME:CST
DTSTART:20191103T070000
END:STANDARD
END:VTIMEZONE
BEGIN:VEVENT
DTSTART;TZID=America/Chicago:20180917T090000
DTEND;TZID=America/Chicago:20180917T160000
DTSTAMP:20260423T113939
CREATED:20180731T225955Z
LAST-MODIFIED:20180731T230323Z
UID:20164-1537174800-1537200000@www.ntnl.org
SUMMARY:Boundary Training: Healthy Relationships in Ministry
DESCRIPTION:Brite Divinity School will offer Boundary Training: Healthy Relationships in Ministry on September 17 from 9:00 to 4:00. This training will cover such things as: discerning the importance of healthy boundaries for building community; identifying behavior in self and others that can potentially compromise healthy relationships; developing professional ethics that sustain ministry; examining the dynamics in communities where clergy misconduct has occurred; and creating strategies for maintaining healthy relationships with self\, others\, and God. This workshop is intended to meet boundary training criteria for ministerial standing. \nA certificate will be given at the end of the workshop for six contact hours of continuing education in boundary training. (Please submit your certificate to jeanne@ntnl.org to add to your Rostered Minister file in our database.) \nThe workshop will be led by Rev. Dr. Joretta Marshall\, Executive Vice President and Dean and Professor of Pastoral Theology and Care\, and Rev. Dr. Timothy Robinson\, Alberta H. and Harold L. Lunger Associate Professor of Spiritual Disciplines and Resources\, at Brite. \nRegistration is $20 for the day and does not include lunch. For more information\, call 817.257.7582 or email e.theilig@tcu.edu. \nLocation: University Christian Church\, Fort Worth\, TX
URL:https://www.ntnl.org/event/boundary-training-healthy-relationships-in-ministry/
END:VEVENT
END:VCALENDAR