BEGIN:VCALENDAR
VERSION:2.0
PRODID:-//Northern Texas - Northern Louisiana Synod, ELCA - ECPv6.15.20//NONSGML v1.0//EN
CALSCALE:GREGORIAN
METHOD:PUBLISH
X-WR-CALNAME:Northern Texas - Northern Louisiana Synod, ELCA
X-ORIGINAL-URL:https://www.ntnl.org
X-WR-CALDESC:Events for Northern Texas - Northern Louisiana Synod, ELCA
REFRESH-INTERVAL;VALUE=DURATION:PT1H
X-Robots-Tag:noindex
X-PUBLISHED-TTL:PT1H
BEGIN:VTIMEZONE
TZID:America/Chicago
BEGIN:DAYLIGHT
TZOFFSETFROM:-0600
TZOFFSETTO:-0500
TZNAME:CDT
DTSTART:20170312T080000
END:DAYLIGHT
BEGIN:STANDARD
TZOFFSETFROM:-0500
TZOFFSETTO:-0600
TZNAME:CST
DTSTART:20171105T070000
END:STANDARD
BEGIN:DAYLIGHT
TZOFFSETFROM:-0600
TZOFFSETTO:-0500
TZNAME:CDT
DTSTART:20180311T080000
END:DAYLIGHT
BEGIN:STANDARD
TZOFFSETFROM:-0500
TZOFFSETTO:-0600
TZNAME:CST
DTSTART:20181104T070000
END:STANDARD
BEGIN:DAYLIGHT
TZOFFSETFROM:-0600
TZOFFSETTO:-0500
TZNAME:CDT
DTSTART:20190310T080000
END:DAYLIGHT
BEGIN:STANDARD
TZOFFSETFROM:-0500
TZOFFSETTO:-0600
TZNAME:CST
DTSTART:20191103T070000
END:STANDARD
END:VTIMEZONE
BEGIN:VEVENT
DTSTART;VALUE=DATE:20181014
DTEND;VALUE=DATE:20181017
DTSTAMP:20260421T080100
CREATED:20161108T060000Z
LAST-MODIFIED:20180905T212326Z
UID:16188-1539475200-1539734399@www.ntnl.org
SUMMARY:NT-NL Leadership Convocation
DESCRIPTION:Adaptive Leadership in Anxious Times \nREGISTER HERE! \nPresenter\nLt. Gen. (Ret.) Rick Lynch – He is formerly the commanding officer of Fort Hood and an active member of Immanuel\, Killeen. He is the author of two books Adapt or Die: Leadership Principles of an American General and Work Hard Pray Hard: The Power of Faith in Action. As a speaker\, he is in demand across the world for the unique blending of his experiences\, faith\, and knowledge of the principles of adaptive leadership. He will speak particularly on the challenges of leading adaptively in times of anxiety and change. \nKey Goals\nThe learning will be focused on informing and equipping leaders to understand the concepts of adaptive leadership particularly in anxious settings. This event is open to rostered leaders\, spouses\, lay members of congregations\, and ecumenical colleagues. \nPlanned Schedule\nSunday\, 14 October\n(Arrive anytime after 3pm to check in; Book Exchange in Shalom)\n6:00pm – Pizza and Hot hors d’oeuvres available in Streng Center\n6:45pm – Evening with the Bishop Presentation and Conversation\n8:00pm – Worship (Campfire Ring near Pavilion)\n9:00pm – Fellowship @ Quail Run \nMonday\, 15 October\n7:30am – Breakfast @ Shalom\n8:30am – Morning Prayer\n8:45am – Learning Session 1\n10:15am – Break\n10:45am – Learning Session 2\n12:30pm – Lunch\n1:30pm – Free time (Skeet\, Hiking\, Conversation with Synod Staff\, Personal time\, or Golf – contact Nick Billardello for info: 817-688-8799)\n5:00pm – Happy Hour @ Quail Run (Sponsored by Revitalizing Congregations Team)\n6:00pm – Cookout Dinner\n7:00pm – Optional Q&A with Presenter in Chapel\n8:00pm – Fellowship @ Quail Run \nTuesday\, 16 October\n7:30am – Breakfast @ Shalom\n8:15am – Hymn and Devotion\n8:30am – Learning Session 3\n9:45am – Break\n10:00am – Learning Session 4-Final Thoughts\n11:00am – Break for Setup\n11:15am – Sending Eucharist and Affirmation of Vocation \n(Please note\, due to lack of interest in 2017\, it is not good stewardship to offer lunch at Briarwood on Tuesday; please enjoy lunch at one of many options in the area\, if you so choose.) \nCosts (Held steady as last 2 years)\nCommuters: $150 (Spouse – $140) for all three days\nCommuter Daily Rates:  $55 per day (Spouse – $50 per day)\nQuail Run (Hotel rooms) – $245 (double occupancy) / Spouse – $180\nOak Grove (Cabins) – $185 (8 to 12 to a cabin) / Spouse – $100\nTrails End (Cabin) – $160 (18 person cabin) / Spouse – $100 \nIf you are in need of one of a limited number of partial scholarships\, email kris@ntnl.org with your request. \nREGISTER HERE!
URL:https://www.ntnl.org/event/leadership-convocation-2018/
LOCATION:Christ Evangelical Lutheran Mission Center at Briarwood\, 680 Copper Canyon Rd.\, Argyle\, TX\, 76226\, United States
ORGANIZER;CN="NT-NL Synod%2C ELCA":MAILTO:office@ntnl.org
GEO:33.0908265;-97.1099253
X-APPLE-STRUCTURED-LOCATION;VALUE=URI;X-ADDRESS=Christ Evangelical Lutheran Mission Center at Briarwood 680 Copper Canyon Rd. Argyle TX 76226 United States;X-APPLE-RADIUS=500;X-TITLE=680 Copper Canyon Rd.:geo:-97.1099253,33.0908265
END:VEVENT
END:VCALENDAR