BEGIN:VCALENDAR
VERSION:2.0
PRODID:-//Northern Texas - Northern Louisiana Synod, ELCA - ECPv6.15.20//NONSGML v1.0//EN
CALSCALE:GREGORIAN
METHOD:PUBLISH
X-ORIGINAL-URL:https://www.ntnl.org
X-WR-CALDESC:Events for Northern Texas - Northern Louisiana Synod, ELCA
REFRESH-INTERVAL;VALUE=DURATION:PT1H
X-Robots-Tag:noindex
X-PUBLISHED-TTL:PT1H
BEGIN:VTIMEZONE
TZID:America/Chicago
BEGIN:DAYLIGHT
TZOFFSETFROM:-0600
TZOFFSETTO:-0500
TZNAME:CDT
DTSTART:20170312T080000
END:DAYLIGHT
BEGIN:STANDARD
TZOFFSETFROM:-0500
TZOFFSETTO:-0600
TZNAME:CST
DTSTART:20171105T070000
END:STANDARD
BEGIN:DAYLIGHT
TZOFFSETFROM:-0600
TZOFFSETTO:-0500
TZNAME:CDT
DTSTART:20180311T080000
END:DAYLIGHT
BEGIN:STANDARD
TZOFFSETFROM:-0500
TZOFFSETTO:-0600
TZNAME:CST
DTSTART:20181104T070000
END:STANDARD
BEGIN:DAYLIGHT
TZOFFSETFROM:-0600
TZOFFSETTO:-0500
TZNAME:CDT
DTSTART:20190310T080000
END:DAYLIGHT
BEGIN:STANDARD
TZOFFSETFROM:-0500
TZOFFSETTO:-0600
TZNAME:CST
DTSTART:20191103T070000
END:STANDARD
END:VTIMEZONE
BEGIN:VEVENT
DTSTART;VALUE=DATE:20181101
DTEND;VALUE=DATE:20181105
DTSTAMP:20260423T113949
CREATED:20180612T192354Z
LAST-MODIFIED:20180612T192354Z
UID:19652-1541030400-1541375999@www.ntnl.org
SUMMARY:2018 ELCA Youth Leadership Summit
DESCRIPTION:The ELCA Youth Leadership Summit is an annual gathering for high school youth identified as leaders and adult representatives from each synod from across the ELCA. This summit focuses on leadership development through engaging speakers and thought leaders in key areas at the intersection of leadership and faith in daily life and faith formation and building connections for high school youth in the Evangelical Lutheran Church in America. Youth will be challenged to take home what they have learned to inspire action in their own synods and youth groups. \n2018 ELCA Youth Leadership Summit \nNovember 1-4 \nCamp Carol Joy Holling\, Ashland\, Nebraska \n \nThe theme for the 2018 Summit is “Through Christ We Can” and will use Philippians 2:1-5 as it’s scriptural base. The event will focus on young people’s call to ministry for the sake of others and advocacy because of their faith. For our learning and networking times we will be joined by various ELCA ministries and staff including Advocacy\, Young Adult Ministries\, Justice for Women and Global Mission. \nProgram\, food\, lodging\, and local transportation costs are covered thanks to a grant the ELCA Youth Ministry received. NT-NL will cover travel to and from Nebraska for up to 4 (four) youth. \nRegistration will remain open until September 30. Contact molly.beckdean@elca.org with any questions.
URL:https://www.ntnl.org/event/2018-elca-youth-leadership-summit/
ATTACH;FMTTYPE=image/jpeg:https://www.ntnl.org/wp-content/uploads/2018/07/OurWork_Youth_Youth_Leadership_Summit.jpg
END:VEVENT
END:VCALENDAR