BEGIN:VCALENDAR
VERSION:2.0
PRODID:-//Northern Texas - Northern Louisiana Synod, ELCA - ECPv6.15.20//NONSGML v1.0//EN
CALSCALE:GREGORIAN
METHOD:PUBLISH
X-ORIGINAL-URL:https://www.ntnl.org
X-WR-CALDESC:Events for Northern Texas - Northern Louisiana Synod, ELCA
REFRESH-INTERVAL;VALUE=DURATION:PT1H
X-Robots-Tag:noindex
X-PUBLISHED-TTL:PT1H
BEGIN:VTIMEZONE
TZID:America/Chicago
BEGIN:DAYLIGHT
TZOFFSETFROM:-0600
TZOFFSETTO:-0500
TZNAME:CDT
DTSTART:20180311T080000
END:DAYLIGHT
BEGIN:STANDARD
TZOFFSETFROM:-0500
TZOFFSETTO:-0600
TZNAME:CST
DTSTART:20181104T070000
END:STANDARD
BEGIN:DAYLIGHT
TZOFFSETFROM:-0600
TZOFFSETTO:-0500
TZNAME:CDT
DTSTART:20190310T080000
END:DAYLIGHT
BEGIN:STANDARD
TZOFFSETFROM:-0500
TZOFFSETTO:-0600
TZNAME:CST
DTSTART:20191103T070000
END:STANDARD
BEGIN:DAYLIGHT
TZOFFSETFROM:-0600
TZOFFSETTO:-0500
TZNAME:CDT
DTSTART:20200308T080000
END:DAYLIGHT
BEGIN:STANDARD
TZOFFSETFROM:-0500
TZOFFSETTO:-0600
TZNAME:CST
DTSTART:20201101T070000
END:STANDARD
END:VTIMEZONE
BEGIN:VEVENT
DTSTART;TZID=America/Chicago:20190524T080000
DTEND;TZID=America/Chicago:20190524T120000
DTSTAMP:20260421T155135
CREATED:20190515T211058Z
LAST-MODIFIED:20190515T213638Z
UID:21567-1558684800-1558699200@www.ntnl.org
SUMMARY:Crossing Borders
DESCRIPTION:SMU | Perkins School of Theology\nThe Thirty-third Annual Conference of the Professions for\nLAW • MEDICINE • CLERGY \nThis year’s 33rd conference will feature a keynote presentation by Liz Cedillo-Pereira\, Esq. and a panel discussion including Roberto De La Cruz\, M.D.\, Isabel Docampo\, D. Min.\, Bill Holston\, J.D. with the Honorable Judge Clay Jenkins\, J.D. acting as moderator. \nProviding medical care\, legal representation\, and a spiritual home for documented and undocumented immigrants alike — many seeking asylum from intolerable conditions in their home countries — presents unique challenges and rewards. What are the ethical obligations of lawyers\, physicians\, and clergy to those who have come here from other countries? How are our professional organizations\, firms\, and practices responding to the needs of the immigrant community? \nTexas Scottish Rite Hospital\nT. Boone Pickens Conference Center\n2222 Welborn Street\, Dallas\, TX 75219 \nRegistration and Breakfast 8:00 to 8:30 a.m.\nKeynote Address and Panel Discussion 8:30 to noon \nClergy Registration is $35.00\nStudent Registration is Free \nThis activity has been approved for .4 continuing educations units (CEUs) for clergy and religious professionals. Request your CEU certificate through online registration. \nLearn more about the Conference of Professions\, its Sponsors\, and Register to Attend.
URL:https://www.ntnl.org/event/crossing-borders/
ATTACH;FMTTYPE=image/png:https://www.ntnl.org/wp-content/uploads/2019/05/Crossing-Borders-Perkins-May-2019.png
END:VEVENT
END:VCALENDAR