BEGIN:VCALENDAR
VERSION:2.0
PRODID:-//Northern Texas - Northern Louisiana Synod, ELCA - ECPv6.15.20//NONSGML v1.0//EN
CALSCALE:GREGORIAN
METHOD:PUBLISH
X-ORIGINAL-URL:https://www.ntnl.org
X-WR-CALDESC:Events for Northern Texas - Northern Louisiana Synod, ELCA
REFRESH-INTERVAL;VALUE=DURATION:PT1H
X-Robots-Tag:noindex
X-PUBLISHED-TTL:PT1H
BEGIN:VTIMEZONE
TZID:America/Chicago
BEGIN:DAYLIGHT
TZOFFSETFROM:-0600
TZOFFSETTO:-0500
TZNAME:CDT
DTSTART:20180311T080000
END:DAYLIGHT
BEGIN:STANDARD
TZOFFSETFROM:-0500
TZOFFSETTO:-0600
TZNAME:CST
DTSTART:20181104T070000
END:STANDARD
BEGIN:DAYLIGHT
TZOFFSETFROM:-0600
TZOFFSETTO:-0500
TZNAME:CDT
DTSTART:20190310T080000
END:DAYLIGHT
BEGIN:STANDARD
TZOFFSETFROM:-0500
TZOFFSETTO:-0600
TZNAME:CST
DTSTART:20191103T070000
END:STANDARD
BEGIN:DAYLIGHT
TZOFFSETFROM:-0600
TZOFFSETTO:-0500
TZNAME:CDT
DTSTART:20200308T080000
END:DAYLIGHT
BEGIN:STANDARD
TZOFFSETFROM:-0500
TZOFFSETTO:-0600
TZNAME:CST
DTSTART:20201101T070000
END:STANDARD
END:VTIMEZONE
BEGIN:VEVENT
DTSTART;VALUE=DATE:20191107
DTEND;VALUE=DATE:20191111
DTSTAMP:20260421T155120
CREATED:20190603T223622Z
LAST-MODIFIED:20190603T223713Z
UID:21673-1573084800-1573430399@www.ntnl.org
SUMMARY:Via de Cristo weekend
DESCRIPTION:Registration Deadline: Monday\, October 28 \nRegister here: https://www.vdcnorthtexas.org/sponsor-info
URL:https://www.ntnl.org/event/via-de-cristo-wknd-nov-2019/
LOCATION:Briarwood Leadership Center\, 670 Copper Canyon Rd.\, Argyle\, TX\, 76226\, United States
ORGANIZER;CN="Lutheran Via de Cristo of North Texas":MAILTO:info@vdcnorthtexas.org
GEO:33.0886127;-97.1074111
X-APPLE-STRUCTURED-LOCATION;VALUE=URI;X-ADDRESS=Briarwood Leadership Center 670 Copper Canyon Rd. Argyle TX 76226 United States;X-APPLE-RADIUS=500;X-TITLE=670 Copper Canyon Rd.:geo:-97.1074111,33.0886127
END:VEVENT
BEGIN:VEVENT
DTSTART;VALUE=DATE:20191108
DTEND;VALUE=DATE:20191111
DTSTAMP:20260421T155120
CREATED:20190825T181553Z
LAST-MODIFIED:20190825T181708Z
UID:22401-1573171200-1573430399@www.ntnl.org
SUMMARY:"Lutheran Young Adults" / "Lutheran Single Adults" Reunion Retreat
DESCRIPTION:A Reunion Retreat of the former “Lutheran Young Adults” (LYA)\, later known as “Lutheran Single Adults” (LSA)\, is being held November 8-10\, 2019\, at Camp Lone Star in La Grange\, TX. Spouses and friends are welcome! There will be speakers\, Bible study\, singing\, a service project\, a dance\, and plenty of fellowship and renewing friendships from years past! \nThe event is a Reunion Retreat of Lutheran Adults who were former members of a singles group called Lutheran Young Adults (LYA)\, which began back in the 1960’s. We were from all over Texas and met for retreats at the various Lutheran Camps twice a year. The name of the group changed to LSA (Lutheran Single Adults) in the 90’s when “Young” didn’t exactly fit us anymore. Now we have gone our separate ways\, and many of us have married. However\, some singles and married couples from the group have stayed connected through a group called Austin Area Lutheran Friends\, based out of Gethsemane Lutheran Church in Austin. \nThe registration fee includes 4 meals\, lodging\, program\, and recreational activities.  Participants may choose to stay in the Retreat Center for $153 or in a cabin for $100 per person. Retreat Center space is limited\, so register early to secure a space there. Registration is open through October 15. \nCome join us in celebrating our faith in Jesus and reconnecting friendships! Hope to see you there! \nFor more information about the retreat and registration contact: \nLori Bachmann at l_bachmann@bellsouth.net \nOR Martha (Nemky) Steele at marthansteele18@gmail.com
URL:https://www.ntnl.org/event/lya-lsa-reunion-retreat/
ATTACH;FMTTYPE=image/jpeg:https://www.ntnl.org/wp-content/uploads/2019/08/Lutheran-Young-Adults-LYA-logo.jpg
END:VEVENT
BEGIN:VEVENT
DTSTART;VALUE=DATE:20191110
DTEND;VALUE=DATE:20191111
DTSTAMP:20260421T155120
CREATED:20190825T171012Z
LAST-MODIFIED:20191007T153421Z
UID:22392-1573344000-1573430399@www.ntnl.org
SUMMARY:Lutheran Campus Ministry Trivia Challenge
DESCRIPTION:Looking for a fun evening out? Like to laugh? Want a great meal? Enjoy testing your knowledge? Care about young adults? Enjoy a silent auction? These all come together in the Lutheran Campus Ministry Trivia Challenge\, November 10\, at 4 p.m. at Briarwood Leadership Center. All funds generated go to the NT-NL Campus Ministry Mission Fund\, benefiting Lutheran Campus Ministry in the NT-NL Synod. \nForm your team of 8\, design table décor that reflects a ministry of your congregation or some aspect of campus ministry\, or simply go for creativity. Then register for lots of fun. Our meal is being catered by Chef Carlos Carrasquillo. For more information and to register\, contact Pastor Jim Rowe (845.750.4606 or pastor@lcmdenton.org). \nRegistration deadline is November 3.
URL:https://www.ntnl.org/event/lcm-trivia-challenge-2019/
LOCATION:Briarwood Leadership Center\, 670 Copper Canyon Rd.\, Argyle\, TX\, 76226\, United States
ORGANIZER;CN="Lutheran Campus Ministry - Denton":MAILTO:pastor@lcmdenton.org
GEO:33.0886127;-97.1074111
X-APPLE-STRUCTURED-LOCATION;VALUE=URI;X-ADDRESS=Briarwood Leadership Center 670 Copper Canyon Rd. Argyle TX 76226 United States;X-APPLE-RADIUS=500;X-TITLE=670 Copper Canyon Rd.:geo:-97.1074111,33.0886127
END:VEVENT
END:VCALENDAR