BEGIN:VCALENDAR
VERSION:2.0
PRODID:-//Northern Texas - Northern Louisiana Synod, ELCA - ECPv6.15.20//NONSGML v1.0//EN
CALSCALE:GREGORIAN
METHOD:PUBLISH
X-ORIGINAL-URL:https://www.ntnl.org
X-WR-CALDESC:Events for Northern Texas - Northern Louisiana Synod, ELCA
REFRESH-INTERVAL;VALUE=DURATION:PT1H
X-Robots-Tag:noindex
X-PUBLISHED-TTL:PT1H
BEGIN:VTIMEZONE
TZID:America/Chicago
BEGIN:DAYLIGHT
TZOFFSETFROM:-0600
TZOFFSETTO:-0500
TZNAME:CDT
DTSTART:20180311T080000
END:DAYLIGHT
BEGIN:STANDARD
TZOFFSETFROM:-0500
TZOFFSETTO:-0600
TZNAME:CST
DTSTART:20181104T070000
END:STANDARD
BEGIN:DAYLIGHT
TZOFFSETFROM:-0600
TZOFFSETTO:-0500
TZNAME:CDT
DTSTART:20190310T080000
END:DAYLIGHT
BEGIN:STANDARD
TZOFFSETFROM:-0500
TZOFFSETTO:-0600
TZNAME:CST
DTSTART:20191103T070000
END:STANDARD
BEGIN:DAYLIGHT
TZOFFSETFROM:-0600
TZOFFSETTO:-0500
TZNAME:CDT
DTSTART:20200308T080000
END:DAYLIGHT
BEGIN:STANDARD
TZOFFSETFROM:-0500
TZOFFSETTO:-0600
TZNAME:CST
DTSTART:20201101T070000
END:STANDARD
END:VTIMEZONE
BEGIN:VEVENT
DTSTART;VALUE=DATE:20191111
DTEND;VALUE=DATE:20191113
DTSTAMP:20260422T105512
CREATED:20190716T202743Z
LAST-MODIFIED:20190716T202743Z
UID:21824-1573430400-1573603199@www.ntnl.org
SUMMARY:SMU | Perkins School of Theology Fall Convocation
DESCRIPTION:Mission Quest: Finding Your Place in God’s World \nTogether we’ll be exploring how travel can shape our faith and help us discern our own mission—whether it calls us far away or close to home.
URL:https://www.ntnl.org/event/smu-perkins-fall-convocation-2019/
LOCATION:SMU | Perkins School of Theology\, PO Box 750133\, Dallas\, TX\, 75275\, United States
ATTACH;FMTTYPE=image/jpeg:https://www.ntnl.org/wp-content/uploads/2019/07/SMU-Perkins-Fall-Convocation-2019.jpg
GEO:32.84;-96.78
X-APPLE-STRUCTURED-LOCATION;VALUE=URI;X-ADDRESS=SMU | Perkins School of Theology PO Box 750133 Dallas TX 75275 United States;X-APPLE-RADIUS=500;X-TITLE=PO Box 750133:geo:-96.78,32.84
END:VEVENT
END:VCALENDAR