BEGIN:VCALENDAR
VERSION:2.0
PRODID:-//Northern Texas - Northern Louisiana Synod, ELCA - ECPv6.15.20//NONSGML v1.0//EN
CALSCALE:GREGORIAN
METHOD:PUBLISH
X-WR-CALNAME:Northern Texas - Northern Louisiana Synod, ELCA
X-ORIGINAL-URL:https://www.ntnl.org
X-WR-CALDESC:Events for Northern Texas - Northern Louisiana Synod, ELCA
REFRESH-INTERVAL;VALUE=DURATION:PT1H
X-Robots-Tag:noindex
X-PUBLISHED-TTL:PT1H
BEGIN:VTIMEZONE
TZID:America/Chicago
BEGIN:DAYLIGHT
TZOFFSETFROM:-0600
TZOFFSETTO:-0500
TZNAME:CDT
DTSTART:20180311T080000
END:DAYLIGHT
BEGIN:STANDARD
TZOFFSETFROM:-0500
TZOFFSETTO:-0600
TZNAME:CST
DTSTART:20181104T070000
END:STANDARD
BEGIN:DAYLIGHT
TZOFFSETFROM:-0600
TZOFFSETTO:-0500
TZNAME:CDT
DTSTART:20190310T080000
END:DAYLIGHT
BEGIN:STANDARD
TZOFFSETFROM:-0500
TZOFFSETTO:-0600
TZNAME:CST
DTSTART:20191103T070000
END:STANDARD
BEGIN:DAYLIGHT
TZOFFSETFROM:-0600
TZOFFSETTO:-0500
TZNAME:CDT
DTSTART:20200308T080000
END:DAYLIGHT
BEGIN:STANDARD
TZOFFSETFROM:-0500
TZOFFSETTO:-0600
TZNAME:CST
DTSTART:20201101T070000
END:STANDARD
END:VTIMEZONE
BEGIN:VEVENT
DTSTART;VALUE=DATE:20191115
DTEND;VALUE=DATE:20191118
DTSTAMP:20260423T095407
CREATED:20190910T223823Z
LAST-MODIFIED:20190910T224038Z
UID:22620-1573776000-1574035199@www.ntnl.org
SUMMARY:NT-NL Junior High Gathering
DESCRIPTION:The NT-NL Jr High Youth Gathering is welcome to all youth in 6th – 8th grades and their friends! \nWhere two or more gather in my name\, I am there also. Matthew 18:20 \n7:00pm Friday\, November 15 – 12noon Sunday\, November 17 \nCost includes programs\, hotel\, meals\, and Group Dynamix. The NTNL Jr. High Gathering is for ANY Jr. High / Middle School student (for most churches this event is for your Confirmation Group). The event includes Small Group Activities\, Songs\, Games\, Worship! \nCost:\nRegistration fee $100 until October 20 but will jump to $125 on October 21\, so sign up today while there is still room available!\n(There is a $3.50 fee per credit card charge.) \nClick here for a PDF version of the registration packet with full details.
URL:https://www.ntnl.org/event/nt-nl-junior-high-gathering/
LOCATION:Grace Lutheran Church – Carrollton\, 1200 East Hebron Pkwy\, Carrollton\, TX\, 75010\, United States
GEO:33.0227562;-96.908626
X-APPLE-STRUCTURED-LOCATION;VALUE=URI;X-ADDRESS=Grace Lutheran Church – Carrollton 1200 East Hebron Pkwy Carrollton TX 75010 United States;X-APPLE-RADIUS=500;X-TITLE=1200 East Hebron Pkwy:geo:-96.908626,33.0227562
END:VEVENT
END:VCALENDAR