BEGIN:VCALENDAR
VERSION:2.0
PRODID:-//Northern Texas - Northern Louisiana Synod, ELCA - ECPv6.15.20//NONSGML v1.0//EN
CALSCALE:GREGORIAN
METHOD:PUBLISH
X-WR-CALNAME:Northern Texas - Northern Louisiana Synod, ELCA
X-ORIGINAL-URL:https://www.ntnl.org
X-WR-CALDESC:Events for Northern Texas - Northern Louisiana Synod, ELCA
REFRESH-INTERVAL;VALUE=DURATION:PT1H
X-Robots-Tag:noindex
X-PUBLISHED-TTL:PT1H
BEGIN:VTIMEZONE
TZID:America/Chicago
BEGIN:DAYLIGHT
TZOFFSETFROM:-0600
TZOFFSETTO:-0500
TZNAME:CDT
DTSTART:20180311T080000
END:DAYLIGHT
BEGIN:STANDARD
TZOFFSETFROM:-0500
TZOFFSETTO:-0600
TZNAME:CST
DTSTART:20181104T070000
END:STANDARD
BEGIN:DAYLIGHT
TZOFFSETFROM:-0600
TZOFFSETTO:-0500
TZNAME:CDT
DTSTART:20190310T080000
END:DAYLIGHT
BEGIN:STANDARD
TZOFFSETFROM:-0500
TZOFFSETTO:-0600
TZNAME:CST
DTSTART:20191103T070000
END:STANDARD
BEGIN:DAYLIGHT
TZOFFSETFROM:-0600
TZOFFSETTO:-0500
TZNAME:CDT
DTSTART:20200308T080000
END:DAYLIGHT
BEGIN:STANDARD
TZOFFSETFROM:-0500
TZOFFSETTO:-0600
TZNAME:CST
DTSTART:20201101T070000
END:STANDARD
END:VTIMEZONE
BEGIN:VEVENT
DTSTART;VALUE=DATE:20191115
DTEND;VALUE=DATE:20191118
DTSTAMP:20260423T115147
CREATED:20190910T223823Z
LAST-MODIFIED:20190910T224038Z
UID:22620-1573776000-1574035199@www.ntnl.org
SUMMARY:NT-NL Junior High Gathering
DESCRIPTION:The NT-NL Jr High Youth Gathering is welcome to all youth in 6th – 8th grades and their friends! \nWhere two or more gather in my name\, I am there also. Matthew 18:20 \n7:00pm Friday\, November 15 – 12noon Sunday\, November 17 \nCost includes programs\, hotel\, meals\, and Group Dynamix. The NTNL Jr. High Gathering is for ANY Jr. High / Middle School student (for most churches this event is for your Confirmation Group). The event includes Small Group Activities\, Songs\, Games\, Worship! \nCost:\nRegistration fee $100 until October 20 but will jump to $125 on October 21\, so sign up today while there is still room available!\n(There is a $3.50 fee per credit card charge.) \nClick here for a PDF version of the registration packet with full details.
URL:https://www.ntnl.org/event/nt-nl-junior-high-gathering/
LOCATION:Grace Lutheran Church – Carrollton\, 1200 East Hebron Pkwy\, Carrollton\, TX\, 75010\, United States
GEO:33.0227562;-96.908626
X-APPLE-STRUCTURED-LOCATION;VALUE=URI;X-ADDRESS=Grace Lutheran Church – Carrollton 1200 East Hebron Pkwy Carrollton TX 75010 United States;X-APPLE-RADIUS=500;X-TITLE=1200 East Hebron Pkwy:geo:-96.908626,33.0227562
END:VEVENT
BEGIN:VEVENT
DTSTART;TZID=America/Chicago:20191116T090000
DTEND;TZID=America/Chicago:20191116T153000
DTSTAMP:20260423T115147
CREATED:20181204T195029Z
LAST-MODIFIED:20191019T150347Z
UID:20803-1573894800-1573918200@www.ntnl.org
SUMMARY:Parish Lay Ministry Academy\, Fall 2019\, Course 3
DESCRIPTION:If joining remotely… \nTopic: PLMA\, Fall 2019\, Course 3\nTime: Nov 16\, 2019 09:00 AM Central Time (US and Canada) \nJoin Zoom Meeting\nhttps://zoom.us/j/815418629 \nMeeting ID: 815 418 629 \nOne tap mobile\n+16699006833\,\,815418629# US (San Jose)\n+16465588656\,\,815418629# US (New York) \nDial by your location\n+1 669 900 6833 US (San Jose)\n+1 646 558 8656 US (New York)\nMeeting ID: 815 418 629
URL:https://www.ntnl.org/event/plma-fall-2019-course-3/
LOCATION:Christ Evangelical Lutheran Mission Center at Briarwood\, 680 Copper Canyon Rd.\, Argyle\, TX\, 76226\, United States
CATEGORIES:Parish Lay Ministry Academy
ATTACH;FMTTYPE=image/jpeg:https://www.ntnl.org/wp-content/uploads/2017/04/plmbw.jpg
ORGANIZER;CN="NT-NL Parish Lay Ministry Academy":MAILTO:DeanPLMA@ntnl.org
GEO:33.0908265;-97.1099253
X-APPLE-STRUCTURED-LOCATION;VALUE=URI;X-ADDRESS=Christ Evangelical Lutheran Mission Center at Briarwood 680 Copper Canyon Rd. Argyle TX 76226 United States;X-APPLE-RADIUS=500;X-TITLE=680 Copper Canyon Rd.:geo:-97.1099253,33.0908265
END:VEVENT
BEGIN:VEVENT
DTSTART;TZID=America/Chicago:20191116T093000
DTEND;TZID=America/Chicago:20191116T140000
DTSTAMP:20260423T115147
CREATED:20191006T194206Z
LAST-MODIFIED:20191024T021306Z
UID:22866-1573896600-1573912800@www.ntnl.org
SUMMARY:Better Conversations
DESCRIPTION:Loving your neighbor\, even when you disagree about politics. \nWe live in a polarized society in which neither “side” listens to the other. Families are being split apart\, friendships are fractured\, and even our church family finds it difficult to bridge the divide. This workshop faces controversial topics head-on by teaching the skills we all need for engaging in political discourse\, not just rationally\, but in a way that fosters love and understanding. You will learn: \n\nHow to redefine the “win\,” and why persuasion is not the point\nWhat a “better” conversation sounds like\nHow to apply ground rules and conversation helpers\nThe role of listening and empathy in the midst of controversy\n\nThis workshop is for opinionated people from the right\, left\, and center of political and social positions. We encourage you to attend and participate in the biblical mandate of peacemaking. \nCost: Free (Your freewill offering is welcome.) Includes lunch. \nRegister here: https://www.eventbrite.com/e/better-conversations-loving-your-neighbor-even-when-talking-about-politics-tickets-75607884217 \nClick here for a bulletin insert.
URL:https://www.ntnl.org/event/better-conversations/
LOCATION:St. Matthew’s – Fort Worth\, 5709 Wedgewood Dr\, Fort Worth\, TX\, 76133\, United States
CATEGORIES:Public Witness Team
END:VEVENT
BEGIN:VEVENT
DTSTART;TZID=America/Chicago:20191116T093000
DTEND;TZID=America/Chicago:20191116T140000
DTSTAMP:20260423T115147
CREATED:20191006T202822Z
LAST-MODIFIED:20191029T201241Z
UID:22879-1573896600-1573912800@www.ntnl.org
SUMMARY:MEF Board meeting
DESCRIPTION:With catered lunch
URL:https://www.ntnl.org/event/mef-board-meeting-7/
LOCATION:Christ Lutheran Church – Dallas\, 3001 Lovers Lane\, Dallas\, TX\, 75225\, United States
CATEGORIES:Mission Endowment Fund
GEO:32.8506862;-96.7793227
X-APPLE-STRUCTURED-LOCATION;VALUE=URI;X-ADDRESS=Christ Lutheran Church – Dallas 3001 Lovers Lane Dallas TX 75225 United States;X-APPLE-RADIUS=500;X-TITLE=3001 Lovers Lane:geo:-96.7793227,32.8506862
END:VEVENT
END:VCALENDAR