BEGIN:VCALENDAR
VERSION:2.0
PRODID:-//Northern Texas - Northern Louisiana Synod, ELCA - ECPv6.15.20//NONSGML v1.0//EN
CALSCALE:GREGORIAN
METHOD:PUBLISH
X-WR-CALNAME:Northern Texas - Northern Louisiana Synod, ELCA
X-ORIGINAL-URL:https://www.ntnl.org
X-WR-CALDESC:Events for Northern Texas - Northern Louisiana Synod, ELCA
REFRESH-INTERVAL;VALUE=DURATION:PT1H
X-Robots-Tag:noindex
X-PUBLISHED-TTL:PT1H
BEGIN:VTIMEZONE
TZID:America/Chicago
BEGIN:DAYLIGHT
TZOFFSETFROM:-0600
TZOFFSETTO:-0500
TZNAME:CDT
DTSTART:20190310T080000
END:DAYLIGHT
BEGIN:STANDARD
TZOFFSETFROM:-0500
TZOFFSETTO:-0600
TZNAME:CST
DTSTART:20191103T070000
END:STANDARD
BEGIN:DAYLIGHT
TZOFFSETFROM:-0600
TZOFFSETTO:-0500
TZNAME:CDT
DTSTART:20200308T080000
END:DAYLIGHT
BEGIN:STANDARD
TZOFFSETFROM:-0500
TZOFFSETTO:-0600
TZNAME:CST
DTSTART:20201101T070000
END:STANDARD
BEGIN:DAYLIGHT
TZOFFSETFROM:-0600
TZOFFSETTO:-0500
TZNAME:CDT
DTSTART:20210314T080000
END:DAYLIGHT
BEGIN:STANDARD
TZOFFSETFROM:-0500
TZOFFSETTO:-0600
TZNAME:CST
DTSTART:20211107T070000
END:STANDARD
END:VTIMEZONE
BEGIN:VEVENT
DTSTART;VALUE=DATE:20200428
DTEND;VALUE=DATE:20200429
DTSTAMP:20260421T181228
CREATED:20200416T202043Z
LAST-MODIFIED:20200416T202043Z
UID:25007-1588032000-1588118399@www.ntnl.org
SUMMARY:Holy Hollywood for NT-NL Young Adults
DESCRIPTION:Are you between the ages of 18 and 39? Do you like movies? Then Holy Hollywood is the place for you! Holy Hollywood is a study offered to young adults in the NT-NL Synod every other week\, starting at 6:30pm! \nWe invite you to join and watch a film together via Netflix party and participate in the conversation afterwards on Zoom (1-hour conversation). There is no commitment\, you can watch the film at a different time if that works better for you\, and you are not obligated to join the conversation after. Our goal is to create space for community and connection\, not additional stress. \nSend a request for the Zoom link via email to: YoungAdultsNTNLsynod@gmail.com. \nWe are praying for you already. Your presence in this community makes us all stronger. \nFor current information\, join the Young Adults of NT-NL Synod Facebook page: https://www.facebook.com/groups/2369699966655810.
URL:https://www.ntnl.org/event/holy-hollywood-for-ntnl-young-adults-apr28/
CATEGORIES:NT-NL Synod
ATTACH;FMTTYPE=application/pdf:https://www.ntnl.org/wp-content/uploads/2020/04/Holy-Hollywood.pdf
ORGANIZER;CN="NT-NL Synod%2C ELCA":MAILTO:office@ntnl.org
END:VEVENT
END:VCALENDAR