BEGIN:VCALENDAR
VERSION:2.0
PRODID:-//Northern Texas - Northern Louisiana Synod, ELCA - ECPv6.15.20//NONSGML v1.0//EN
CALSCALE:GREGORIAN
METHOD:PUBLISH
X-WR-CALNAME:Northern Texas - Northern Louisiana Synod, ELCA
X-ORIGINAL-URL:https://www.ntnl.org
X-WR-CALDESC:Events for Northern Texas - Northern Louisiana Synod, ELCA
REFRESH-INTERVAL;VALUE=DURATION:PT1H
X-Robots-Tag:noindex
X-PUBLISHED-TTL:PT1H
BEGIN:VTIMEZONE
TZID:America/Chicago
BEGIN:DAYLIGHT
TZOFFSETFROM:-0600
TZOFFSETTO:-0500
TZNAME:CDT
DTSTART:20190310T080000
END:DAYLIGHT
BEGIN:STANDARD
TZOFFSETFROM:-0500
TZOFFSETTO:-0600
TZNAME:CST
DTSTART:20191103T070000
END:STANDARD
BEGIN:DAYLIGHT
TZOFFSETFROM:-0600
TZOFFSETTO:-0500
TZNAME:CDT
DTSTART:20200308T080000
END:DAYLIGHT
BEGIN:STANDARD
TZOFFSETFROM:-0500
TZOFFSETTO:-0600
TZNAME:CST
DTSTART:20201101T070000
END:STANDARD
BEGIN:DAYLIGHT
TZOFFSETFROM:-0600
TZOFFSETTO:-0500
TZNAME:CDT
DTSTART:20210314T080000
END:DAYLIGHT
BEGIN:STANDARD
TZOFFSETFROM:-0500
TZOFFSETTO:-0600
TZNAME:CST
DTSTART:20211107T070000
END:STANDARD
END:VTIMEZONE
BEGIN:VEVENT
DTSTART;VALUE=DATE:20200512
DTEND;VALUE=DATE:20200513
DTSTAMP:20260421T045600
CREATED:20200416T202339Z
LAST-MODIFIED:20200505T003153Z
UID:25010-1589241600-1589327999@www.ntnl.org
SUMMARY:Holy Hollywood for NT-NL Young Adults
DESCRIPTION:Are you between the ages of 18 and 39? Do you like movies? Then Holy Hollywood is the place for you! Holy Hollywood is a study offered to young adults in the NT-NL Synod every other week\, starting at 6:30pm! \nWe invite you to join and watch a film together via Netflix party and participate in the conversation afterwards on Zoom (1-hour conversation). There is no commitment\, you can watch the film at a different time if that works better for you\, and you are not obligated to join the conversation after. Our goal is to create space for community and connection\, not additional stress. \nSend a request for the Zoom link via email to: YoungAdultsNTNLsynod@gmail.com. \nWe are praying for you already. Your presence in this community makes us all stronger. \nFor current information\, join the Young Adults of NT-NL Synod Facebook page: https://www.facebook.com/groups/2369699966655810.
URL:https://www.ntnl.org/event/holy-hollywood-for-ntnl-young-adults-may12/
CATEGORIES:NT-NL Synod
ORGANIZER;CN="NT-NL Synod%2C ELCA":MAILTO:office@ntnl.org
END:VEVENT
BEGIN:VEVENT
DTSTART;TZID=America/Chicago:20200512T200000
DTEND;TZID=America/Chicago:20200512T210000
DTSTAMP:20260421T045600
CREATED:20200503T192512Z
LAST-MODIFIED:20200504T000607Z
UID:25328-1589313600-1589317200@www.ntnl.org
SUMMARY:ELCA Youth Gathering Information Meeting
DESCRIPTION:We are encouraging every congregation to have at least one person attend this meeting (or the one on May 14): a pastor\, youth leader\, or parent of a high school student. Even congregations that don’t have youth are encouraged to log in for this call and get the information (and find out how they can be involved whether or not they currently have youth). Zoom login information below. \nLearn more from Bishop Gronberg and Janelle Miller: \n \n\nNT-NL Synod ELCA is inviting you to a scheduled Zoom meeting. \nTopic: 2021 ELCA Youth Gathering Leaders Meeting\nTime: May 12\, 2020 08:00 PM Central Time (US and Canada) \nJoin Zoom Meeting\nhttps://zoom.us/j/95179988742?pwd=MUg5YmxaTEkxMll6enJCRGE5bWowQT09 \nMeeting ID: 951 7998 8742\nPassword: 481493 \nOne tap mobile\n+13462487799\,\,95179988742#\,\,1#\,481493# US (Houston)\n+12532158782\,\,95179988742#\,\,1#\,481493# US (Tacoma)
URL:https://www.ntnl.org/event/elca-youth-gathering-information-meeting-may12/
CATEGORIES:NT-NL Synod,Partner Organizations
ORGANIZER;CN="NT-NL Youth Leaders":MAILTO:NTNLYouthLeaders@yahoo.com
END:VEVENT
END:VCALENDAR