BEGIN:VCALENDAR
VERSION:2.0
PRODID:-//Northern Texas - Northern Louisiana Synod, ELCA - ECPv6.15.20//NONSGML v1.0//EN
CALSCALE:GREGORIAN
METHOD:PUBLISH
X-ORIGINAL-URL:https://www.ntnl.org
X-WR-CALDESC:Events for Northern Texas - Northern Louisiana Synod, ELCA
REFRESH-INTERVAL;VALUE=DURATION:PT1H
X-Robots-Tag:noindex
X-PUBLISHED-TTL:PT1H
BEGIN:VTIMEZONE
TZID:America/Chicago
BEGIN:DAYLIGHT
TZOFFSETFROM:-0600
TZOFFSETTO:-0500
TZNAME:CDT
DTSTART:20190310T080000
END:DAYLIGHT
BEGIN:STANDARD
TZOFFSETFROM:-0500
TZOFFSETTO:-0600
TZNAME:CST
DTSTART:20191103T070000
END:STANDARD
BEGIN:DAYLIGHT
TZOFFSETFROM:-0600
TZOFFSETTO:-0500
TZNAME:CDT
DTSTART:20200308T080000
END:DAYLIGHT
BEGIN:STANDARD
TZOFFSETFROM:-0500
TZOFFSETTO:-0600
TZNAME:CST
DTSTART:20201101T070000
END:STANDARD
BEGIN:DAYLIGHT
TZOFFSETFROM:-0600
TZOFFSETTO:-0500
TZNAME:CDT
DTSTART:20210314T080000
END:DAYLIGHT
BEGIN:STANDARD
TZOFFSETFROM:-0500
TZOFFSETTO:-0600
TZNAME:CST
DTSTART:20211107T070000
END:STANDARD
END:VTIMEZONE
BEGIN:VEVENT
DTSTART;TZID=America/Chicago:20200514T100000
DTEND;TZID=America/Chicago:20200514T103000
DTSTAMP:20260421T002909
CREATED:20200409T201429Z
LAST-MODIFIED:20200409T201504Z
UID:24898-1589450400-1589452200@www.ntnl.org
SUMMARY:Weekly NT-NL Leadership Prayer\, Check-in
DESCRIPTION:NT-NL Synod ELCA is inviting you to a scheduled Zoom meeting. \nTopic: Leadership prayer\, check-in \nTime: 10:00 AM Central Time \n        Every week on Thursday \nJoin Zoom Meeting \nhttps://zoom.us/j/686256906 \nMeeting ID: 686 256 906 \n  \nOne tap mobile \n+13462487799\,\,686256906# US (Houston) \n+16699006833\,\,686256906# US (San Jose) \n  \nDial by your location \n+1 346 248 7799 US (Houston) \n+1 669 900 6833 US (San Jose) \n+1 312 626 6799 US (Chicago) \n+1 646 558 8656 US (New York) \n+1 253 215 8782 US \n+1 301 715 8592 US \nMeeting ID: 686 256 906
URL:https://www.ntnl.org/event/weekly-leadership-prayer-may14/
CATEGORIES:NT-NL Synod
ORGANIZER;CN="NT-NL Synod%2C ELCA":MAILTO:office@ntnl.org
END:VEVENT
BEGIN:VEVENT
DTSTART;TZID=America/Chicago:20200514T113000
DTEND;TZID=America/Chicago:20200514T123000
DTSTAMP:20260421T002909
CREATED:20200503T192522Z
LAST-MODIFIED:20200504T000810Z
UID:25330-1589455800-1589459400@www.ntnl.org
SUMMARY:ELCA Youth Gathering Information Meeting
DESCRIPTION:We are encouraging every congregation to have at least one person attend this meeting (or the one on May 12): a pastor\, youth leader\, or parent of a high school student. Even congregations that don’t have youth are encouraged to log in for this call and get the information (and find out how they can be involved whether or not they currently have youth). Zoom login information below. \nLearn more from Bishop Gronberg and Janelle Miller: \n \n\n  \nNT-NL Synod ELCA is inviting you to a scheduled Zoom meeting. \nTopic: 2021 ELCA Youth Gathering Leaders Meeting\nTime: May 14\, 2020 11:30 AM Central Time (US and Canada) \nJoin Zoom Meeting\nhttps://zoom.us/j/96232032748?pwd=Mlk3dG13WUdjcDlWWjRBclVjSVp6Zz09 \nMeeting ID: 962 3203 2748\nPassword: 689246 \nOne tap mobile\n+13462487799\,\,96232032748#\,\,1#\,689246# US (Houston)\n+12532158782\,\,96232032748#\,\,1#\,689246# US (Tacoma)
URL:https://www.ntnl.org/event/elca-youth-gathering-information-meeting-may14/
CATEGORIES:NT-NL Synod,Partner Organizations
ORGANIZER;CN="NT-NL Youth Leaders":MAILTO:NTNLYouthLeaders@yahoo.com
END:VEVENT
BEGIN:VEVENT
DTSTART;TZID=America/Chicago:20200514T150000
DTEND;TZID=America/Chicago:20200514T160000
DTSTAMP:20260421T002909
CREATED:20200430T171753Z
LAST-MODIFIED:20200501T194211Z
UID:25274-1589468400-1589472000@www.ntnl.org
SUMMARY:Webinar 2 of 2: Living in Third Spaces: Where the church meets asylum seekers
DESCRIPTION:This “Perspectives on the Border” webinar series on immigration is a partnership project with Rev. Dr. Jay Alanis\, the Lutheran Seminary Program in the Southwest (LSPS)\, and the following ELCA synods: Gulf Coast\, Northern Texas-Northern Louisiana\, Sierra Pacific\, and Southwestern Texas. \nThere are two sessions\, and we are offering both for only $50! \nSession 1: Theological Perspectives on Immigration from the U.S. Mexico Borderlands (May 13\, 3pm Central) \nThe recent refugee and migrant crisis along the U.S. – Mexico border provides a window into the complex social\, political\, and cultural worldview of two neighbor nations\, a location and human condition that calls for a theological response to how we treat ‘the other.’ The current pandemic has exacerbated the human response to migration. The webinar will offer theological perspectives on immigration as a border-crossing response of faith. \nSession 2: Living in Third Spaces: Where the church meets asylum seekers (May 14\, 3pm Central) \nThis webinar will explore liminal space as a third space of faithful living and offer theological perspectives on liminality as sacramental\, eucharistic space where the church encounters the migrant other. \nRegister here. \nThe sessions will run about an hour in length. \nFor additional context\, we recommend you read this lecture by Rev. Dr. Jay Alanis: “Borderland Ethics Sin Fronteras: Borderland Ethics Without Borders\, Neighbor-Love in Liminal Spaces”
URL:https://www.ntnl.org/event/webinar-2-of-2-living-in-third-spaces-where-the-church-meets-asylum-seekers/
CATEGORIES:NT-NL Synod,Partner Organizations
ORGANIZER;CN="Lutheran Seminary Program in the Southwest (LSPS)":MAILTO:lsps@lsps.edu
END:VEVENT
END:VCALENDAR