BEGIN:VCALENDAR
VERSION:2.0
PRODID:-//Northern Texas - Northern Louisiana Synod, ELCA - ECPv6.15.20//NONSGML v1.0//EN
CALSCALE:GREGORIAN
METHOD:PUBLISH
X-WR-CALNAME:Northern Texas - Northern Louisiana Synod, ELCA
X-ORIGINAL-URL:https://www.ntnl.org
X-WR-CALDESC:Events for Northern Texas - Northern Louisiana Synod, ELCA
REFRESH-INTERVAL;VALUE=DURATION:PT1H
X-Robots-Tag:noindex
X-PUBLISHED-TTL:PT1H
BEGIN:VTIMEZONE
TZID:America/Chicago
BEGIN:DAYLIGHT
TZOFFSETFROM:-0600
TZOFFSETTO:-0500
TZNAME:CDT
DTSTART:20190310T080000
END:DAYLIGHT
BEGIN:STANDARD
TZOFFSETFROM:-0500
TZOFFSETTO:-0600
TZNAME:CST
DTSTART:20191103T070000
END:STANDARD
BEGIN:DAYLIGHT
TZOFFSETFROM:-0600
TZOFFSETTO:-0500
TZNAME:CDT
DTSTART:20200308T080000
END:DAYLIGHT
BEGIN:STANDARD
TZOFFSETFROM:-0500
TZOFFSETTO:-0600
TZNAME:CST
DTSTART:20201101T070000
END:STANDARD
BEGIN:DAYLIGHT
TZOFFSETFROM:-0600
TZOFFSETTO:-0500
TZNAME:CDT
DTSTART:20210314T080000
END:DAYLIGHT
BEGIN:STANDARD
TZOFFSETFROM:-0500
TZOFFSETTO:-0600
TZNAME:CST
DTSTART:20211107T070000
END:STANDARD
END:VTIMEZONE
BEGIN:VEVENT
DTSTART;VALUE=DATE:20200524
DTEND;VALUE=DATE:20200530
DTSTAMP:20260421T020909
CREATED:20190911T013311Z
LAST-MODIFIED:20191204T191044Z
UID:22630-1590278400-1590796799@www.ntnl.org
SUMMARY:Spanish Language and Hispanic Ministry Intensive I
DESCRIPTION:The Summer Language and Hispanic Ministry Intensive is a resource for Lutherans and those of other denominations who recognize the growing need for competency in the Spanish language and an understanding of Hispanic culture in light of the increasing Hispanic population in this country and in the church. The course focuses on study of the Spanish language and Hispanic culture. \nWHERE? On the campus of the Seminary of the Southwest\, 501 E. 32nd St.\, Austin\, TX 78705. See ssw.edu for map. \nWHEN? Beginning Sunday evening May 24\, 2020 at 5 p.m. and ending Friday\, May 29\, 2020 at noon. \nHOW? Contact Consuelo E. Reid at lsps@lsps.edu or register online at lsps.edu/programs/hispanicminintensive \nRegistration Fee: $1\,300.00 single room (3 rooms available; first come first serve) includes a daily continental breakfast and lunch and a dinner on Memorial Day. $800.00 without lodging on campus: includes a daily lunch and a dinner on Memorial Day. \nAll other meals are on your own. Restaurants within walking distance. You may request a list of nearby hotels. \nREGISTRATION IS REQUIRED FOR PARTICIPATION.\nNo refunds after April 30. Sorry\, no scholarships available. \nClick here for a flyer with full details.
URL:https://www.ntnl.org/event/spanish-language-and-hispanic-ministry-intensive-i-2020/
LOCATION:Seminary of the Southwest\, 501 E. 32nd St.\, Austin\, TX\, 78705\, United States
CATEGORIES:Partner Organizations
ORGANIZER;CN="Lutheran Seminary Program in the Southwest (LSPS)":MAILTO:lsps@lsps.edu
GEO:30.2931675;-97.7325381
X-APPLE-STRUCTURED-LOCATION;VALUE=URI;X-ADDRESS=Seminary of the Southwest 501 E. 32nd St. Austin TX 78705 United States;X-APPLE-RADIUS=500;X-TITLE=501 E. 32nd St.:geo:-97.7325381,30.2931675
END:VEVENT
BEGIN:VEVENT
DTSTART;VALUE=DATE:20200526
DTEND;VALUE=DATE:20200527
DTSTAMP:20260421T020909
CREATED:20200416T202810Z
LAST-MODIFIED:20200514T010224Z
UID:25013-1590451200-1590537599@www.ntnl.org
SUMMARY:Holy Hollywood for NT-NL Young Adults
DESCRIPTION:Are you between the ages of 18 and 39? Do you like movies? Then Holy Hollywood is the place for you! Holy Hollywood is a study offered to young adults in the NT-NL Synod every other week\, starting at 6:30pm! \nWe invite you to join and watch a film together via Netflix party and participate in the conversation afterwards on Zoom (1-hour conversation). There is no commitment\, you can watch the film at a different time if that works better for you\, and you are not obligated to join the conversation after. Our goal is to create space for community and connection\, not additional stress. \nSend a request for the Zoom link via email to: YoungAdultsNTNLsynod@gmail.com. \nWe are praying for you already. Your presence in this community makes us all stronger. \nFor current information\, join the Young Adults of NT-NL Synod Facebook page: https://www.facebook.com/groups/2369699966655810.
URL:https://www.ntnl.org/event/holy-hollywood-for-ntnl-young-adults-may26/
CATEGORIES:NT-NL Synod
ORGANIZER;CN="NT-NL Synod%2C ELCA":MAILTO:office@ntnl.org
END:VEVENT
END:VCALENDAR