BEGIN:VCALENDAR
VERSION:2.0
PRODID:-//Northern Texas - Northern Louisiana Synod, ELCA - ECPv6.15.20//NONSGML v1.0//EN
CALSCALE:GREGORIAN
METHOD:PUBLISH
X-ORIGINAL-URL:https://www.ntnl.org
X-WR-CALDESC:Events for Northern Texas - Northern Louisiana Synod, ELCA
REFRESH-INTERVAL;VALUE=DURATION:PT1H
X-Robots-Tag:noindex
X-PUBLISHED-TTL:PT1H
BEGIN:VTIMEZONE
TZID:America/Chicago
BEGIN:DAYLIGHT
TZOFFSETFROM:-0600
TZOFFSETTO:-0500
TZNAME:CDT
DTSTART:20190310T080000
END:DAYLIGHT
BEGIN:STANDARD
TZOFFSETFROM:-0500
TZOFFSETTO:-0600
TZNAME:CST
DTSTART:20191103T070000
END:STANDARD
BEGIN:DAYLIGHT
TZOFFSETFROM:-0600
TZOFFSETTO:-0500
TZNAME:CDT
DTSTART:20200308T080000
END:DAYLIGHT
BEGIN:STANDARD
TZOFFSETFROM:-0500
TZOFFSETTO:-0600
TZNAME:CST
DTSTART:20201101T070000
END:STANDARD
BEGIN:DAYLIGHT
TZOFFSETFROM:-0600
TZOFFSETTO:-0500
TZNAME:CDT
DTSTART:20210314T080000
END:DAYLIGHT
BEGIN:STANDARD
TZOFFSETFROM:-0500
TZOFFSETTO:-0600
TZNAME:CST
DTSTART:20211107T070000
END:STANDARD
END:VTIMEZONE
BEGIN:VEVENT
DTSTART;TZID=America/Chicago:20200531T130000
DTEND;TZID=America/Chicago:20200531T140000
DTSTAMP:20260422T105522
CREATED:20200525T003850Z
LAST-MODIFIED:20200525T003850Z
UID:25679-1590930000-1590933600@www.ntnl.org
SUMMARY:For the Healing of the Nations - Invitation to a Global Companion Prayer Service
DESCRIPTION:ELCA Global Mission invites you to join a contemplative prayer service: \n\nFor the Healing of the Nations \nInvitation to a Global Companion Prayer Service \nPentecost Sunday\, May 31\, 1pm Central \nFor the Healing of the Nations will speak specifically to this time of the COVID-19 pandemic\, our anxieties and stress\, and calling for God’s hope\, comfort\, and healing. \nParticipating in the leadership of this contemplative prayer service will be some of our synod and companion church colleagues\, who will offer prayers of intercession. \nThis will be an online event. This service will be approximately 45 minutes in length and will be recorded. \nClick here for a flyer. \nAfterwards\, a PDF file of the service will be made available on the Global Mission webpage (https://elca.org/Resources/Global-Mission) to use in your own settings / gatherings. \nPlease light a candle and join us in this global effort to pray together for the healing of the world. \nYou may use this link or call into these numbers to join the webinar: \nhttps://us02web.zoom.us/j/81205106222?pwd=emZCUG1uWGtpVGpGM2tFaWFmUVFjZz09 \nPassword: 982124 \nOr iPhone one-tap : \n    US: +13462487799\,\,81205106222#\,\,1#\,982124#  or +12532158782\,\,81205106222#\,\,1#\,982124# \nOr Telephone: \n    Dial(for higher quality\, dial a number based on your current location): \n        US: +1 346 248 7799  or +1 253 215 8782  or +1 669 900 6833  or +1 312 626 6799  or +1 929 205 6099  or +1 301 715 8592 \n    Webinar ID: 812 0510 6222 \n    Password: 982124 \nInternational numbers available: https://us02web.zoom.us/u/knhu3rmZ9
URL:https://www.ntnl.org/event/for-the-healing-of-the-nations-invitation-to-a-global-companion-prayer-service/
CATEGORIES:NT-NL Synod,Partner Organizations
END:VEVENT
END:VCALENDAR