BEGIN:VCALENDAR
VERSION:2.0
PRODID:-//Northern Texas - Northern Louisiana Synod, ELCA - ECPv6.15.20//NONSGML v1.0//EN
CALSCALE:GREGORIAN
METHOD:PUBLISH
X-WR-CALNAME:Northern Texas - Northern Louisiana Synod, ELCA
X-ORIGINAL-URL:https://www.ntnl.org
X-WR-CALDESC:Events for Northern Texas - Northern Louisiana Synod, ELCA
REFRESH-INTERVAL;VALUE=DURATION:PT1H
X-Robots-Tag:noindex
X-PUBLISHED-TTL:PT1H
BEGIN:VTIMEZONE
TZID:America/Chicago
BEGIN:DAYLIGHT
TZOFFSETFROM:-0600
TZOFFSETTO:-0500
TZNAME:CDT
DTSTART:20190310T080000
END:DAYLIGHT
BEGIN:STANDARD
TZOFFSETFROM:-0500
TZOFFSETTO:-0600
TZNAME:CST
DTSTART:20191103T070000
END:STANDARD
BEGIN:DAYLIGHT
TZOFFSETFROM:-0600
TZOFFSETTO:-0500
TZNAME:CDT
DTSTART:20200308T080000
END:DAYLIGHT
BEGIN:STANDARD
TZOFFSETFROM:-0500
TZOFFSETTO:-0600
TZNAME:CST
DTSTART:20201101T070000
END:STANDARD
BEGIN:DAYLIGHT
TZOFFSETFROM:-0600
TZOFFSETTO:-0500
TZNAME:CDT
DTSTART:20210314T080000
END:DAYLIGHT
BEGIN:STANDARD
TZOFFSETFROM:-0500
TZOFFSETTO:-0600
TZNAME:CST
DTSTART:20211107T070000
END:STANDARD
END:VTIMEZONE
BEGIN:VEVENT
DTSTART;VALUE=DATE:20200607
DTEND;VALUE=DATE:20200612
DTSTAMP:20260423T124744
CREATED:20190911T013834Z
LAST-MODIFIED:20191204T191245Z
UID:22634-1591488000-1591919999@www.ntnl.org
SUMMARY:Vital Congregations - Vital Communities: Building Leadership Capacity for Latinx Ministries
DESCRIPTION:This Level II Intensive course is designed to enhance leadership competence in the development and support of Latinx ministries in the Evangelical Lutheran Church in America and among ecumenical partners. Those encouraged to attend are current practitioners\, judicatory leaders\, seminarians\, church leaders planning to start new Latinx ministries\, and those with coaching and/or supervisory roles among Latinx ministry leaders. \nParticipants will explore foundational insights from socio-cultural\, ecclesiastical and historical Latinx experience\, contextual theological tools\, research results\, diverse ministry models and practical resources for new and existing congregations. \nRev. Rubén Durán is the primary instructor. He serves as Director for Congregational Vitality in the Domestic Mission unit of the ELCA and brings extensive leadership experience in evangelical and justice ministry amidst diverse local contexts as well as ecumenically and internationally. He is joined by a team of leaders with deep wisdom and proven expertise: \nThe Rev. Josh Ebener serves as a bilingual parish pastor at St. Andrew Lutheran Church – Iglesia Luterana San Andres in West Chicago\, Ill.\, a multicultural\, bilingual congregation of the ELCA; the Rev. Irma Bañales is Director for Evangelical Mission\, Northern Texas – Northern Louisiana Synod; the Rev. Dr. Javier (Jay) Alanís is Executive Director and Associate Professor of Theology\, Culture and Mission\, Lutheran Seminary Program in the Southwest\, Austin\, Texas. \nWHERE? Campus of the Seminary of the Southwest\, 501 E. 32nd St.\, Austin\, TX 78705 \nWHEN? Beginning Sunday\, June 7\, 2020\, at 5 pm\, and ending Thursday\, June 11\, 2020\, at noon \nHOW? Contact Consuelo E. Reid at lsps@lsps.edu or register online at: lsps.edu/programs/bldg-cong-capacity-hispanic-min/intensive-ii-registration \nRegistration Fee: $650 per person\, or $500 per person for 3 from the same congregation (includes three lunches).\nYou are responsible for your own lodging and meals. Please contact us for a list of nearby hotels. \nREGISTRATION IS REQUIRED FOR PARTICIPATION.\nNo refunds after April 30. Sorry\, no scholarships available. \nClick here for a flyer with full details.
URL:https://www.ntnl.org/event/vital-congregations-vital-communities-building-leadership-capacity-for-latinx-ministries-2020/
LOCATION:Seminary of the Southwest\, 501 E. 32nd St.\, Austin\, TX\, 78705\, United States
CATEGORIES:Partner Organizations
ORGANIZER;CN="Lutheran Seminary Program in the Southwest (LSPS)":MAILTO:lsps@lsps.edu
GEO:30.2931675;-97.7325381
X-APPLE-STRUCTURED-LOCATION;VALUE=URI;X-ADDRESS=Seminary of the Southwest 501 E. 32nd St. Austin TX 78705 United States;X-APPLE-RADIUS=500;X-TITLE=501 E. 32nd St.:geo:-97.7325381,30.2931675
END:VEVENT
END:VCALENDAR