BEGIN:VCALENDAR
VERSION:2.0
PRODID:-//Northern Texas - Northern Louisiana Synod, ELCA - ECPv6.15.20//NONSGML v1.0//EN
CALSCALE:GREGORIAN
METHOD:PUBLISH
X-ORIGINAL-URL:https://www.ntnl.org
X-WR-CALDESC:Events for Northern Texas - Northern Louisiana Synod, ELCA
REFRESH-INTERVAL;VALUE=DURATION:PT1H
X-Robots-Tag:noindex
X-PUBLISHED-TTL:PT1H
BEGIN:VTIMEZONE
TZID:America/Chicago
BEGIN:DAYLIGHT
TZOFFSETFROM:-0600
TZOFFSETTO:-0500
TZNAME:CDT
DTSTART:20190310T080000
END:DAYLIGHT
BEGIN:STANDARD
TZOFFSETFROM:-0500
TZOFFSETTO:-0600
TZNAME:CST
DTSTART:20191103T070000
END:STANDARD
BEGIN:DAYLIGHT
TZOFFSETFROM:-0600
TZOFFSETTO:-0500
TZNAME:CDT
DTSTART:20200308T080000
END:DAYLIGHT
BEGIN:STANDARD
TZOFFSETFROM:-0500
TZOFFSETTO:-0600
TZNAME:CST
DTSTART:20201101T070000
END:STANDARD
BEGIN:DAYLIGHT
TZOFFSETFROM:-0600
TZOFFSETTO:-0500
TZNAME:CDT
DTSTART:20210314T080000
END:DAYLIGHT
BEGIN:STANDARD
TZOFFSETFROM:-0500
TZOFFSETTO:-0600
TZNAME:CST
DTSTART:20211107T070000
END:STANDARD
END:VTIMEZONE
BEGIN:VEVENT
DTSTART;TZID=America/Chicago:20200627T100000
DTEND;TZID=America/Chicago:20200627T113000
DTSTAMP:20260421T143953
CREATED:20200606T023521Z
LAST-MODIFIED:20200618T004254Z
UID:25733-1593252000-1593257400@www.ntnl.org
SUMMARY:Living Connected: The Spiritual Discipline of Creation Care (Food)
DESCRIPTION:The NT-NL Public Witness Team for Peace and Justice is hosting an online series of workshops that explore our use of the gifts of creation. Through small group activities and short presentations\, you will discover how daily use of the gifts connect us and will reflect on using the gifts in ways that love God and neighbor. By doing so\, your daily actions can become spiritual practices\, leading to wholeness of life for us and all of creation. \nThe series is offered on Saturday mornings and Tuesday evenings. Each session stands alone. You can take part in one or as many as you want. \nSaturdays\, 10:00 – 11:30 am | Tuesdays\, 7:00 – 8:30 pm\nJune 27 – Food | June 30 – Food\nJuly 25 – Water | July 28 – Water\nAugust 22 – Material Goods | August 25 – Material Goods\nSeptember 26 – Waste | September 29 – Waste\nOctober 24 – Land | October 27 – Land\nNovember 21 – Energy | November 24 – Energy \nThe workshop presenter is Katrina Martich\, a Lutheran deaconess and environmental engineer. She currently serves as a green shepherd for Lutherans Restoring Creation and on the ELCA Sustainability Table. For more information about Living Connected and the workshops\, email Katrina at contact@katrinamartich.com. RSVP here for any or all workshops. \nClick here for a bulletin insert.
URL:https://www.ntnl.org/event/living-connected-the-spiritual-discipline-of-creation-care-food-jun27/
CATEGORIES:NT-NL Synod,Public Witness Team
ATTACH;FMTTYPE=image/png:https://www.ntnl.org/wp-content/uploads/2020/06/Living-Connected-logo.png
END:VEVENT
END:VCALENDAR