BEGIN:VCALENDAR
VERSION:2.0
PRODID:-//Northern Texas - Northern Louisiana Synod, ELCA - ECPv6.15.20//NONSGML v1.0//EN
CALSCALE:GREGORIAN
METHOD:PUBLISH
X-WR-CALNAME:Northern Texas - Northern Louisiana Synod, ELCA
X-ORIGINAL-URL:https://www.ntnl.org
X-WR-CALDESC:Events for Northern Texas - Northern Louisiana Synod, ELCA
REFRESH-INTERVAL;VALUE=DURATION:PT1H
X-Robots-Tag:noindex
X-PUBLISHED-TTL:PT1H
BEGIN:VTIMEZONE
TZID:America/Chicago
BEGIN:DAYLIGHT
TZOFFSETFROM:-0600
TZOFFSETTO:-0500
TZNAME:CDT
DTSTART:20190310T080000
END:DAYLIGHT
BEGIN:STANDARD
TZOFFSETFROM:-0500
TZOFFSETTO:-0600
TZNAME:CST
DTSTART:20191103T070000
END:STANDARD
BEGIN:DAYLIGHT
TZOFFSETFROM:-0600
TZOFFSETTO:-0500
TZNAME:CDT
DTSTART:20200308T080000
END:DAYLIGHT
BEGIN:STANDARD
TZOFFSETFROM:-0500
TZOFFSETTO:-0600
TZNAME:CST
DTSTART:20201101T070000
END:STANDARD
BEGIN:DAYLIGHT
TZOFFSETFROM:-0600
TZOFFSETTO:-0500
TZNAME:CDT
DTSTART:20210314T080000
END:DAYLIGHT
BEGIN:STANDARD
TZOFFSETFROM:-0500
TZOFFSETTO:-0600
TZNAME:CST
DTSTART:20211107T070000
END:STANDARD
END:VTIMEZONE
BEGIN:VEVENT
DTSTART;TZID=America/Chicago:20200702T100000
DTEND;TZID=America/Chicago:20200702T103000
DTSTAMP:20260422T233847
CREATED:20200606T020626Z
LAST-MODIFIED:20200606T020656Z
UID:25858-1593684000-1593685800@www.ntnl.org
SUMMARY:Weekly NT-NL Leadership Prayer\, Check-in
DESCRIPTION:NT-NL Synod ELCA is inviting you to a scheduled Zoom meeting. \nTopic: Leadership prayer\, check-in \nTime: 10:00 AM Central Time \n        Every week on Thursday \nJoin Zoom Meeting \nhttps://zoom.us/j/686256906 \nMeeting ID: 686 256 906 \n  \nOne tap mobile \n+13462487799\,\,686256906# US (Houston) \n+16699006833\,\,686256906# US (San Jose) \n  \nDial by your location \n+1 346 248 7799 US (Houston) \n+1 669 900 6833 US (San Jose) \n+1 312 626 6799 US (Chicago) \n+1 646 558 8656 US (New York) \n+1 253 215 8782 US \n+1 301 715 8592 US \nMeeting ID: 686 256 906
URL:https://www.ntnl.org/event/weekly-leadership-prayer-jul2/
CATEGORIES:NT-NL Synod
ORGANIZER;CN="NT-NL Synod%2C ELCA":MAILTO:office@ntnl.org
END:VEVENT
BEGIN:VEVENT
DTSTART;TZID=America/Chicago:20200702T103000
DTEND;TZID=America/Chicago:20200702T130000
DTSTAMP:20260422T233847
CREATED:20200606T003203Z
LAST-MODIFIED:20200606T003203Z
UID:25840-1593685800-1593694800@www.ntnl.org
SUMMARY:Interim Pastors monthly meeting
DESCRIPTION:NT-NL Synod ELCA is inviting you to a scheduled Zoom meeting. \nTopic: Interim Pastors Meeting\nTime: 10:45 AM Central Time (US and Canada)\nEvery month on the First Thursday \nJoin Zoom Meeting\nhttps://zoom.us/j/284011899 \nMeeting ID: 284 011 899\nOne tap mobile\n+12532158782\,\,284011899# US (Tacoma)\n+13462487799\,\,284011899# US (Houston) \nDial by your location\n+1 253 215 8782 US (Tacoma)\n+1 346 248 7799 US (Houston)\n+1 669 900 6833 US (San Jose)\n+1 301 715 8592 US (Germantown)\n+1 312 626 6799 US (Chicago)\n+1 646 558 8656 US (New York)\nMeeting ID: 284 011 899
URL:https://www.ntnl.org/event/interim-pastors-monthly-meeting-july-2020/
CATEGORIES:NT-NL Synod
ORGANIZER;CN="NT-NL Synod%2C ELCA":MAILTO:office@ntnl.org
END:VEVENT
BEGIN:VEVENT
DTSTART;TZID=America/Chicago:20200702T190000
DTEND;TZID=America/Chicago:20200702T203000
DTSTAMP:20260422T233847
CREATED:20200608T013353Z
LAST-MODIFIED:20200615T004806Z
UID:25927-1593716400-1593721800@www.ntnl.org
SUMMARY:Conversations at Briarwood
DESCRIPTION:Briarwood Leadership Center is starting a new series of interactive online conversations to equip the church in this complicated time. Intended for NT-NL leaders\, both rostered and lay\, these conversations will cover a variety of topics. \nThursday evenings @ 7pm Central via Zoom \nHosted by Pr. Robert O. Smith\, Director\, Briarwood Leadership Center \n \nVance Blackfox on American Indian Memory and Resistance \nThursday\, July 2 \nVance Blackfox\, a citizen of the Cherokee Nation\, is Director of Communications for the National Native American Boarding School Healing Coalition. A graduate of Texas Lutheran University\, Vance founded the Vine Deloria Jr. Theological Symposium hosted annually at the Lutheran School of Theology in Chicago and created Other+Wise\, a multi-site cultural immersion program for youth from across the country. \nJoin Zoom Meeting\nhttps://us02web.zoom.us/j/4318388272 \nMeeting ID: 431 838 8272\nOne tap mobile\n+13462487799\,\,4318388272# US (Houston)\n+12532158782\,\,4318388272# US (Tacoma)
URL:https://www.ntnl.org/event/conversations-at-briarwood-jul2/
CATEGORIES:Briarwood Leadership Center,NT-NL Synod
ORGANIZER;CN="Briarwood Leadership Center":MAILTO:bw@briarwoodretreat.org
END:VEVENT
END:VCALENDAR