BEGIN:VCALENDAR
VERSION:2.0
PRODID:-//Northern Texas - Northern Louisiana Synod, ELCA - ECPv6.15.20//NONSGML v1.0//EN
CALSCALE:GREGORIAN
METHOD:PUBLISH
X-WR-CALNAME:Northern Texas - Northern Louisiana Synod, ELCA
X-ORIGINAL-URL:https://www.ntnl.org
X-WR-CALDESC:Events for Northern Texas - Northern Louisiana Synod, ELCA
REFRESH-INTERVAL;VALUE=DURATION:PT1H
X-Robots-Tag:noindex
X-PUBLISHED-TTL:PT1H
BEGIN:VTIMEZONE
TZID:America/Chicago
BEGIN:DAYLIGHT
TZOFFSETFROM:-0600
TZOFFSETTO:-0500
TZNAME:CDT
DTSTART:20210314T080000
END:DAYLIGHT
BEGIN:STANDARD
TZOFFSETFROM:-0500
TZOFFSETTO:-0600
TZNAME:CST
DTSTART:20211107T070000
END:STANDARD
BEGIN:DAYLIGHT
TZOFFSETFROM:-0600
TZOFFSETTO:-0500
TZNAME:CDT
DTSTART:20220313T080000
END:DAYLIGHT
BEGIN:STANDARD
TZOFFSETFROM:-0500
TZOFFSETTO:-0600
TZNAME:CST
DTSTART:20221106T070000
END:STANDARD
BEGIN:DAYLIGHT
TZOFFSETFROM:-0600
TZOFFSETTO:-0500
TZNAME:CDT
DTSTART:20230312T080000
END:DAYLIGHT
BEGIN:STANDARD
TZOFFSETFROM:-0500
TZOFFSETTO:-0600
TZNAME:CST
DTSTART:20231105T070000
END:STANDARD
END:VTIMEZONE
BEGIN:VEVENT
DTSTART;VALUE=DATE:20221007
DTEND;VALUE=DATE:20221010
DTSTAMP:20260420T215939
CREATED:20220201T182622Z
LAST-MODIFIED:20220201T182622Z
UID:33386-1665100800-1665359999@www.ntnl.org
SUMMARY:Fall 2022 National Bold Gathering
DESCRIPTION:Save the Date!
URL:https://www.ntnl.org/event/fall-2022-national-bold-gathering/
CATEGORIES:Partner Organizations
END:VEVENT
BEGIN:VEVENT
DTSTART;VALUE=DATE:20221007
DTEND;VALUE=DATE:20221009
DTSTAMP:20260420T215939
CREATED:20220815T212126Z
LAST-MODIFIED:20220815T212426Z
UID:35287-1665100800-1665273599@www.ntnl.org
SUMMARY:2022 NTNL-SWO Fall Retreat
DESCRIPTION:The NT-NL Synodical Women’s Organization (Women of the ELCA) 2022 Fall Retreat will take place on Friday and Saturday\, October 7-8\, at St. Matthew Lutheran Church in Waco\, TX. \nFor full details and to register: https://ntnllutheranwomen.com/
URL:https://www.ntnl.org/event/2022-ntnl-swo-fall-retreat/
LOCATION:St. Matthew – Waco\, 800 N New Road\, Waco\, TX\, 76710\, United States
CATEGORIES:NT-NL Synod,Partner Organizations
ORGANIZER;CN="NT-NL Synod%2C ELCA":MAILTO:office@ntnl.org
END:VEVENT
END:VCALENDAR