BEGIN:VCALENDAR
VERSION:2.0
PRODID:-//Northern Texas - Northern Louisiana Synod, ELCA - ECPv6.15.20//NONSGML v1.0//EN
CALSCALE:GREGORIAN
METHOD:PUBLISH
X-WR-CALNAME:Northern Texas - Northern Louisiana Synod, ELCA
X-ORIGINAL-URL:https://www.ntnl.org
X-WR-CALDESC:Events for Northern Texas - Northern Louisiana Synod, ELCA
REFRESH-INTERVAL;VALUE=DURATION:PT1H
X-Robots-Tag:noindex
X-PUBLISHED-TTL:PT1H
BEGIN:VTIMEZONE
TZID:America/Chicago
BEGIN:DAYLIGHT
TZOFFSETFROM:-0600
TZOFFSETTO:-0500
TZNAME:CDT
DTSTART:20220313T080000
END:DAYLIGHT
BEGIN:STANDARD
TZOFFSETFROM:-0500
TZOFFSETTO:-0600
TZNAME:CST
DTSTART:20221106T070000
END:STANDARD
BEGIN:DAYLIGHT
TZOFFSETFROM:-0600
TZOFFSETTO:-0500
TZNAME:CDT
DTSTART:20230312T080000
END:DAYLIGHT
BEGIN:STANDARD
TZOFFSETFROM:-0500
TZOFFSETTO:-0600
TZNAME:CST
DTSTART:20231105T070000
END:STANDARD
BEGIN:DAYLIGHT
TZOFFSETFROM:-0600
TZOFFSETTO:-0500
TZNAME:CDT
DTSTART:20240310T080000
END:DAYLIGHT
BEGIN:STANDARD
TZOFFSETFROM:-0500
TZOFFSETTO:-0600
TZNAME:CST
DTSTART:20241103T070000
END:STANDARD
END:VTIMEZONE
BEGIN:VEVENT
DTSTART;VALUE=DATE:20230118
DTEND;VALUE=DATE:20230126
DTSTAMP:20260420T013243
CREATED:20221215T013627Z
LAST-MODIFIED:20221220T182934Z
UID:36892-1674000000-1674691199@www.ntnl.org
SUMMARY:2023 Week of Prayer for Christian Unity
DESCRIPTION:The Week of Prayer for Christian Unity is January 18-25 with the theme “Do good; seek justice” from Isaiah 1:17\n  \nThe Week of Prayer for Christian Unity (Jan. 18-25) has been observed for more than 100 years\, during which Christians around the world have prayed for visible Christian unity\, striving to move toward the fulfillment of Jesus’ prayer at the Last Supper “that they all may be one” (John 17:21). \nThe theme for 2023 comes from Isaiah 1:17 – “Do good; seek justice.” The entire scriptural passage for the theme is Isaiah 1:12-18\, which laments a lack of justice among the people of God and calls for God’s people to “learn to do good.” \nThe 2023 theme was developed with the assistance of a group of Christians in Minnesota\, convened by the Minnesota Council of Churches. Minneapolis became a flashpoint for calls for racial justice and equity following the murder of George Floyd. \nLike the religious people so fiercely denounced by the biblical prophets\, some Christian believers have been or continue to be complicit in supporting or perpetuating prejudice and oppression and fostering division. History shows that\, rather than recognizing the dignity of every human being made in the image of God\, Christians have too often involved themselves in structures of sin such as slavery\, colonization\, segregation and apartheid\, which have stripped others of their dignity. Even within our churches\, Christians have failed to recognize the dignity of all the baptized and have belittled the dignity of their siblings in Christ. \nIsaiah challenged God’s people in his day to learn to do good together\, to seek justice together\, to rescue the oppressed together\, to defend the orphan and plead for the widow together. The prophet’s challenge applies equally to us today. \nThe North Texas Conference of the UMC will host an Ecumenical Worship Service at 7 p.m. on Jan. 19 at Custer Road UMC\, 6601 Custer Road\, Plano\, TX 75023. The NTC will gather with its Lutheran\, Presbyterian\, Episcopalian\, and Catholic siblings to worship God together. \n(shared from our partners at the North Texas Conference of the United Methodist Church) \n\nWorld Council of Churches Resources for the Week of Prayer for Christian Unity 2023
URL:https://www.ntnl.org/event/2023-week-of-prayer-for-christian-unity/
CATEGORIES:NT-NL Synod,Partner Organizations
ATTACH;FMTTYPE=image/jpeg:https://www.ntnl.org/wp-content/uploads/2022/12/FFA-WOP-Poster2.jpg
END:VEVENT
END:VCALENDAR