BEGIN:VCALENDAR
VERSION:2.0
PRODID:-//Northern Texas - Northern Louisiana Synod, ELCA - ECPv6.15.20//NONSGML v1.0//EN
CALSCALE:GREGORIAN
METHOD:PUBLISH
X-ORIGINAL-URL:https://www.ntnl.org
X-WR-CALDESC:Events for Northern Texas - Northern Louisiana Synod, ELCA
REFRESH-INTERVAL;VALUE=DURATION:PT1H
X-Robots-Tag:noindex
X-PUBLISHED-TTL:PT1H
BEGIN:VTIMEZONE
TZID:America/Chicago
BEGIN:DAYLIGHT
TZOFFSETFROM:-0600
TZOFFSETTO:-0500
TZNAME:CDT
DTSTART:20220313T080000
END:DAYLIGHT
BEGIN:STANDARD
TZOFFSETFROM:-0500
TZOFFSETTO:-0600
TZNAME:CST
DTSTART:20221106T070000
END:STANDARD
BEGIN:DAYLIGHT
TZOFFSETFROM:-0600
TZOFFSETTO:-0500
TZNAME:CDT
DTSTART:20230312T080000
END:DAYLIGHT
BEGIN:STANDARD
TZOFFSETFROM:-0500
TZOFFSETTO:-0600
TZNAME:CST
DTSTART:20231105T070000
END:STANDARD
BEGIN:DAYLIGHT
TZOFFSETFROM:-0600
TZOFFSETTO:-0500
TZNAME:CDT
DTSTART:20240310T080000
END:DAYLIGHT
BEGIN:STANDARD
TZOFFSETFROM:-0500
TZOFFSETTO:-0600
TZNAME:CST
DTSTART:20241103T070000
END:STANDARD
END:VTIMEZONE
BEGIN:VEVENT
DTSTART;TZID=America/Chicago:20230126T190000
DTEND;TZID=America/Chicago:20230126T203000
DTSTAMP:20260423T070833
CREATED:20230119T191117Z
LAST-MODIFIED:20230119T191117Z
UID:37266-1674759600-1674765000@www.ntnl.org
SUMMARY:Cultivating Compassion Session 1: Permission to Feel
DESCRIPTION:The NT-NL Public Witness Team for Peace & Justice are partnering with the United States Christian Leadership Organization (USCLO)\, Charter for Compassion Social Justice Sector\, and Kairos + Collaborative to offer this set of FREE online episodes and practice sessions to help Make This Your Year to Cultivate Compassion! \n“You’re invited to spend 2023 growing compassion for yourself\, your friends\, and even those who today you might describe as enemies. We’ll interrogate our emotions\, reasoning\, decision-making\, and more as we work to join the infinite game of building peace.” \nAccess the full list of episodes and sessions here. \n\nSpecifically about this January 26 session: \nMaybe you’ve heard people say\, “facts don’t care about your feelings.” Maybe you’ve even told yourself that. It’s true in that facts don’t care about anything: they simply are. The same is true of humans: we simply are. Part of our simply being a human\, however\, is having emotions. And one of the choices we make in each moment is whether or not to care about our own emotions or those of the people around us. This month and next\, we’ll explore the emotional dimension of our humanity\, especially the way we can find meaningful insights about facts and our relationship to them by attending to our feelings about them. We begin our adventure together with Marc Brackett’s book\, Permission to Feel. \nFull details about this session (including registration) can be found here: https://www.eventbrite.com/e/cultivating-compassion-session-1-permission-to-feel-tickets-490320601117
URL:https://www.ntnl.org/event/cultivating-compassion-session-1-permission-to-feel/
LOCATION:Online
CATEGORIES:NT-NL Synod,Partner Organizations,Public Witness Team
END:VEVENT
END:VCALENDAR