BEGIN:VCALENDAR
VERSION:2.0
PRODID:-//Northern Texas - Northern Louisiana Synod, ELCA - ECPv6.15.20//NONSGML v1.0//EN
CALSCALE:GREGORIAN
METHOD:PUBLISH
X-ORIGINAL-URL:https://www.ntnl.org
X-WR-CALDESC:Events for Northern Texas - Northern Louisiana Synod, ELCA
REFRESH-INTERVAL;VALUE=DURATION:PT1H
X-Robots-Tag:noindex
X-PUBLISHED-TTL:PT1H
BEGIN:VTIMEZONE
TZID:America/Chicago
BEGIN:DAYLIGHT
TZOFFSETFROM:-0600
TZOFFSETTO:-0500
TZNAME:CDT
DTSTART:20230312T080000
END:DAYLIGHT
BEGIN:STANDARD
TZOFFSETFROM:-0500
TZOFFSETTO:-0600
TZNAME:CST
DTSTART:20231105T070000
END:STANDARD
BEGIN:DAYLIGHT
TZOFFSETFROM:-0600
TZOFFSETTO:-0500
TZNAME:CDT
DTSTART:20240310T080000
END:DAYLIGHT
BEGIN:STANDARD
TZOFFSETFROM:-0500
TZOFFSETTO:-0600
TZNAME:CST
DTSTART:20241103T070000
END:STANDARD
BEGIN:DAYLIGHT
TZOFFSETFROM:-0600
TZOFFSETTO:-0500
TZNAME:CDT
DTSTART:20250309T080000
END:DAYLIGHT
BEGIN:STANDARD
TZOFFSETFROM:-0500
TZOFFSETTO:-0600
TZNAME:CST
DTSTART:20251102T070000
END:STANDARD
END:VTIMEZONE
BEGIN:VEVENT
DTSTART;TZID=America/Chicago:20241011T153000
DTEND;TZID=America/Chicago:20241012T153000
DTSTAMP:20260421T092914
CREATED:20240910T154505Z
LAST-MODIFIED:20240910T154505Z
UID:42502-1728660600-1728747000@www.ntnl.org
SUMMARY:NT-NL WELCA Fall Retreat
DESCRIPTION:October 11-12\nHosted by King of Glory Lutheran Church in Dallas \nClick Here to Register! \nEarly Bird Registration: $70 for both days \nAfter Sept 15 Registration: $75 for both days; $60 for Saturday only \nScholarships Available! Click here to apply.
URL:https://www.ntnl.org/event/nt-nl-welca-fall-retreat/
LOCATION:King of Glory Lutheran Church – Dallas\, 6411 LBJ Freeway ·\, Dallas\, TX\, 75240\, United States
CATEGORIES:NT-NL Synod,Partner Organizations
ORGANIZER;CN="Women of the ELCA":MAILTO:women.elca@elca.org
GEO:32.9262877;-96.79483
X-APPLE-STRUCTURED-LOCATION;VALUE=URI;X-ADDRESS=King of Glory Lutheran Church – Dallas 6411 LBJ Freeway · Dallas TX 75240 United States;X-APPLE-RADIUS=500;X-TITLE=6411 LBJ Freeway ·:geo:-96.79483,32.9262877
END:VEVENT
END:VCALENDAR