BEGIN:VCALENDAR
VERSION:2.0
PRODID:-//Northern Texas - Northern Louisiana Synod, ELCA - ECPv6.15.20//NONSGML v1.0//EN
CALSCALE:GREGORIAN
METHOD:PUBLISH
X-WR-CALNAME:Northern Texas - Northern Louisiana Synod, ELCA
X-ORIGINAL-URL:https://www.ntnl.org
X-WR-CALDESC:Events for Northern Texas - Northern Louisiana Synod, ELCA
REFRESH-INTERVAL;VALUE=DURATION:PT1H
X-Robots-Tag:noindex
X-PUBLISHED-TTL:PT1H
BEGIN:VTIMEZONE
TZID:America/Chicago
BEGIN:DAYLIGHT
TZOFFSETFROM:-0600
TZOFFSETTO:-0500
TZNAME:CDT
DTSTART:20240310T080000
END:DAYLIGHT
BEGIN:STANDARD
TZOFFSETFROM:-0500
TZOFFSETTO:-0600
TZNAME:CST
DTSTART:20241103T070000
END:STANDARD
BEGIN:DAYLIGHT
TZOFFSETFROM:-0600
TZOFFSETTO:-0500
TZNAME:CDT
DTSTART:20250309T080000
END:DAYLIGHT
BEGIN:STANDARD
TZOFFSETFROM:-0500
TZOFFSETTO:-0600
TZNAME:CST
DTSTART:20251102T070000
END:STANDARD
BEGIN:DAYLIGHT
TZOFFSETFROM:-0600
TZOFFSETTO:-0500
TZNAME:CDT
DTSTART:20260308T080000
END:DAYLIGHT
BEGIN:STANDARD
TZOFFSETFROM:-0500
TZOFFSETTO:-0600
TZNAME:CST
DTSTART:20261101T070000
END:STANDARD
END:VTIMEZONE
BEGIN:VEVENT
DTSTART;TZID=America/Chicago:20251112T093000
DTEND;TZID=America/Chicago:20251112T153000
DTSTAMP:20260420T234814
CREATED:20251023T164030Z
LAST-MODIFIED:20251023T164030Z
UID:44936-1762939800-1762961400@www.ntnl.org
SUMMARY:Racial Justice Training
DESCRIPTION:Racial Justice Training\nIt is expected that rostered ministers in the ELCA undergo racial justice\, gender justice\, and clergy ethics trainings every three years. In partnership with the AR-OK\, SWT\, and TLGC synods\, NT-NL will begin a three-year cycle starting this year with Racial Justice training and offering Gender Justice in 2026\, and Clergy Ethics in 2027. \nNT-NL participants will gather by Zoom the morning of Wednesday\, November 12th beginning at 9:30am to watch a presentation by The Rev. Dr. Jia Starr Brown and have small group conversations. We will break for lunch and then beginning at 1:00pm we will gather on Zoom with the other synods for discussion time and Q&A time with Dr. Brown. We expect two hours for the afternoon session. \nTo receive credit\, you are expected to attend both the morning and afternoon sessions. If you are unable to attend the morning session\, but can make it to the afternoon\, please reach out to Pastor Kelsey kelsey@ntnl.org. \nThis training is $25. Register and pay here: https://tithe.ly/event-registration/#/10564262 \nThe NT-NL Zoom link and large group Zoom link will be sent out in early November. You must be registered to receive the Zoom link. \nAbout Rev. Dr. Jia Starr Brown\n \nRev. Dr. Jia Starr Brown is an African American pastor\, educator\, author\, and activist with more than two decades of experience advocating for underrepresented communities. With a heart for community and access for all\, she stands – and activates – as a truth-teller at the intersection of faith\, education\, and justice. \nHer personal philosophy being “I give what I need”\, Dr. Starr Brown’s work is fueled by her lived experience – and lack – at the convergence of three vulnerable populations. \nEquipped with a Master of Divinity from Luther Seminary\, and a Doctorate of Ministry from United Theological Seminary of the Twin Cities in the field of “Social Transformation”\, Dr. Starr Brown is ordained in The Christian Church (Disciples of Christ) and is the Founding Pastor of “The Stable” –  an online anti-racism study church.
URL:https://www.ntnl.org/event/racial-justice-training-2025/
CATEGORIES:NT-NL Synod
ORGANIZER;CN="NT-NL Synod%2C ELCA":MAILTO:office@ntnl.org
END:VEVENT
END:VCALENDAR