BEGIN:VCALENDAR
VERSION:2.0
PRODID:-//Northern Texas - Northern Louisiana Synod, ELCA - ECPv6.15.20//NONSGML v1.0//EN
CALSCALE:GREGORIAN
METHOD:PUBLISH
X-WR-CALNAME:Northern Texas - Northern Louisiana Synod, ELCA
X-ORIGINAL-URL:https://www.ntnl.org
X-WR-CALDESC:Events for Northern Texas - Northern Louisiana Synod, ELCA
REFRESH-INTERVAL;VALUE=DURATION:PT1H
X-Robots-Tag:noindex
X-PUBLISHED-TTL:PT1H
BEGIN:VTIMEZONE
TZID:America/Chicago
BEGIN:DAYLIGHT
TZOFFSETFROM:-0600
TZOFFSETTO:-0500
TZNAME:CDT
DTSTART:20160313T080000
END:DAYLIGHT
BEGIN:STANDARD
TZOFFSETFROM:-0500
TZOFFSETTO:-0600
TZNAME:CST
DTSTART:20161106T070000
END:STANDARD
BEGIN:DAYLIGHT
TZOFFSETFROM:-0600
TZOFFSETTO:-0500
TZNAME:CDT
DTSTART:20170312T080000
END:DAYLIGHT
BEGIN:STANDARD
TZOFFSETFROM:-0500
TZOFFSETTO:-0600
TZNAME:CST
DTSTART:20171105T070000
END:STANDARD
BEGIN:DAYLIGHT
TZOFFSETFROM:-0600
TZOFFSETTO:-0500
TZNAME:CDT
DTSTART:20180311T080000
END:DAYLIGHT
BEGIN:STANDARD
TZOFFSETFROM:-0500
TZOFFSETTO:-0600
TZNAME:CST
DTSTART:20181104T070000
END:STANDARD
END:VTIMEZONE
BEGIN:VEVENT
DTSTART;TZID=America/Chicago:20170209T140000
DTEND;TZID=America/Chicago:20170209T160000
DTSTAMP:20260424T162508
CREATED:20170110T060000Z
LAST-MODIFIED:20170907T141824Z
UID:16208-1486648800-1486656000@www.ntnl.org
SUMMARY:Installation of new Bishop for the Catholic Diocese of Dallas
DESCRIPTION:Pope Francis has named the Most Reverend Edward J. Burns to serve as the new Bishop of the Diocese of Dallas. The much anticipated appointment was announced on December 13\, 2016\, in Washington\, D.C.\, by the papal nuncio to the United States\, Archbishop Christophe Pierre. Bishop Burns\, the new Chief Shepherd of the 1.3 million Catholics in the Dallas diocese\, succeeds Cardinal Kevin Farrell\, who left Dallas for Rome on October 1 after the Pope appointed him the Prefect of the Vatican Dicastery for Laity\, Family and Life. Click here to read the full press release. \nBishop Burns will be installed as the Bishop of Dallas on February 9\, 2017\, at 2:00 p.m. at the Cathedral Shrine of the Virgin of Guadalupe\, located at 2215 Ross Avenue in downtown Dallas. \nOur own Bishop Gronberg will be in attendance and has been asked to bring greetings.
URL:https://www.ntnl.org/event/installation-new-bishop-catholic-diocese-dallas/
END:VEVENT
BEGIN:VEVENT
DTSTART;VALUE=DATE:20170210
DTEND;VALUE=DATE:20170212
DTSTAMP:20260424T162508
CREATED:20160816T050000Z
LAST-MODIFIED:20170907T141824Z
UID:16151-1486684800-1486857599@www.ntnl.org
SUMMARY:Tri-Synodical Lutheran Men in Mission Gathering
DESCRIPTION:The Keynote Speaker will be Brigadier General Charles Duke\, the 10th and youngest astronaut to walk on the moon. \nClick here for a PDF of a poster with full details. \nClick here for the registration form with more details.
URL:https://www.ntnl.org/event/tri-synodical-lutheran-men-mission-gathering/
LOCATION:Christ Lutheran Church – Georgetown\, 510 Luther Dr\, Georgetown\, TX\, 78628\, United States
ORGANIZER;CN="NT-NL Lutheran Men in Mission":MAILTO:LMMNNTNL2013@gmail.com
GEO:30.616193;-97.690117
X-APPLE-STRUCTURED-LOCATION;VALUE=URI;X-ADDRESS=Christ Lutheran Church – Georgetown 510 Luther Dr Georgetown TX 78628 United States;X-APPLE-RADIUS=500;X-TITLE=510 Luther Dr:geo:-97.690117,30.616193
END:VEVENT
BEGIN:VEVENT
DTSTART;TZID=America/Chicago:20170210T133000
DTEND;TZID=America/Chicago:20170211T140000
DTSTAMP:20260424T162508
CREATED:20160923T050000Z
LAST-MODIFIED:20170907T141824Z
UID:16169-1486733400-1486821600@www.ntnl.org
SUMMARY:Mission / Synod Council Meeting
DESCRIPTION:Hosted by Resurrection Lutheran\, Plano \nTentative Agenda:\n\nFriday\, February 10\n1:30pm – Deans with Staff\n4:00pm – Executive Committee\n6:00pm – Dinner\n6:45pm – Worship\n7:30pm – Meeting\n\nSaturday\, February 11\n8:30am – Resume Meeting\nNoon – Lunch\n2:00pm – Meeting adjourns
URL:https://www.ntnl.org/event/mission-council-meeting-3/
LOCATION:Resurrection Lutheran Church\, 1919 Independence Pkwy\, Plano\, TX\, 75075\, United States
ORGANIZER;CN="NT-NL Synod%2C ELCA":MAILTO:office@ntnl.org
GEO:33.0255236;-96.753874
X-APPLE-STRUCTURED-LOCATION;VALUE=URI;X-ADDRESS=Resurrection Lutheran Church 1919 Independence Pkwy Plano TX 75075 United States;X-APPLE-RADIUS=500;X-TITLE=1919 Independence Pkwy:geo:-96.753874,33.0255236
END:VEVENT
BEGIN:VEVENT
DTSTART;TZID=America/Chicago:20170211T100000
DTEND;TZID=America/Chicago:20170211T120000
DTSTAMP:20260424T162508
CREATED:20161116T060000Z
LAST-MODIFIED:20170907T141823Z
UID:16192-1486807200-1486814400@www.ntnl.org
SUMMARY:Public Witness Team for Peace and Justice monthly meeting
DESCRIPTION:2nd Saturday of each month \nOpen to all
URL:https://www.ntnl.org/event/public-witness-team-peace-justice-monthly-meeting-3/
END:VEVENT
BEGIN:VEVENT
DTSTART;VALUE=DATE:20170212
DTEND;VALUE=DATE:20170215
DTSTAMP:20260424T162508
CREATED:20161101T050000Z
LAST-MODIFIED:20170907T141823Z
UID:16185-1486857600-1487116799@www.ntnl.org
SUMMARY:2017 Lutheran Legislative Event
DESCRIPTION:“Called to be Light” \nThe 2017 Lutheran Legislative Event\, sponsored by the NT-NL Public Witness Team for Peace and Justice\, the Southwestern Texas Synod‘s Poverty and Justice Task Force\, and Texas Impact\, will be held at Gethsemane Lutheran Church in Austin\, starting the afternoon of Sunday\, February 12\, and will conclude about 1:00 pm on Tuesday\, February 14. \nFlyer | Bulletin insert \nWe strongly encourage your participation! \nYou can register online here.
URL:https://www.ntnl.org/event/2017-lutheran-legislative-event/
END:VEVENT
BEGIN:VEVENT
DTSTART;TZID=America/Chicago:20170225T083000
DTEND;TZID=America/Chicago:20170225T150000
DTSTAMP:20260424T162508
CREATED:20160525T050000Z
LAST-MODIFIED:20170907T141803Z
UID:16145-1488011400-1488034800@www.ntnl.org
SUMMARY:North Texas Senior Fest 2017
DESCRIPTION:“Luther For Today” \nDr. Russell Vardell will be the keynote speaker\, and Bishop Erik Gronberg will lead opening worship. \nIn addition\, participants will be able to attend up to three workshops. \nClick here for a flyer with more information. \nAll Lutherans age 50+ are invited to attend. The Senior Fest is sponsored by ALOA – Adult Lutherans Organized for Action – an inter-Lutheran movement that provides resources for the older adult ministries of the LCMS and ELCA. ALOA’s mission is to equip mature adults to celebrate and serve.
URL:https://www.ntnl.org/event/north-texas-senior-fest-2017/
LOCATION:Resurrection Lutheran Church\, 1919 Independence Pkwy\, Plano\, TX\, 75075\, United States
CATEGORIES:Y
ATTACH;FMTTYPE=image/png:https://www.ntnl.org/wp-content/uploads/2017/04/Screen-Shot-2016-05-25-at-3.16.26-PM.png
ORGANIZER;CN="AOLA (Adult Lutherans Organized for Action)":MAILTO:aloa4u@gmail.com
GEO:33.0255236;-96.753874
X-APPLE-STRUCTURED-LOCATION;VALUE=URI;X-ADDRESS=Resurrection Lutheran Church 1919 Independence Pkwy Plano TX 75075 United States;X-APPLE-RADIUS=500;X-TITLE=1919 Independence Pkwy:geo:-96.753874,33.0255236
END:VEVENT
BEGIN:VEVENT
DTSTART;TZID=America/Chicago:20170225T083000
DTEND;TZID=America/Chicago:20170225T160000
DTSTAMP:20260424T162508
CREATED:20160926T050000Z
LAST-MODIFIED:20170907T141803Z
UID:16172-1488011400-1488038400@www.ntnl.org
SUMMARY:Creation Care and Climate Change: It's About the Kids!
DESCRIPTION:WATCH THE LIVE STREAM. \nJoin us for a discussion about environmental stewardship and actions we can take today as Christians to care for the Earth. \nWe will look at our theological and biblical mandates to care for the earth with a focus on climate change. We will talk about what we can possibly do about it through world economies\, governments\, corporations\, and our own households for the good of our children and grandchildren. \nAn outstanding faculty will outline the theological and biblical context for creation care and the Church’s responsibility to future generations. They will show us the urgent need to live out a bold vision: to reduce our carbon footprint and take an active role in public policy. \nPresenters include:\nDr. Barbara Rossing\, New Testament professor\, Lutheran School of Theology at Chicago\nDr. Mark Z. Jacobson\, Director of the Atmosphere and Energy Program\, Stanford University\nCheryl Simmons\, Natural Resources Conservation Service\, Department of Agriculture\nBee Moorhead and the Rev. Sam Brannon\, Texas Impact\nBishop Erik Gronberg\, NT-NL Synod\, ELCA \nDiscussion will probe next steps. What should we do next\, after this event is over? Let’s work together to come up with ideas to bring to individuals\, congregations\, and the global church. How might the church encourage action everywhere that will address the pressing problem of climate change? \nClick here for a detailed agenda and a summary of presenters’ bios. \nClick here for a bulletin insert in color. / Click here for a bulletin insert in black and white. \nClick here for the Facebook event page. \nSponsored by the NT-NL Public Witness Team for Peace and Justice and Texas Impact.
URL:https://www.ntnl.org/event/creation-care-climate-change/
LOCATION:Briarwood Leadership Center\, 670 Copper Canyon Rd.\, Argyle\, TX\, 76226\, United States
ATTACH;FMTTYPE=image/png:https://www.ntnl.org/wp-content/uploads/2017/04/NT-NL-PWT-Care-of-Creation-square-e1486482164450.png
GEO:33.0886127;-97.1074111
X-APPLE-STRUCTURED-LOCATION;VALUE=URI;X-ADDRESS=Briarwood Leadership Center 670 Copper Canyon Rd. Argyle TX 76226 United States;X-APPLE-RADIUS=500;X-TITLE=670 Copper Canyon Rd.:geo:-97.1074111,33.0886127
END:VEVENT
END:VCALENDAR