BEGIN:VCALENDAR
VERSION:2.0
PRODID:-//Northern Texas - Northern Louisiana Synod, ELCA - ECPv6.15.20//NONSGML v1.0//EN
CALSCALE:GREGORIAN
METHOD:PUBLISH
X-ORIGINAL-URL:https://www.ntnl.org
X-WR-CALDESC:Events for Northern Texas - Northern Louisiana Synod, ELCA
REFRESH-INTERVAL;VALUE=DURATION:PT1H
X-Robots-Tag:noindex
X-PUBLISHED-TTL:PT1H
BEGIN:VTIMEZONE
TZID:America/Chicago
BEGIN:DAYLIGHT
TZOFFSETFROM:-0600
TZOFFSETTO:-0500
TZNAME:CDT
DTSTART:20160313T080000
END:DAYLIGHT
BEGIN:STANDARD
TZOFFSETFROM:-0500
TZOFFSETTO:-0600
TZNAME:CST
DTSTART:20161106T070000
END:STANDARD
BEGIN:DAYLIGHT
TZOFFSETFROM:-0600
TZOFFSETTO:-0500
TZNAME:CDT
DTSTART:20170312T080000
END:DAYLIGHT
BEGIN:STANDARD
TZOFFSETFROM:-0500
TZOFFSETTO:-0600
TZNAME:CST
DTSTART:20171105T070000
END:STANDARD
BEGIN:DAYLIGHT
TZOFFSETFROM:-0600
TZOFFSETTO:-0500
TZNAME:CDT
DTSTART:20180311T080000
END:DAYLIGHT
BEGIN:STANDARD
TZOFFSETFROM:-0500
TZOFFSETTO:-0600
TZNAME:CST
DTSTART:20181104T070000
END:STANDARD
END:VTIMEZONE
BEGIN:VEVENT
DTSTART;VALUE=DATE:20170303
DTEND;VALUE=DATE:20170306
DTSTAMP:20260420T092214
CREATED:20160927T050000Z
LAST-MODIFIED:20170907T141803Z
UID:16175-1488499200-1488758399@www.ntnl.org
SUMMARY:NT-NL Lenten Retreat for 4th\, 5th\, 6th Graders
DESCRIPTION:Save the Date! \nMore details forthcoming.
URL:https://www.ntnl.org/event/nt-nl-lenten-retreat-4th-5th-6th-graders/
LOCATION:Briarwood Leadership Center\, 670 Copper Canyon Rd.\, Argyle\, TX\, 76226\, United States
GEO:33.0886127;-97.1074111
X-APPLE-STRUCTURED-LOCATION;VALUE=URI;X-ADDRESS=Briarwood Leadership Center 670 Copper Canyon Rd. Argyle TX 76226 United States;X-APPLE-RADIUS=500;X-TITLE=670 Copper Canyon Rd.:geo:-97.1074111,33.0886127
END:VEVENT
BEGIN:VEVENT
DTSTART;TZID=America/Chicago:20170303T200000
DTEND;TZID=America/Chicago:20170305T130000
DTSTAMP:20260420T092214
CREATED:20160927T050000Z
LAST-MODIFIED:20170907T141803Z
UID:16174-1488571200-1488718800@www.ntnl.org
SUMMARY:NT-NL Peer Ministry Leadership Training
DESCRIPTION:For 9th through 12th graders. \nRegistration due by February 1. \n\n\n\n\n\n\n\n\nYour registration includes: \n\n2 nights lodging (bring linens/sleeping bag)\nSaturday meals (3)\, Sunday breakfast & lunch\nMaterials\n\n\n\n\n\nFull details here: \nComplete this registration form and mail in to the address on the brochure. \nQuestions? Call Janelle Miller at 817-726-7031.
URL:https://www.ntnl.org/event/nt-nl-peer-ministry-leadership-training/
LOCATION:Briarwood Leadership Center\, 670 Copper Canyon Rd.\, Argyle\, TX\, 76226\, United States
GEO:33.0886127;-97.1074111
X-APPLE-STRUCTURED-LOCATION;VALUE=URI;X-ADDRESS=Briarwood Leadership Center 670 Copper Canyon Rd. Argyle TX 76226 United States;X-APPLE-RADIUS=500;X-TITLE=670 Copper Canyon Rd.:geo:-97.1074111,33.0886127
END:VEVENT
BEGIN:VEVENT
DTSTART;TZID=America/Chicago:20170304T140000
DTEND;TZID=America/Chicago:20170304T180000
DTSTAMP:20260420T092214
CREATED:20170225T060000Z
LAST-MODIFIED:20170907T141803Z
UID:16224-1488636000-1488650400@www.ntnl.org
SUMMARY:BRIDGES Book Club
DESCRIPTION:Saturday\, March 4 \n2-4 pm at Trinity\, Fort Worth \n4-6pm at Mount Olive\, Dallas \n \nA powerful true story about the potential for mercy to redeem us\, and a clarion call to fix our broken system of justice—from one of the most brilliant and influential lawyers of our time. \nBryan Stevenson was a young lawyer when he founded the Equal Justice Initiative\, a legal practice dedicated to defending those most desperate and in need: the poor\, the wrongly condemned\, and women and children trapped in the farthest reaches of our criminal justice system. One of his first cases was that of Walter McMillian\, a young man who was sentenced to die for a notorious murder he insisted he didn’t commit. The case drew Bryan into a tangle of conspiracy\, political machinations\, and legal brinksmanship—and transformed his understanding of mercy and justice forever. \nBryan Stevenson is America’s young Nelson Mandela\, a brilliant lawyer fighting with courage and conviction to guarantee justice for all. Just Mercy should be read by people of conscience in every civilized country in the world to discover what happens when revenge and retribution replace justice and mercy. It is as gripping to read as any legal thriller\, and what hangs in the balance is nothing less than the soul of a great nation. — Desmond Tutu\, Nobel Peace Prize Laureate
URL:https://www.ntnl.org/event/bridges-book-club/
END:VEVENT
BEGIN:VEVENT
DTSTART;TZID=America/Chicago:20170311T100000
DTEND;TZID=America/Chicago:20170311T120000
DTSTAMP:20260420T092214
CREATED:20161116T060000Z
LAST-MODIFIED:20170907T141803Z
UID:16193-1489226400-1489233600@www.ntnl.org
SUMMARY:Public Witness Team for Peace and Justice monthly meeting
DESCRIPTION:2nd Saturday of each month \nOpen to all
URL:https://www.ntnl.org/event/public-witness-team-peace-justice-monthly-meeting-4/
LOCATION:Shepherd of Life Lutheran Church\, 715 E. Lamar Blvd.\, Arlington\, TX\, 76011\, United States
GEO:32.7652667;-97.1008227
X-APPLE-STRUCTURED-LOCATION;VALUE=URI;X-ADDRESS=Shepherd of Life Lutheran Church 715 E. Lamar Blvd. Arlington TX 76011 United States;X-APPLE-RADIUS=500;X-TITLE=715 E. Lamar Blvd.:geo:-97.1008227,32.7652667
END:VEVENT
BEGIN:VEVENT
DTSTART;VALUE=DATE:20170312
DTEND;VALUE=DATE:20170313
DTSTAMP:20260420T092214
CREATED:20170110T060000Z
LAST-MODIFIED:20170907T141803Z
UID:16209-1489276800-1489363199@www.ntnl.org
SUMMARY:OutLast Youth LGBTQ youth homelessness awareness event
DESCRIPTION:Dear Faith Community Leader\, \nOutLast Youth would like to formally invite you to an interfaith awareness event focused on LGBTQ youth homelessness. As you may or may not be aware\, approximately 40% of homeless youth identify as Lesbian\, Gay\, Bisexual\, Transgender or Queer/Questioning\, nationally\, whereas only 7-10% of the national youth population identify as such. \nWe would love for you to extend the invitation to your faith community to join us for an informative event on this issue and how YOU can join us in the fight to reduce and prevent LGBTQ youth homelessness in Dallas and surrounding counties by 2020! \nWHO: Interfaith communities across Dallas County. All are welcome. \nWHAT: LGBTQ youth homelessness awareness event \nWHEN: Sunday\, March 12 @ 4:00 P.M. \nWHERE: First United Lutheran Church\, 6202 E. Mockingbird Ln.\, Dallas\, 75214 \nWHY: To build awareness\, educate and work together as a community
URL:https://www.ntnl.org/event/outlast-youth-lgbtq-youth-homelessness-awareness-event/
LOCATION:First United Lutheran Church\, 6202 E Mockingbird Ln\, Dallas\, TX\, 75214\, United States
ATTACH;FMTTYPE=image/png:https://www.ntnl.org/wp-content/uploads/2017/04/OutLast-Youth-logo.png
GEO:32.8361824;-96.757799
X-APPLE-STRUCTURED-LOCATION;VALUE=URI;X-ADDRESS=First United Lutheran Church 6202 E Mockingbird Ln Dallas TX 75214 United States;X-APPLE-RADIUS=500;X-TITLE=6202 E Mockingbird Ln:geo:-96.757799,32.8361824
END:VEVENT
BEGIN:VEVENT
DTSTART;TZID=America/Chicago:20170318T090000
DTEND;TZID=America/Chicago:20170318T153000
DTSTAMP:20260420T092214
CREATED:20170125T060000Z
LAST-MODIFIED:20170907T141803Z
UID:16213-1489827600-1489851000@www.ntnl.org
SUMMARY:Parish Lay Mission Academy\, Spring 2017\, Course 1
DESCRIPTION:For more information: http://www.plmacademy.org/schedule.htm
URL:https://www.ntnl.org/event/plma-spring-2017-course-1/
LOCATION:Briarwood Leadership Center\, 670 Copper Canyon Rd.\, Argyle\, TX\, 76226\, United States
ORGANIZER;CN="NT-NL Parish Lay Ministry Academy":MAILTO:DeanPLMA@ntnl.org
GEO:33.0886127;-97.1074111
X-APPLE-STRUCTURED-LOCATION;VALUE=URI;X-ADDRESS=Briarwood Leadership Center 670 Copper Canyon Rd. Argyle TX 76226 United States;X-APPLE-RADIUS=500;X-TITLE=670 Copper Canyon Rd.:geo:-97.1074111,33.0886127
END:VEVENT
BEGIN:VEVENT
DTSTART;TZID=America/Chicago:20170325T090000
DTEND;TZID=America/Chicago:20170325T150000
DTSTAMP:20260420T092214
CREATED:20161006T050000Z
LAST-MODIFIED:20170907T141803Z
UID:16181-1490432400-1490454000@www.ntnl.org
SUMMARY:Dallas Area Metro North SWO Retreat
DESCRIPTION:The Dallas Area Metro North Synodical Women’s Organization will have a retreat on March 25\, 2017\, 9am-3pm\, at Christ the Servant in Allen\, TX.
URL:https://www.ntnl.org/event/dallas-area-metro-north-swo-retreat/
LOCATION:Christ the Servant Lutheran Church – Allen\, 821 S Greenville Ave\, Allen\, TX\, 75002\, United States
GEO:33.0849689;-96.672374
X-APPLE-STRUCTURED-LOCATION;VALUE=URI;X-ADDRESS=Christ the Servant Lutheran Church – Allen 821 S Greenville Ave Allen TX 75002 United States;X-APPLE-RADIUS=500;X-TITLE=821 S Greenville Ave:geo:-96.672374,33.0849689
END:VEVENT
END:VCALENDAR