BEGIN:VCALENDAR
VERSION:2.0
PRODID:-//Northern Texas - Northern Louisiana Synod, ELCA - ECPv6.15.20//NONSGML v1.0//EN
CALSCALE:GREGORIAN
METHOD:PUBLISH
X-ORIGINAL-URL:https://www.ntnl.org
X-WR-CALDESC:Events for Northern Texas - Northern Louisiana Synod, ELCA
REFRESH-INTERVAL;VALUE=DURATION:PT1H
X-Robots-Tag:noindex
X-PUBLISHED-TTL:PT1H
BEGIN:VTIMEZONE
TZID:America/Chicago
BEGIN:DAYLIGHT
TZOFFSETFROM:-0600
TZOFFSETTO:-0500
TZNAME:CDT
DTSTART:20170312T080000
END:DAYLIGHT
BEGIN:STANDARD
TZOFFSETFROM:-0500
TZOFFSETTO:-0600
TZNAME:CST
DTSTART:20171105T070000
END:STANDARD
BEGIN:DAYLIGHT
TZOFFSETFROM:-0600
TZOFFSETTO:-0500
TZNAME:CDT
DTSTART:20180311T080000
END:DAYLIGHT
BEGIN:STANDARD
TZOFFSETFROM:-0500
TZOFFSETTO:-0600
TZNAME:CST
DTSTART:20181104T070000
END:STANDARD
BEGIN:DAYLIGHT
TZOFFSETFROM:-0600
TZOFFSETTO:-0500
TZNAME:CDT
DTSTART:20190310T080000
END:DAYLIGHT
BEGIN:STANDARD
TZOFFSETFROM:-0500
TZOFFSETTO:-0600
TZNAME:CST
DTSTART:20191103T070000
END:STANDARD
END:VTIMEZONE
BEGIN:VEVENT
DTSTART;VALUE=DATE:20181101
DTEND;VALUE=DATE:20181105
DTSTAMP:20260423T095457
CREATED:20180612T192354Z
LAST-MODIFIED:20180612T192354Z
UID:19652-1541030400-1541375999@www.ntnl.org
SUMMARY:2018 ELCA Youth Leadership Summit
DESCRIPTION:The ELCA Youth Leadership Summit is an annual gathering for high school youth identified as leaders and adult representatives from each synod from across the ELCA. This summit focuses on leadership development through engaging speakers and thought leaders in key areas at the intersection of leadership and faith in daily life and faith formation and building connections for high school youth in the Evangelical Lutheran Church in America. Youth will be challenged to take home what they have learned to inspire action in their own synods and youth groups. \n2018 ELCA Youth Leadership Summit \nNovember 1-4 \nCamp Carol Joy Holling\, Ashland\, Nebraska \n \nThe theme for the 2018 Summit is “Through Christ We Can” and will use Philippians 2:1-5 as it’s scriptural base. The event will focus on young people’s call to ministry for the sake of others and advocacy because of their faith. For our learning and networking times we will be joined by various ELCA ministries and staff including Advocacy\, Young Adult Ministries\, Justice for Women and Global Mission. \nProgram\, food\, lodging\, and local transportation costs are covered thanks to a grant the ELCA Youth Ministry received. NT-NL will cover travel to and from Nebraska for up to 4 (four) youth. \nRegistration will remain open until September 30. Contact molly.beckdean@elca.org with any questions.
URL:https://www.ntnl.org/event/2018-elca-youth-leadership-summit/
ATTACH;FMTTYPE=image/jpeg:https://www.ntnl.org/wp-content/uploads/2018/07/OurWork_Youth_Youth_Leadership_Summit.jpg
END:VEVENT
BEGIN:VEVENT
DTSTART;VALUE=DATE:20181108
DTEND;VALUE=DATE:20181109
DTSTAMP:20260423T095457
CREATED:20180925T181543Z
LAST-MODIFIED:20180925T181543Z
UID:20500-1541635200-1541721599@www.ntnl.org
SUMMARY:Real Men: Masculinities in the Gospel of Matthew
DESCRIPTION:John Tietjen Speaker Series: “Real Men: Masculinities in the Gospel of Matthew” \nRev. Dr. Kendra A. Mohn\nThursday\, November 8th\, 6:30 pm\nTrinity Lutheran Church Fellowship Hall\, 3621 Tulsa Way\, Fort Worth\, TX 76107 \nOn Thursday\, November 8th\, at 6:30 pm\, Trinity Lutheran in Fort Worth will hold the 2018 event in their John Tietjen Speaker Series. Rev. Dr. Kendra Mohn will present her dissertation work on masculinity and Roman empire in the Gospel of Matthew. Dr. Mohn\, who serves as one of the pastors at Trinity\, finished her PhD in May at Brite Divinity School. Questions and discussion will follow her presentation. Light refreshments will be served. All are welcome! \nClick here to access a flyer.
URL:https://www.ntnl.org/event/real-men-masculinities-in-the-gospel-of-matthew/
LOCATION:Trinity Lutheran Church – Fort Worth\, 3621 Tulsa Way\, Fort Worth\, TX\, 76107\, United States
ORGANIZER;CN="Trinity Lutheran Church - Fort Worth":MAILTO:malong@tlcfw.org
GEO:32.7465477;-97.3702994
X-APPLE-STRUCTURED-LOCATION;VALUE=URI;X-ADDRESS=Trinity Lutheran Church – Fort Worth 3621 Tulsa Way Fort Worth TX 76107 United States;X-APPLE-RADIUS=500;X-TITLE=3621 Tulsa Way:geo:-97.3702994,32.7465477
END:VEVENT
BEGIN:VEVENT
DTSTART;VALUE=DATE:20181108
DTEND;VALUE=DATE:20181111
DTSTAMP:20260423T095457
CREATED:20181010T144107Z
LAST-MODIFIED:20181010T144107Z
UID:20579-1541635200-1541894399@www.ntnl.org
SUMMARY:The 2018 Blandy Lectures
DESCRIPTION:The 2018 Blandy Lectures\, at the Seminary of the Southwest\, in Austin\, Texas\, will be held November 8-10\, 2018. \n \nThe featured speaker for Thursday\, November 8\, at 7:30pm\, is Ray Suarez\, who will address “The Fragmentation of Authority in Contemporary Culture.” Suarez will deliver a candid and authoritative examination of society\, politics\, and the broad impacts of America’s demographic shift to a “minority majority”. The Thursday evening address is FREE and open to the public. Registration is requested. \nSuarez is known for his work with Al Jazeera America and PBS NewsHour. He is the current John J. McCloy Visiting Professor of American Studies at Amherst College. Please register online at https://ssw.edu/event/2018-blandy-lectures-and-alumni-convocation/ for this and other presentations during the November 8-10 lecture series. There is a registration fee for other lectures\, which are: “Gender and Sexual Orientation in the 21st Century” and “Navigating Difficult Conversations in a Polarized World.” \nThe Seminary of the Southwest (SSW) is located at 501 E. 32nd Street\, Austin\, Texas 78705. The Lutheran Seminary Program in the Southwest is located on the campus of SSW.
URL:https://www.ntnl.org/event/the-2018-blandy-lectures/
LOCATION:Seminary of the Southwest\, 501 E. 32nd St.\, Austin\, TX\, 78705\, United States
ATTACH;FMTTYPE=image/jpeg:https://www.ntnl.org/wp-content/uploads/2017/04/LSPS-logo-1.jpg
ORGANIZER;CN="Lutheran Seminary Program in the Southwest (LSPS)":MAILTO:lsps@lsps.edu
GEO:30.2931675;-97.7325381
X-APPLE-STRUCTURED-LOCATION;VALUE=URI;X-ADDRESS=Seminary of the Southwest 501 E. 32nd St. Austin TX 78705 United States;X-APPLE-RADIUS=500;X-TITLE=501 E. 32nd St.:geo:-97.7325381,30.2931675
END:VEVENT
BEGIN:VEVENT
DTSTART;TZID=America/Chicago:20181110T090000
DTEND;TZID=America/Chicago:20181110T130000
DTSTAMP:20260423T095457
CREATED:20181011T005853Z
LAST-MODIFIED:20181022T190549Z
UID:20590-1541840400-1541854800@www.ntnl.org
SUMMARY:Bridging the Divide: Skills for better\, more civil conversations in an uncivil society
DESCRIPTION:We live in a polarized society in which neither “side” listens to the other. Families are being split apart\, friendships are fractured\, and even our church family finds it difficult to bridge the divide. We are unable to talk about the most important topics that affect our lives. We can do better. This workshop provides a Biblical foundation for honoring the humanity of others\, and teaches skills to have better\, more meaningful conversations with those with whom we disagree. \nClick here for a bulletin insert in PDF format. \nREGISTER HERE.
URL:https://www.ntnl.org/event/bridging-the-divide-skills-for-better-more-civil-conversations-in-an-uncivil-society/
LOCATION:Shepherd of Life Lutheran Church\, 715 E. Lamar Blvd.\, Arlington\, TX\, 76011\, United States
CATEGORIES:Public Witness Team
GEO:32.7652667;-97.1008227
X-APPLE-STRUCTURED-LOCATION;VALUE=URI;X-ADDRESS=Shepherd of Life Lutheran Church 715 E. Lamar Blvd. Arlington TX 76011 United States;X-APPLE-RADIUS=500;X-TITLE=715 E. Lamar Blvd.:geo:-97.1008227,32.7652667
END:VEVENT
BEGIN:VEVENT
DTSTART;VALUE=DATE:20181112
DTEND;VALUE=DATE:20181114
DTSTAMP:20260423T095457
CREATED:20171128T173324Z
LAST-MODIFIED:20180814T195048Z
UID:17851-1541980800-1542153599@www.ntnl.org
SUMMARY:Perkins Fall Convocation on Creative Worship
DESCRIPTION:Brian McLaren \nSandra Maria Van Opstal \n  \n  \n  \n  \n  \n  \n  \n  \n  \n  \nThis two-day event will focus on the intersection of justice and worship. Featured speakers will be author\, speaker\, activist\, and public theologian Brian McLaren\, along with Sandra Maria Van Opstal. A second-generation Latina\, Van Opstal is a liturgist and activist dedicated to re-imagining worship that mobilizes for reconciliation and justice. Registration is available online. For updates\, sign up to receive email notifications about our Fall Convocation for Church Leaders\, or follow SMU | Perkins School of Theology on Facebook!
URL:https://www.ntnl.org/event/perkins-fall-convocation-on-creative-worship/
LOCATION:SMU | Perkins School of Theology\, PO Box 750133\, Dallas\, TX\, 75275\, United States
GEO:32.84;-96.78
X-APPLE-STRUCTURED-LOCATION;VALUE=URI;X-ADDRESS=SMU | Perkins School of Theology PO Box 750133 Dallas TX 75275 United States;X-APPLE-RADIUS=500;X-TITLE=PO Box 750133:geo:-96.78,32.84
END:VEVENT
BEGIN:VEVENT
DTSTART;VALUE=DATE:20181113
DTEND;VALUE=DATE:20181116
DTSTAMP:20260423T095457
CREATED:20180913T225832Z
LAST-MODIFIED:20180913T225832Z
UID:20423-1542067200-1542326399@www.ntnl.org
SUMMARY:Young at Heart Retreat
DESCRIPTION:Our Young at Heart Retreat is November 13 – 15\, starting at 4pm Tuesday and ending at 1pm on Thursday. Our theme is Lights\, Cameras\, Classics! We will be talking about classic movies and their legacies and relating them to our own legacies. Register here.
URL:https://www.ntnl.org/event/young-at-heart-retreat/
LOCATION:Briarwood Leadership Center\, 670 Copper Canyon Rd.\, Argyle\, TX\, 76226\, United States
CATEGORIES:Briarwood Leadership Center
ATTACH;FMTTYPE=image/png:https://www.ntnl.org/wp-content/uploads/2018/09/YAH-fall-2018-logo.png
ORGANIZER;CN="Briarwood Leadership Center":MAILTO:bw@briarwoodretreat.org
GEO:33.0886127;-97.1074111
X-APPLE-STRUCTURED-LOCATION;VALUE=URI;X-ADDRESS=Briarwood Leadership Center 670 Copper Canyon Rd. Argyle TX 76226 United States;X-APPLE-RADIUS=500;X-TITLE=670 Copper Canyon Rd.:geo:-97.1074111,33.0886127
END:VEVENT
BEGIN:VEVENT
DTSTART;VALUE=DATE:20181116
DTEND;VALUE=DATE:20181119
DTSTAMP:20260423T095457
CREATED:20180911T193934Z
LAST-MODIFIED:20181106T155554Z
UID:20413-1542326400-1542585599@www.ntnl.org
SUMMARY:National Young Adult Discernment Retreat
DESCRIPTION:Bishop Gronberg has made Youth and Youth Adult Ministry a priority for NT-NL. This is another great opportunity for our young adults to connect with ELCA young adults from across the country. \nWhy Me? Why Now? Why This? – Listening for God in a Noisy World. \nHosted by ELCA Seminaries and ELCA Young Adult Ministries \nNovember 16-18 \nTallapoosa\, GA \nWith so many voices seeking our attention\, how do we learn to listen to the voice of God? \nWhat is our vocation and how is our faith called to be alive in that vocation? \nThe Seminaries of the ELCA and Young Adult Ministries\, along with participants from across the whole ELCA\, will spend time sorting through some of the predominant voices competing for our attention – voices that stake a claim on who we should be\, what we should value\, and what makes us happy. We will spend time thinking about the voice of God which lays claim on our lives\, how that impacts how we spend our time\, and how following God’s call might help us find a sense of purpose\, meaning\, and even joy. \nWho: Young adults (18-30ish) \nHow Much: $50. We know cost of attendance is a huge hurdle for young people\, that’s why we’re committed to paying all travel\, lodging\, and food costs for this event. You will see on the event page that there is a $50 registration fee. This is so that people have a little of their own “buy in”\, but please don’t let this be the reason young people you know don’t join us. Email Savanna.Sullivan@elca.org if the $50 will be a problem for potential participants.
URL:https://www.ntnl.org/event/national-young-adult-discernment-retreat/
END:VEVENT
BEGIN:VEVENT
DTSTART;VALUE=DATE:20181117
DTEND;VALUE=DATE:20181118
DTSTAMP:20260423T095457
CREATED:20180524T204157Z
LAST-MODIFIED:20180524T204242Z
UID:19584-1542412800-1542499199@www.ntnl.org
SUMMARY:MEF Board meeting
DESCRIPTION:
URL:https://www.ntnl.org/event/mef-board-meeting-nov-18/
LOCATION:Our Redeemer Lutheran – Grand Prairie\, 4729 S. Carrier Pkwy\, Grand Prairie\, TX\, 75052\, United States
CATEGORIES:Mission Endowment Fund
ATTACH;FMTTYPE=image/jpeg:https://www.ntnl.org/wp-content/uploads/2017/07/MEF.jpg
GEO:32.6565703;-97.0049861
X-APPLE-STRUCTURED-LOCATION;VALUE=URI;X-ADDRESS=Our Redeemer Lutheran – Grand Prairie 4729 S. Carrier Pkwy Grand Prairie TX 75052 United States;X-APPLE-RADIUS=500;X-TITLE=4729 S. Carrier Pkwy:geo:-97.0049861,32.6565703
END:VEVENT
BEGIN:VEVENT
DTSTART;TZID=America/Chicago:20181117T090000
DTEND;TZID=America/Chicago:20181117T153000
DTSTAMP:20260423T095457
CREATED:20170531T050000Z
LAST-MODIFIED:20180321T165335Z
UID:16255-1542445200-1542468600@www.ntnl.org
SUMMARY:Parish Lay Ministry Academy\, Fall 2018\, Course 3
DESCRIPTION:
URL:https://www.ntnl.org/event/plma-fall-2018-course-3/
LOCATION:Christ Evangelical Lutheran Mission Center at Briarwood\, 680 Copper Canyon Rd.\, Argyle\, TX\, 76226\, United States
CATEGORIES:Parish Lay Ministry Academy
ATTACH;FMTTYPE=image/jpeg:https://www.ntnl.org/wp-content/uploads/2017/04/plmbw.jpg
ORGANIZER;CN="NT-NL Parish Lay Ministry Academy":MAILTO:DeanPLMA@ntnl.org
GEO:33.0908265;-97.1099253
X-APPLE-STRUCTURED-LOCATION;VALUE=URI;X-ADDRESS=Christ Evangelical Lutheran Mission Center at Briarwood 680 Copper Canyon Rd. Argyle TX 76226 United States;X-APPLE-RADIUS=500;X-TITLE=680 Copper Canyon Rd.:geo:-97.1099253,33.0908265
END:VEVENT
BEGIN:VEVENT
DTSTART;VALUE=DATE:20181118
DTEND;VALUE=DATE:20181119
DTSTAMP:20260423T095457
CREATED:20180918T172839Z
LAST-MODIFIED:20180918T172850Z
UID:20474-1542499200-1542585599@www.ntnl.org
SUMMARY:Lutheran Campus Ministry Trivia Challenge
DESCRIPTION:Looking for a fun evening out? Like to laugh? Want a great meal? Enjoy testing your knowledge? Care about young adults? These all come together in the Lutheran Campus Ministry Trivia Challenge\, November 18\, at 4pm at Briarwood Retreat Center. All funds generated go to the NT-NL Campus Ministry Mission Fund\, benefitting Lutheran Campus Ministry in the NT-NL Synod. \nForm your team of 8\, design table décor that reflects a ministry of your congregation or some aspect of campus ministry. Or simply go for creativity. Then register for lots of fun. Our meal is being catered by Chef Carlos Carrasquillo. For more information\, contact Pastor Celene Welch: 817/269-1229 or pastor@lcmdenton.org.
URL:https://www.ntnl.org/event/2018-lutheran-campus-ministry-trivia-challenge/
LOCATION:Briarwood Leadership Center\, 670 Copper Canyon Rd.\, Argyle\, TX\, 76226\, United States
ORGANIZER;CN="Lutheran Campus Ministry - Denton":MAILTO:pastor@lcmdenton.org
GEO:33.0886127;-97.1074111
X-APPLE-STRUCTURED-LOCATION;VALUE=URI;X-ADDRESS=Briarwood Leadership Center 670 Copper Canyon Rd. Argyle TX 76226 United States;X-APPLE-RADIUS=500;X-TITLE=670 Copper Canyon Rd.:geo:-97.1074111,33.0886127
END:VEVENT
BEGIN:VEVENT
DTSTART;VALUE=DATE:20181129
DTEND;VALUE=DATE:20181130
DTSTAMP:20260423T095457
CREATED:20180801T194519Z
LAST-MODIFIED:20181117T203141Z
UID:20173-1543449600-1543535999@www.ntnl.org
SUMMARY:ELCA Coach Training\, Level 2
DESCRIPTION:Focus: Stewardship \nTentative schedule: 9:30am – 3pm (with a working lunch provided) \nParticipants must have completed Level 1 training and all required follow-up. \nAfter completing labs\, you can become a Level II coach in the ELCA. \nClick here for the ELCA Coaching Ministry Overview. \nREGISTER HERE. \nThe event is limited in size and will be heavily subsidized by the ELCA and DiscipleLife Endowment Funds. The cost per person will assist with materials and presenters and invites commitment from participants.
URL:https://www.ntnl.org/event/elca-coach-training-level-2/
LOCATION:Christ Evangelical Lutheran Mission Center at Briarwood\, 680 Copper Canyon Rd.\, Argyle\, TX\, 76226\, United States
ATTACH;FMTTYPE=image/jpeg:https://www.ntnl.org/wp-content/uploads/2017/12/ELCA-Coaching.jpg
ORGANIZER;CN="NT-NL Synod%2C ELCA":MAILTO:office@ntnl.org
GEO:33.0908265;-97.1099253
X-APPLE-STRUCTURED-LOCATION;VALUE=URI;X-ADDRESS=Christ Evangelical Lutheran Mission Center at Briarwood 680 Copper Canyon Rd. Argyle TX 76226 United States;X-APPLE-RADIUS=500;X-TITLE=680 Copper Canyon Rd.:geo:-97.1099253,33.0908265
END:VEVENT
BEGIN:VEVENT
DTSTART;VALUE=DATE:20181130
DTEND;VALUE=DATE:20181203
DTSTAMP:20260423T095457
CREATED:20180913T232516Z
LAST-MODIFIED:20181010T231708Z
UID:20426-1543536000-1543795199@www.ntnl.org
SUMMARY:Upper Elementary Winter Retreat
DESCRIPTION:See event link below for details and to register.
URL:https://www.ntnl.org/event/upper-elementary-winter-retreat/
LOCATION:Briarwood Leadership Center\, 670 Copper Canyon Rd.\, Argyle\, TX\, 76226\, United States
CATEGORIES:Briarwood Leadership Center
ORGANIZER;CN="Briarwood Leadership Center":MAILTO:bw@briarwoodretreat.org
GEO:33.0886127;-97.1074111
X-APPLE-STRUCTURED-LOCATION;VALUE=URI;X-ADDRESS=Briarwood Leadership Center 670 Copper Canyon Rd. Argyle TX 76226 United States;X-APPLE-RADIUS=500;X-TITLE=670 Copper Canyon Rd.:geo:-97.1074111,33.0886127
END:VEVENT
BEGIN:VEVENT
DTSTART;VALUE=DATE:20181130
DTEND;VALUE=DATE:20181202
DTSTAMP:20260423T095457
CREATED:20181025T141329Z
LAST-MODIFIED:20181119T181228Z
UID:20653-1543536000-1543708799@www.ntnl.org
SUMMARY:Candidacy Retreat
DESCRIPTION:Click here for full details and to RSVP.
URL:https://www.ntnl.org/event/2018-candidacy-retreat/
LOCATION:Briarwood Leadership Center\, 670 Copper Canyon Rd.\, Argyle\, TX\, 76226\, United States
ORGANIZER;CN="NT-NL Synod%2C ELCA":MAILTO:office@ntnl.org
GEO:33.0886127;-97.1074111
X-APPLE-STRUCTURED-LOCATION;VALUE=URI;X-ADDRESS=Briarwood Leadership Center 670 Copper Canyon Rd. Argyle TX 76226 United States;X-APPLE-RADIUS=500;X-TITLE=670 Copper Canyon Rd.:geo:-97.1074111,33.0886127
END:VEVENT
END:VCALENDAR