BEGIN:VCALENDAR
VERSION:2.0
PRODID:-//Northern Texas - Northern Louisiana Synod, ELCA - ECPv6.15.20//NONSGML v1.0//EN
CALSCALE:GREGORIAN
METHOD:PUBLISH
X-ORIGINAL-URL:https://www.ntnl.org
X-WR-CALDESC:Events for Northern Texas - Northern Louisiana Synod, ELCA
REFRESH-INTERVAL;VALUE=DURATION:PT1H
X-Robots-Tag:noindex
X-PUBLISHED-TTL:PT1H
BEGIN:VTIMEZONE
TZID:America/Chicago
BEGIN:DAYLIGHT
TZOFFSETFROM:-0600
TZOFFSETTO:-0500
TZNAME:CDT
DTSTART:20230312T080000
END:DAYLIGHT
BEGIN:STANDARD
TZOFFSETFROM:-0500
TZOFFSETTO:-0600
TZNAME:CST
DTSTART:20231105T070000
END:STANDARD
BEGIN:DAYLIGHT
TZOFFSETFROM:-0600
TZOFFSETTO:-0500
TZNAME:CDT
DTSTART:20240310T080000
END:DAYLIGHT
BEGIN:STANDARD
TZOFFSETFROM:-0500
TZOFFSETTO:-0600
TZNAME:CST
DTSTART:20241103T070000
END:STANDARD
BEGIN:DAYLIGHT
TZOFFSETFROM:-0600
TZOFFSETTO:-0500
TZNAME:CDT
DTSTART:20250309T080000
END:DAYLIGHT
BEGIN:STANDARD
TZOFFSETFROM:-0500
TZOFFSETTO:-0600
TZNAME:CST
DTSTART:20251102T070000
END:STANDARD
END:VTIMEZONE
BEGIN:VEVENT
DTSTART;VALUE=DATE:20240413
DTEND;VALUE=DATE:20240414
DTSTAMP:20260422T170957
CREATED:20231023T140342Z
LAST-MODIFIED:20231023T140342Z
UID:40580-1712966400-1713052799@www.ntnl.org
SUMMARY:Parish Lay Ministry Academy\, Spring 2024\, Course 2
DESCRIPTION:To register and for full details: https://www.ntnl.org/ministries/plma/
URL:https://www.ntnl.org/event/parish-lay-ministry-academy-spring-2024-course-2/
ORGANIZER;CN="NT-NL Parish Lay Ministry Academy":MAILTO:DeanPLMA@ntnl.org
END:VEVENT
BEGIN:VEVENT
DTSTART;VALUE=DATE:20240419
DTEND;VALUE=DATE:20240421
DTSTAMP:20260422T170957
CREATED:20230913T134928Z
LAST-MODIFIED:20240418T171212Z
UID:40368-1713484800-1713657599@www.ntnl.org
SUMMARY:2024 NT-NL Synod Assembly
DESCRIPTION:Registration is now closed.  Registration closed on April 16th. \n \nTimeframe: Starting Friday\, April 19\, at 1pm\, and ending Saturday\, April 20\, by 2:30pm. See the Reference Materials for a current agenda. \nThe Assembly Refence Materials (including the tentative agenda) can be found here: https://www.ntnl.org/2024-assembly-reference-materials/. Updates will likely be made up to the week of Assembly as additional details are confirmed\, reports are received\, and more. If current documents change\, that will be noted so that you can be sure you have the latest version of everything. \nFor information on our Assembly Theme and Keynote Speaker read our blog post. \nDr. Hopper has created this Connections Worksheet for attendees to follow along with his keynote sessions. There will be hard copies available but you can download this version if you’d prefer a digital copy. \nSynod Council will meet Friday morning at 9am (specific location will be communicated to Synod Council members prior to Assembly). \nLocation: Iglesia Luterana Santa Maria\, Irving\, 2601 S MacArthur Blvd\, Irving\, TX 75060 \nThe Synod will not be coordinating a room block at a specific hotel. There are many hotel options around Santa Maria at various price points that attendees can arrange to best meet their needs. \n2024 Synod Assembly Fee Schedule\n \nVoting Member Early Bird (until March 1) = $125\nVoting Member Regular (March 2 – April 16) = $175\nRetired Rostered Voting Member Early Bird (until March 1) = $50\nRetired Rostered Voting Member Regular (March 2 – April 16) = $100\nVisitor Early Bird (until March 1) = $50\nVisitor Regular (March 2 – April 16) = $75\nMeals provided with registration = 2 (two) – Friday dinner\, Saturday lunch \n2024 Synod Assembly Offering Designation\nNT-NL Conferencia Latina 50%\nEvangelical Lutheran Church in Sierra Leone 50% \nAdditional details will be posted here as they are confirmed.
URL:https://www.ntnl.org/event/2024-nt-nl-synod-assembly/
LOCATION:Iglesia Luterana Santa María\, 2601 S. MacArthur Blvd.\, Irving\, TX\, 75060\, United States
CATEGORIES:NT-NL Synod
ORGANIZER;CN="NT-NL Synod%2C ELCA":MAILTO:office@ntnl.org
GEO:32.7860741;-96.9603427
X-APPLE-STRUCTURED-LOCATION;VALUE=URI;X-ADDRESS=Iglesia Luterana Santa María 2601 S. MacArthur Blvd. Irving TX 75060 United States;X-APPLE-RADIUS=500;X-TITLE=2601 S. MacArthur Blvd.:geo:-96.9603427,32.7860741
END:VEVENT
BEGIN:VEVENT
DTSTART;TZID=America/Chicago:20240422T190000
DTEND;TZID=America/Chicago:20240422T203000
DTSTAMP:20260422T170957
CREATED:20240306T145213Z
LAST-MODIFIED:20240306T145329Z
UID:41409-1713812400-1713817800@www.ntnl.org
SUMMARY:Wartburg Choir Performing at Calvary\, Richland Hills
DESCRIPTION:Wartburg Choir is making a stop at Calvary\, Richland Hills for a concert on April 22nd at 7pm. All are invited to attend.\nCalvary is looking for local hosts to house the 80 choir members on Monday night. If you are interested in housing a student or two please reach out to Viktor Andersson\, Director of Music Ministry at viktorandersson@hotmail.com
URL:https://www.ntnl.org/event/wartburg-choir-at-calvary/
LOCATION:Calvary Lutheran Church – Richland Hills\, 7620 Baker Blvd\, Richland Hills\, TX\, 76118\, United States
ATTACH;FMTTYPE=image/jpeg:https://www.ntnl.org/wp-content/uploads/2024/03/Richland-Hills-April-22.jpg
ORGANIZER;CN="Calvary Lutheran Church - Richland Hills":MAILTO:calvary@calvaryftw.org
GEO:32.8082274;-97.2131714
X-APPLE-STRUCTURED-LOCATION;VALUE=URI;X-ADDRESS=Calvary Lutheran Church – Richland Hills 7620 Baker Blvd Richland Hills TX 76118 United States;X-APPLE-RADIUS=500;X-TITLE=7620 Baker Blvd:geo:-97.2131714,32.8082274
END:VEVENT
END:VCALENDAR