BEGIN:VCALENDAR
VERSION:2.0
PRODID:-//Northern Texas - Northern Louisiana Synod, ELCA - ECPv6.15.15//NONSGML v1.0//EN
CALSCALE:GREGORIAN
METHOD:PUBLISH
X-WR-CALNAME:Northern Texas - Northern Louisiana Synod, ELCA
X-ORIGINAL-URL:https://www.ntnl.org
X-WR-CALDESC:Events for Northern Texas - Northern Louisiana Synod, ELCA
REFRESH-INTERVAL;VALUE=DURATION:PT1H
X-Robots-Tag:noindex
X-PUBLISHED-TTL:PT1H
BEGIN:VTIMEZONE
TZID:America/Chicago
BEGIN:DAYLIGHT
TZOFFSETFROM:-0600
TZOFFSETTO:-0500
TZNAME:CDT
DTSTART:20270314T080000
END:DAYLIGHT
BEGIN:STANDARD
TZOFFSETFROM:-0500
TZOFFSETTO:-0600
TZNAME:CST
DTSTART:20271107T070000
END:STANDARD
BEGIN:DAYLIGHT
TZOFFSETFROM:-0600
TZOFFSETTO:-0500
TZNAME:CDT
DTSTART:20280312T080000
END:DAYLIGHT
BEGIN:STANDARD
TZOFFSETFROM:-0500
TZOFFSETTO:-0600
TZNAME:CST
DTSTART:20281105T070000
END:STANDARD
BEGIN:DAYLIGHT
TZOFFSETFROM:-0600
TZOFFSETTO:-0500
TZNAME:CDT
DTSTART:20290311T080000
END:DAYLIGHT
BEGIN:STANDARD
TZOFFSETFROM:-0500
TZOFFSETTO:-0600
TZNAME:CST
DTSTART:20291104T070000
END:STANDARD
END:VTIMEZONE
BEGIN:VEVENT
DTSTART;TZID=America/Chicago:20280125T140000
DTEND;TZID=America/Chicago:20280125T150000
DTSTAMP:20260206T092454
CREATED:20200721T214838Z
LAST-MODIFIED:20200721T214838Z
UID:45444-1832421600-1832425200@www.ntnl.org
SUMMARY:First Call Pastors Check-in
DESCRIPTION:Fourth Tuesdays \n2:00 PM Central Time (US and Canada) \nContact kelsey@ntnl.org for login information
URL:https://www.ntnl.org/event/first-call-pastors-check-in/2028-01-25/
CATEGORIES:NT-NL Synod
ORGANIZER;CN="NT-NL Synod%2C ELCA":MAILTO:office@ntnl.org
END:VEVENT
BEGIN:VEVENT
DTSTART;TZID=America/Chicago:20280125T140000
DTEND;TZID=America/Chicago:20280125T150000
DTSTAMP:20260206T092454
CREATED:20240822T144516Z
LAST-MODIFIED:20240822T144516Z
UID:45443-1832421600-1832425200@www.ntnl.org
SUMMARY:First Call Pastors Check-In
DESCRIPTION:This is a time for our first call pastors to get together virtually to check in with Pastor Kelsey\, our Bishop’s Associate for Leadership Formation and Congregational Care. For more information and the Zoom information please email Pastor Kelsey at kelsey@ntnl.org
URL:https://www.ntnl.org/event/first-call-pastors-check-in-2/2028-01-25/
END:VEVENT
END:VCALENDAR