BEGIN:VCALENDAR
VERSION:2.0
PRODID:-//Northern Texas - Northern Louisiana Synod, ELCA - ECPv6.15.20//NONSGML v1.0//EN
CALSCALE:GREGORIAN
METHOD:PUBLISH
X-WR-CALNAME:Northern Texas - Northern Louisiana Synod, ELCA
X-ORIGINAL-URL:https://www.ntnl.org
X-WR-CALDESC:Events for Northern Texas - Northern Louisiana Synod, ELCA
REFRESH-INTERVAL;VALUE=DURATION:PT1H
X-Robots-Tag:noindex
X-PUBLISHED-TTL:PT1H
BEGIN:VTIMEZONE
TZID:America/Chicago
BEGIN:DAYLIGHT
TZOFFSETFROM:-0600
TZOFFSETTO:-0500
TZNAME:CDT
DTSTART:20170312T080000
END:DAYLIGHT
BEGIN:STANDARD
TZOFFSETFROM:-0500
TZOFFSETTO:-0600
TZNAME:CST
DTSTART:20171105T070000
END:STANDARD
BEGIN:DAYLIGHT
TZOFFSETFROM:-0600
TZOFFSETTO:-0500
TZNAME:CDT
DTSTART:20180311T080000
END:DAYLIGHT
BEGIN:STANDARD
TZOFFSETFROM:-0500
TZOFFSETTO:-0600
TZNAME:CST
DTSTART:20181104T070000
END:STANDARD
BEGIN:DAYLIGHT
TZOFFSETFROM:-0600
TZOFFSETTO:-0500
TZNAME:CDT
DTSTART:20190310T080000
END:DAYLIGHT
BEGIN:STANDARD
TZOFFSETFROM:-0500
TZOFFSETTO:-0600
TZNAME:CST
DTSTART:20191103T070000
END:STANDARD
END:VTIMEZONE
BEGIN:VEVENT
DTSTART;TZID=America/Chicago:20180917T090000
DTEND;TZID=America/Chicago:20180917T160000
DTSTAMP:20260422T185343
CREATED:20180731T225955Z
LAST-MODIFIED:20180731T230323Z
UID:20164-1537174800-1537200000@www.ntnl.org
SUMMARY:Boundary Training: Healthy Relationships in Ministry
DESCRIPTION:Brite Divinity School will offer Boundary Training: Healthy Relationships in Ministry on September 17 from 9:00 to 4:00. This training will cover such things as: discerning the importance of healthy boundaries for building community; identifying behavior in self and others that can potentially compromise healthy relationships; developing professional ethics that sustain ministry; examining the dynamics in communities where clergy misconduct has occurred; and creating strategies for maintaining healthy relationships with self\, others\, and God. This workshop is intended to meet boundary training criteria for ministerial standing. \nA certificate will be given at the end of the workshop for six contact hours of continuing education in boundary training. (Please submit your certificate to jeanne@ntnl.org to add to your Rostered Minister file in our database.) \nThe workshop will be led by Rev. Dr. Joretta Marshall\, Executive Vice President and Dean and Professor of Pastoral Theology and Care\, and Rev. Dr. Timothy Robinson\, Alberta H. and Harold L. Lunger Associate Professor of Spiritual Disciplines and Resources\, at Brite. \nRegistration is $20 for the day and does not include lunch. For more information\, call 817.257.7582 or email e.theilig@tcu.edu. \nLocation: University Christian Church\, Fort Worth\, TX
URL:https://www.ntnl.org/event/boundary-training-healthy-relationships-in-ministry/
END:VEVENT
BEGIN:VEVENT
DTSTART;VALUE=DATE:20180920
DTEND;VALUE=DATE:20180923
DTSTAMP:20260422T185343
CREATED:20161108T060000Z
LAST-MODIFIED:20180508T203335Z
UID:16187-1537401600-1537660799@www.ntnl.org
SUMMARY:Synod Council Meeting
DESCRIPTION:Thursday\, September 20: Synod Council New Member Orientation \nFriday\, September 21 – Saturday\, September 22: Synod Council Retreat and Meetings
URL:https://www.ntnl.org/event/synod-council-meeting-sep-2018/
LOCATION:Christ Evangelical Lutheran Mission Center at Briarwood\, 680 Copper Canyon Rd.\, Argyle\, TX\, 76226\, United States
ORGANIZER;CN="NT-NL Synod%2C ELCA":MAILTO:office@ntnl.org
GEO:33.0908265;-97.1099253
X-APPLE-STRUCTURED-LOCATION;VALUE=URI;X-ADDRESS=Christ Evangelical Lutheran Mission Center at Briarwood 680 Copper Canyon Rd. Argyle TX 76226 United States;X-APPLE-RADIUS=500;X-TITLE=680 Copper Canyon Rd.:geo:-97.1099253,33.0908265
END:VEVENT
BEGIN:VEVENT
DTSTART;VALUE=DATE:20180921
DTEND;VALUE=DATE:20180924
DTSTAMP:20260422T185343
CREATED:20180731T203738Z
LAST-MODIFIED:20180731T203738Z
UID:20153-1537488000-1537747199@www.ntnl.org
SUMMARY:Middle School Retreat
DESCRIPTION:The Middle School Retreat will be using the “This Changes Everything” theme. The weekend is for 6th-8th grades and begins on September 21st 7:00 PM and ends September 23rd 11:00 AM.
URL:https://www.ntnl.org/event/middle-school-retreat/
LOCATION:Briarwood Leadership Center\, 670 Copper Canyon Rd.\, Argyle\, TX\, 76226\, United States
CATEGORIES:Briarwood Leadership Center
ORGANIZER;CN="Briarwood Leadership Center":MAILTO:bw@briarwoodretreat.org
GEO:33.0886127;-97.1074111
X-APPLE-STRUCTURED-LOCATION;VALUE=URI;X-ADDRESS=Briarwood Leadership Center 670 Copper Canyon Rd. Argyle TX 76226 United States;X-APPLE-RADIUS=500;X-TITLE=670 Copper Canyon Rd.:geo:-97.1074111,33.0886127
END:VEVENT
BEGIN:VEVENT
DTSTART;VALUE=DATE:20180922
DTEND;VALUE=DATE:20180923
DTSTAMP:20260422T185343
CREATED:20180524T204117Z
LAST-MODIFIED:20180524T204138Z
UID:19583-1537574400-1537660799@www.ntnl.org
SUMMARY:MEF Board meeting
DESCRIPTION:
URL:https://www.ntnl.org/event/mef-board-meeting-sep-18/
LOCATION:Briarwood Leadership Center\, 670 Copper Canyon Rd.\, Argyle\, TX\, 76226\, United States
CATEGORIES:Mission Endowment Fund
ATTACH;FMTTYPE=image/jpeg:https://www.ntnl.org/wp-content/uploads/2017/07/MEF.jpg
GEO:33.0886127;-97.1074111
X-APPLE-STRUCTURED-LOCATION;VALUE=URI;X-ADDRESS=Briarwood Leadership Center 670 Copper Canyon Rd. Argyle TX 76226 United States;X-APPLE-RADIUS=500;X-TITLE=670 Copper Canyon Rd.:geo:-97.1074111,33.0886127
END:VEVENT
END:VCALENDAR