BEGIN:VCALENDAR
VERSION:2.0
PRODID:-//Northern Texas - Northern Louisiana Synod, ELCA - ECPv6.15.20//NONSGML v1.0//EN
CALSCALE:GREGORIAN
METHOD:PUBLISH
X-WR-CALNAME:Northern Texas - Northern Louisiana Synod, ELCA
X-ORIGINAL-URL:https://www.ntnl.org
X-WR-CALDESC:Events for Northern Texas - Northern Louisiana Synod, ELCA
REFRESH-INTERVAL;VALUE=DURATION:PT1H
X-Robots-Tag:noindex
X-PUBLISHED-TTL:PT1H
BEGIN:VTIMEZONE
TZID:America/Chicago
BEGIN:DAYLIGHT
TZOFFSETFROM:-0600
TZOFFSETTO:-0500
TZNAME:CDT
DTSTART:20170312T080000
END:DAYLIGHT
BEGIN:STANDARD
TZOFFSETFROM:-0500
TZOFFSETTO:-0600
TZNAME:CST
DTSTART:20171105T070000
END:STANDARD
BEGIN:DAYLIGHT
TZOFFSETFROM:-0600
TZOFFSETTO:-0500
TZNAME:CDT
DTSTART:20180311T080000
END:DAYLIGHT
BEGIN:STANDARD
TZOFFSETFROM:-0500
TZOFFSETTO:-0600
TZNAME:CST
DTSTART:20181104T070000
END:STANDARD
BEGIN:DAYLIGHT
TZOFFSETFROM:-0600
TZOFFSETTO:-0500
TZNAME:CDT
DTSTART:20190310T080000
END:DAYLIGHT
BEGIN:STANDARD
TZOFFSETFROM:-0500
TZOFFSETTO:-0600
TZNAME:CST
DTSTART:20191103T070000
END:STANDARD
END:VTIMEZONE
BEGIN:VEVENT
DTSTART;VALUE=DATE:20180921
DTEND;VALUE=DATE:20180924
DTSTAMP:20260421T022645
CREATED:20180731T203738Z
LAST-MODIFIED:20180731T203738Z
UID:20153-1537488000-1537747199@www.ntnl.org
SUMMARY:Middle School Retreat
DESCRIPTION:The Middle School Retreat will be using the “This Changes Everything” theme. The weekend is for 6th-8th grades and begins on September 21st 7:00 PM and ends September 23rd 11:00 AM.
URL:https://www.ntnl.org/event/middle-school-retreat/
LOCATION:Briarwood Leadership Center\, 670 Copper Canyon Rd.\, Argyle\, TX\, 76226\, United States
CATEGORIES:Briarwood Leadership Center
ORGANIZER;CN="Briarwood Leadership Center":MAILTO:bw@briarwoodretreat.org
GEO:33.0886127;-97.1074111
X-APPLE-STRUCTURED-LOCATION;VALUE=URI;X-ADDRESS=Briarwood Leadership Center 670 Copper Canyon Rd. Argyle TX 76226 United States;X-APPLE-RADIUS=500;X-TITLE=670 Copper Canyon Rd.:geo:-97.1074111,33.0886127
END:VEVENT
BEGIN:VEVENT
DTSTART;VALUE=DATE:20180924
DTEND;VALUE=DATE:20180925
DTSTAMP:20260421T022645
CREATED:20180731T224751Z
LAST-MODIFIED:20180731T224751Z
UID:20161-1537747200-1537833599@www.ntnl.org
SUMMARY:The Church of the Damascus Road Golf Outing and Fund Raiser
DESCRIPTION:The Church of the Damascus Road is a ministry that assists those people that are imprisoned as well as those that are out and trying to start over.  This Ministry is in the need of funds to continue to provide services to the members of the church and to grow the ministry to help those struggling.  We hope that you will join us in a day of golf and support of the important work being done! \nClick here to access a flyer with all the details and to register / become a sponsor.
URL:https://www.ntnl.org/event/the-church-of-the-damascus-road-golf-outing-and-fund-raiser/
LOCATION:The Golf Club Fossil Creek\, 3401 Clubgate Dr\, Fort Worth\, TX\, 76137\, United States
ORGANIZER;CN="The Church of the Damascus Road":MAILTO:dan.lund7153@gmail.com
GEO:32.8558292;-97.3098864
X-APPLE-STRUCTURED-LOCATION;VALUE=URI;X-ADDRESS=The Golf Club Fossil Creek 3401 Clubgate Dr Fort Worth TX 76137 United States;X-APPLE-RADIUS=500;X-TITLE=3401 Clubgate Dr:geo:-97.3098864,32.8558292
END:VEVENT
BEGIN:VEVENT
DTSTART;VALUE=DATE:20180924
DTEND;VALUE=DATE:20180927
DTSTAMP:20260421T022645
CREATED:20180802T184420Z
LAST-MODIFIED:20180802T201856Z
UID:20175-1537747200-1538006399@www.ntnl.org
SUMMARY:2018 First Call Retreat
DESCRIPTION:It’s time yet again for our annual First Call Retreat. This year\, it will be held at Briarwood Retreat Center from Monday\, September 24\, to Wednesday\, September 26. Our theme this year is about tending to your own spiritual care and sharing best practices with each other. \nThere will be: \n* Fellowship & free time \n* Bible study\, worship\, and devotional elements \n* time with some spiritual directors to learn about the practice \n* opportunities for you to share with each other about your own best practices. \n* text study group time to prepare for the upcoming Sunday (if you desire) \nWhat we need to know from y’all is\, are there spiritual/relaxation practices you do that you would be willing to share/teach/guide during our Tuesday afternoon session? If so\, please let us know on your registration form. That will be helpful as we continue to develop the plans and schedule. We’re open to ideas of all kinds. \nThe $145 cost includes: \n* two nights lodging (double rooms with two full beds – sorry\, single rooms are not an option due to space & numbers) \n* breakfast & dinner for both days \n* lunch on Tuesday (lunch Monday & Wednesday are on your own\, but there are plenty of options within a few miles of Briarwood) \nTwo of the Tuesday afternoon free time options do involve an additional cost of $25\, so if you choose to participate in archery or the zip line/ropes activity at Briarwood\, please indicate that when you register\, and that cost will be added to your registration. \nWe realize that for some of you this registration cost may exceed your budget. If it is a hardship for you\, please let us know. We also know that some of you have generous continuing education budgets that may allow you to contribute to help underwrite the cost for those who need some financial assistance. If that is the case\, there is an option to do that as well with your registration. \nWe look forward to our time together in September! \nREGISTER HERE.
URL:https://www.ntnl.org/event/2018-first-call-retreat/
LOCATION:Briarwood Leadership Center\, 670 Copper Canyon Rd.\, Argyle\, TX\, 76226\, United States
ORGANIZER;CN="NT-NL Synod%2C ELCA":MAILTO:office@ntnl.org
GEO:33.0886127;-97.1074111
X-APPLE-STRUCTURED-LOCATION;VALUE=URI;X-ADDRESS=Briarwood Leadership Center 670 Copper Canyon Rd. Argyle TX 76226 United States;X-APPLE-RADIUS=500;X-TITLE=670 Copper Canyon Rd.:geo:-97.1074111,33.0886127
END:VEVENT
BEGIN:VEVENT
DTSTART;VALUE=DATE:20180928
DTEND;VALUE=DATE:20181001
DTSTAMP:20260421T022645
CREATED:20180531T182839Z
LAST-MODIFIED:20180531T182839Z
UID:19628-1538092800-1538351999@www.ntnl.org
SUMMARY:Addiction & Faith Conference
DESCRIPTION:For Congregations\, Clergy\, & Care Givers \nSeptember 28-30 \nBloomington\, MN \n​Addiction in every form\, including the current opioid problem\, is ravaging our world. ​ \n​How will we\, as people of faith\, respond? \n \nClick here for full details and to register. \nOpen to anyone interested in exploring the devastation of addiction and the remarkable healing process of faith. Together\, we’ll enhance our knowledge about addiction recovery\, share stories of learning and hope\, and celebrate our faith in God’s abiding grace. Featuring: \n\nInternationally-known keynote speakers\nInteractive workshops and breakout sessions\n\nCEU’s available for nurses and health care professionals \nYou’re Invited to Join Us!\nFrom the world of church: clergy\, synod staff\, deacons and deaconesses\, parish nurses\, youth leaders\, addiction awareness teams\, congregants\, and the community of people in recovery.\nFrom the world of addiction treatment: treatment center staff\, healthcare professionals. \nThroughout the Addiction and Faith Conference: \n\n12-Step Meetings\nRecovery Yoga Meditation Room (always open!)\nConscious Contact (11th Step Meeting with drumming!)\nTherapeutic Massage (fee\, sign up to save your space!)\nSpiritual Direction (free\, sign up to save your space!)\nMusic\nPrayer\nWorship
URL:https://www.ntnl.org/event/addiction-faith-conference/
ATTACH;FMTTYPE=image/png:https://www.ntnl.org/wp-content/uploads/2018/05/Addiction-Faith-Conference-logo.png
END:VEVENT
BEGIN:VEVENT
DTSTART;TZID=America/Chicago:20180929T093000
DTEND;TZID=America/Chicago:20180929T153000
DTSTAMP:20260421T022645
CREATED:20180612T152301Z
LAST-MODIFIED:20180828T142016Z
UID:19643-1538213400-1538235000@www.ntnl.org
SUMMARY:Panhandle Fall Conference: An introduction to The Generosity Project
DESCRIPTION:The Generosity Project is a lively\, interactive\, intergenerational workshop\, modeling a congregation’s potential to connect and equip all ages and generations as steward leaders in the congregation and in the home. \nEquipping households to daily respond to God’s extravagant generosity is a year round opportunity. Equipping individuals of each generation\, age and stage to live as grateful stewards offers endless\, creative possibilities. \nLed by Linda Staats\, the ELCA Generosity Project Coordinator \nSt. John Lutheran Church\, Wilson\, TX \nSaturday\, September 29\, 2018 \nCongregations from across the NT-NL are invited to participate for FREE. \nMulti-generational participation is highly encouraged. \nPlease RSVP by September 20 so that we can prepare adequate meeting space and food. Email: dtfreitag@windstream.net or Text: 806-759-1584 \nSchedule for the Day \n9:30 AM Welcome Reception & Registration \n10:00 AM Worship with Holy Communion \n11:00 AM The Generosity Project \n12:30 PM Lunch (Freewill Offering) \n1:30 PM The Generosity Project Continued \n3:00 PM Panhandle Conference Business Meeting \n3:30 PM Sending \nClick here to access a flyer with full details.
URL:https://www.ntnl.org/event/panhandle-fall-conference-an-introduction-to-the-generosity-project/
LOCATION:St. John Lutheran Church – Wilson\, 1305 Dickson Ave\, Wilson\, TX\, 79381\, United States
GEO:33.3181471;-101.7284264
X-APPLE-STRUCTURED-LOCATION;VALUE=URI;X-ADDRESS=St. John Lutheran Church – Wilson 1305 Dickson Ave Wilson TX 79381 United States;X-APPLE-RADIUS=500;X-TITLE=1305 Dickson Ave:geo:-101.7284264,33.3181471
END:VEVENT
END:VCALENDAR