BEGIN:VCALENDAR
VERSION:2.0
PRODID:-//Northern Texas - Northern Louisiana Synod, ELCA - ECPv6.15.20//NONSGML v1.0//EN
CALSCALE:GREGORIAN
METHOD:PUBLISH
X-ORIGINAL-URL:https://www.ntnl.org
X-WR-CALDESC:Events for Northern Texas - Northern Louisiana Synod, ELCA
REFRESH-INTERVAL;VALUE=DURATION:PT1H
X-Robots-Tag:noindex
X-PUBLISHED-TTL:PT1H
BEGIN:VTIMEZONE
TZID:America/Chicago
BEGIN:DAYLIGHT
TZOFFSETFROM:-0600
TZOFFSETTO:-0500
TZNAME:CDT
DTSTART:20170312T080000
END:DAYLIGHT
BEGIN:STANDARD
TZOFFSETFROM:-0500
TZOFFSETTO:-0600
TZNAME:CST
DTSTART:20171105T070000
END:STANDARD
BEGIN:DAYLIGHT
TZOFFSETFROM:-0600
TZOFFSETTO:-0500
TZNAME:CDT
DTSTART:20180311T080000
END:DAYLIGHT
BEGIN:STANDARD
TZOFFSETFROM:-0500
TZOFFSETTO:-0600
TZNAME:CST
DTSTART:20181104T070000
END:STANDARD
BEGIN:DAYLIGHT
TZOFFSETFROM:-0600
TZOFFSETTO:-0500
TZNAME:CDT
DTSTART:20190310T080000
END:DAYLIGHT
BEGIN:STANDARD
TZOFFSETFROM:-0500
TZOFFSETTO:-0600
TZNAME:CST
DTSTART:20191103T070000
END:STANDARD
END:VTIMEZONE
BEGIN:VEVENT
DTSTART;TZID=America/Chicago:20181012T090000
DTEND;TZID=America/Chicago:20181012T150000
DTSTAMP:20260420T045001
CREATED:20180816T215126Z
LAST-MODIFIED:20180816T215126Z
UID:20293-1539334800-1539356400@www.ntnl.org
SUMMARY:Teaching Fish to Walk: Church Systems and Adaptive Challenges
DESCRIPTION:Informative | Interactive | Provocative | Imaginative \nThe Teaching Fish to Walk: Church Systems and Adaptive Challenges workshop will have no elephants in the room. We will explore with participants in an open and provocative way the future of the Christian faith in the context of the great velocity and reach of change in North America. \nWe have no “golden” answers. But we believe that a vital\, realistic yet encouraging and collaborative conversation needs to happen. The church faces many adaptive issues\, not unlike the early church had to contend with such as defining leadership roles and establishing its own lexicon to define words to convey fresh meaning regarding what they believed and who they were. \nAdaptation means making structures or situations more suitable to the environment. Adaptation is evolutionary\, and evolution is always messy. In Germany\, for instance\, arborists have discovered that certain types of trees are beginning to grow “anxiety shoots.” With changes in climate\, trees are adapting with new root systems. Could we do less? \n“We” are two Lutheran pastors (veteran church leaders). The Rev. Dr. Jon Lee is the former Senior Pastor at King of Glory\, Dallas\, and a past president of the Dallas Clergy Association. The Rev. Dr. Pete Steinke is an internationally respected church consultant and author/speaker. Together\, they will offer presentations\, guide group activities\, and learn alongside of others. \nRemember what William Deming said: “Your system is perfectly designed to give you the results you are getting.” We will start from there. \nCost: \nEarly Registration: $40 per person (Sept 28th deadline)\nRegular Registration: $50 (or $45 for two or more from the same congregation) \nCheck payments to be made to New Visions Workshop\, or Pay online
URL:https://www.ntnl.org/event/teaching-fish-to-walk-church-systems-and-adaptive-challenges/
LOCATION:King of Glory Lutheran Church – Dallas\, 6411 LBJ Freeway ·\, Dallas\, TX\, 75240\, United States
ORGANIZER;CN="King of Glory Lutheran Church - Dallas":MAILTO:office@kingofglory.com
GEO:32.9262877;-96.79483
X-APPLE-STRUCTURED-LOCATION;VALUE=URI;X-ADDRESS=King of Glory Lutheran Church – Dallas 6411 LBJ Freeway · Dallas TX 75240 United States;X-APPLE-RADIUS=500;X-TITLE=6411 LBJ Freeway ·:geo:-96.79483,32.9262877
END:VEVENT
BEGIN:VEVENT
DTSTART;TZID=America/Chicago:20181013T100000
DTEND;TZID=America/Chicago:20181013T120000
DTSTAMP:20260420T045001
CREATED:20181011T011414Z
LAST-MODIFIED:20181011T011414Z
UID:20592-1539424800-1539432000@www.ntnl.org
SUMMARY:Public Witness Team meeting
DESCRIPTION:Virtual participation also available\, from PC\, Mac\, Linux\, iOS or Android: https://zoom.us/j/930852498 \nOr iPhone one-tap :\nUS: +16699006833\,\,930852498# or +19294362866\,\,930852498# \nOr Telephone:\nDial (for higher quality\, dial a number based on your current location):\nUS: +1 669 900 6833 or +1 929 436 2866\nMeeting ID: 930 852 498
URL:https://www.ntnl.org/event/public-witness-team-meeting-oct-2018/
LOCATION:Shepherd of Life Lutheran Church\, 715 E. Lamar Blvd.\, Arlington\, TX\, 76011\, United States
CATEGORIES:Public Witness Team
GEO:32.7652667;-97.1008227
X-APPLE-STRUCTURED-LOCATION;VALUE=URI;X-ADDRESS=Shepherd of Life Lutheran Church 715 E. Lamar Blvd. Arlington TX 76011 United States;X-APPLE-RADIUS=500;X-TITLE=715 E. Lamar Blvd.:geo:-97.1008227,32.7652667
END:VEVENT
BEGIN:VEVENT
DTSTART;TZID=America/Chicago:20181013T120000
DTEND;TZID=America/Chicago:20181013T140000
DTSTAMP:20260420T045001
CREATED:20181011T011725Z
LAST-MODIFIED:20181011T011725Z
UID:20593-1539432000-1539439200@www.ntnl.org
SUMMARY:Public Witness Book Club: Birth of a White Nation
DESCRIPTION:12:15pm – 2:00pm \nDiscussing Birth of a White Nation \nPotluck lunch
URL:https://www.ntnl.org/event/public-witness-book-club-birth-of-a-white-nation/
LOCATION:Shepherd of Life Lutheran Church\, 715 E. Lamar Blvd.\, Arlington\, TX\, 76011\, United States
CATEGORIES:Public Witness Team
GEO:32.7652667;-97.1008227
X-APPLE-STRUCTURED-LOCATION;VALUE=URI;X-ADDRESS=Shepherd of Life Lutheran Church 715 E. Lamar Blvd. Arlington TX 76011 United States;X-APPLE-RADIUS=500;X-TITLE=715 E. Lamar Blvd.:geo:-97.1008227,32.7652667
END:VEVENT
END:VCALENDAR