BEGIN:VCALENDAR
VERSION:2.0
PRODID:-//Northern Texas - Northern Louisiana Synod, ELCA - ECPv6.15.20//NONSGML v1.0//EN
CALSCALE:GREGORIAN
METHOD:PUBLISH
X-ORIGINAL-URL:https://www.ntnl.org
X-WR-CALDESC:Events for Northern Texas - Northern Louisiana Synod, ELCA
REFRESH-INTERVAL;VALUE=DURATION:PT1H
X-Robots-Tag:noindex
X-PUBLISHED-TTL:PT1H
BEGIN:VTIMEZONE
TZID:America/Chicago
BEGIN:DAYLIGHT
TZOFFSETFROM:-0600
TZOFFSETTO:-0500
TZNAME:CDT
DTSTART:20170312T080000
END:DAYLIGHT
BEGIN:STANDARD
TZOFFSETFROM:-0500
TZOFFSETTO:-0600
TZNAME:CST
DTSTART:20171105T070000
END:STANDARD
BEGIN:DAYLIGHT
TZOFFSETFROM:-0600
TZOFFSETTO:-0500
TZNAME:CDT
DTSTART:20180311T080000
END:DAYLIGHT
BEGIN:STANDARD
TZOFFSETFROM:-0500
TZOFFSETTO:-0600
TZNAME:CST
DTSTART:20181104T070000
END:STANDARD
BEGIN:DAYLIGHT
TZOFFSETFROM:-0600
TZOFFSETTO:-0500
TZNAME:CDT
DTSTART:20190310T080000
END:DAYLIGHT
BEGIN:STANDARD
TZOFFSETFROM:-0500
TZOFFSETTO:-0600
TZNAME:CST
DTSTART:20191103T070000
END:STANDARD
END:VTIMEZONE
BEGIN:VEVENT
DTSTART;VALUE=DATE:20181014
DTEND;VALUE=DATE:20181015
DTSTAMP:20260420T213042
CREATED:20180621T145554Z
LAST-MODIFIED:20181002T175915Z
UID:19739-1539475200-1539561599@www.ntnl.org
SUMMARY:The Eighth Annual Herbener Lecture: "Is It Time for Another 'Sola'? A Latino Immigrant Reading of Luther's Heidelberg Disputation and Lectures on Genesis As a Lens for Dealing With Migrants Today"
DESCRIPTION:  \nSponsored by the Luther Center of North Texas (LCNT) \nHonoring and Remembering the LCNT Founder\, Bishop Emeritus Mark B. Herbener \n  \nSunday\, 14 October 2018\, 4:00 P.M. \nChrist Lutheran Church\, 3001 Lovers Lane\, Dallas\, TX \n  \nThe Lecture\, “Is It Time for Another ‘Sola’? A Latino Immigrant Reading of Luther’s Heidelberg Disputation and Lectures on Genesis As a Lens for Dealing With Migrants Today” \nThe Lecturer\, the Rev. Dr. Leopoldo A. Sánchez M. \nThe Werner R. H. and Elizabeth R. Krause Professor of Hispanic Ministries \nDirector of the Center for Hispanic Studies \nConcordia Seminary\, St. Louis\, MO
URL:https://www.ntnl.org/event/the-eighth-annual-herbener-lecture/
LOCATION:Christ Lutheran Church – Dallas\, 3001 Lovers Lane\, Dallas\, TX\, 75225\, United States
GEO:32.8506862;-96.7793227
X-APPLE-STRUCTURED-LOCATION;VALUE=URI;X-ADDRESS=Christ Lutheran Church – Dallas 3001 Lovers Lane Dallas TX 75225 United States;X-APPLE-RADIUS=500;X-TITLE=3001 Lovers Lane:geo:-96.7793227,32.8506862
END:VEVENT
BEGIN:VEVENT
DTSTART;VALUE=DATE:20181014
DTEND;VALUE=DATE:20181017
DTSTAMP:20260420T213042
CREATED:20161108T060000Z
LAST-MODIFIED:20180905T212326Z
UID:16188-1539475200-1539734399@www.ntnl.org
SUMMARY:NT-NL Leadership Convocation
DESCRIPTION:Adaptive Leadership in Anxious Times \nREGISTER HERE! \nPresenter\nLt. Gen. (Ret.) Rick Lynch – He is formerly the commanding officer of Fort Hood and an active member of Immanuel\, Killeen. He is the author of two books Adapt or Die: Leadership Principles of an American General and Work Hard Pray Hard: The Power of Faith in Action. As a speaker\, he is in demand across the world for the unique blending of his experiences\, faith\, and knowledge of the principles of adaptive leadership. He will speak particularly on the challenges of leading adaptively in times of anxiety and change. \nKey Goals\nThe learning will be focused on informing and equipping leaders to understand the concepts of adaptive leadership particularly in anxious settings. This event is open to rostered leaders\, spouses\, lay members of congregations\, and ecumenical colleagues. \nPlanned Schedule\nSunday\, 14 October\n(Arrive anytime after 3pm to check in; Book Exchange in Shalom)\n6:00pm – Pizza and Hot hors d’oeuvres available in Streng Center\n6:45pm – Evening with the Bishop Presentation and Conversation\n8:00pm – Worship (Campfire Ring near Pavilion)\n9:00pm – Fellowship @ Quail Run \nMonday\, 15 October\n7:30am – Breakfast @ Shalom\n8:30am – Morning Prayer\n8:45am – Learning Session 1\n10:15am – Break\n10:45am – Learning Session 2\n12:30pm – Lunch\n1:30pm – Free time (Skeet\, Hiking\, Conversation with Synod Staff\, Personal time\, or Golf – contact Nick Billardello for info: 817-688-8799)\n5:00pm – Happy Hour @ Quail Run (Sponsored by Revitalizing Congregations Team)\n6:00pm – Cookout Dinner\n7:00pm – Optional Q&A with Presenter in Chapel\n8:00pm – Fellowship @ Quail Run \nTuesday\, 16 October\n7:30am – Breakfast @ Shalom\n8:15am – Hymn and Devotion\n8:30am – Learning Session 3\n9:45am – Break\n10:00am – Learning Session 4-Final Thoughts\n11:00am – Break for Setup\n11:15am – Sending Eucharist and Affirmation of Vocation \n(Please note\, due to lack of interest in 2017\, it is not good stewardship to offer lunch at Briarwood on Tuesday; please enjoy lunch at one of many options in the area\, if you so choose.) \nCosts (Held steady as last 2 years)\nCommuters: $150 (Spouse – $140) for all three days\nCommuter Daily Rates:  $55 per day (Spouse – $50 per day)\nQuail Run (Hotel rooms) – $245 (double occupancy) / Spouse – $180\nOak Grove (Cabins) – $185 (8 to 12 to a cabin) / Spouse – $100\nTrails End (Cabin) – $160 (18 person cabin) / Spouse – $100 \nIf you are in need of one of a limited number of partial scholarships\, email kris@ntnl.org with your request. \nREGISTER HERE!
URL:https://www.ntnl.org/event/leadership-convocation-2018/
LOCATION:Christ Evangelical Lutheran Mission Center at Briarwood\, 680 Copper Canyon Rd.\, Argyle\, TX\, 76226\, United States
ORGANIZER;CN="NT-NL Synod%2C ELCA":MAILTO:office@ntnl.org
GEO:33.0908265;-97.1099253
X-APPLE-STRUCTURED-LOCATION;VALUE=URI;X-ADDRESS=Christ Evangelical Lutheran Mission Center at Briarwood 680 Copper Canyon Rd. Argyle TX 76226 United States;X-APPLE-RADIUS=500;X-TITLE=680 Copper Canyon Rd.:geo:-97.1099253,33.0908265
END:VEVENT
BEGIN:VEVENT
DTSTART;VALUE=DATE:20181015
DTEND;VALUE=DATE:20181016
DTSTAMP:20260420T213042
CREATED:20180731T161619Z
LAST-MODIFIED:20180731T161619Z
UID:20137-1539561600-1539647999@www.ntnl.org
SUMMARY:An Interdisciplinary Dialogue: The ABC's of Theology and Criminal Justice Reform and How They Impact the Lives of School Children of Color
DESCRIPTION:Join SMU | Perkins Office of External Programs for this panel discussion exploring the ways in which theology and criminal justice reform influence the systemic conditions that set a path from school to prison for many children of color today. Sponsored by the Center for the Study of Latino/a Christianity and Religions\, this event is FREE and open to all with an interest. Online registration will be available August 15. Contact Isabel Docampo for more information.
URL:https://www.ntnl.org/event/an-interdisciplinary-dialogue-the-abcs-of-theology-and-criminal-justice-reform-and-how-they-impact-the-lives-of-school-children-of-color/
LOCATION:SMU | Perkins School of Theology\, PO Box 750133\, Dallas\, TX\, 75275\, United States
GEO:32.84;-96.78
X-APPLE-STRUCTURED-LOCATION;VALUE=URI;X-ADDRESS=SMU | Perkins School of Theology PO Box 750133 Dallas TX 75275 United States;X-APPLE-RADIUS=500;X-TITLE=PO Box 750133:geo:-96.78,32.84
END:VEVENT
BEGIN:VEVENT
DTSTART;VALUE=DATE:20181019
DTEND;VALUE=DATE:20181020
DTSTAMP:20260420T213042
CREATED:20180731T203411Z
LAST-MODIFIED:20180731T203411Z
UID:20155-1539907200-1539993599@www.ntnl.org
SUMMARY:Briarwood Golf Outing / Fundraiser
DESCRIPTION:Funds raised from this Invitational Golf Outing are used to make camp affordable for all children and youth and provides camperships for those with specific needs. Thank you very much for your support of this endeavor and for your continued support of the ministry at Briarwood!
URL:https://www.ntnl.org/event/briarwood-golf-outing-fundraiser/
LOCATION:Bridlewood Golf Club\, 4000 Windsor Dr.\, Flower Mound\, TX\, 75028\, United States
CATEGORIES:Briarwood Leadership Center
ORGANIZER;CN="Briarwood Leadership Center":MAILTO:bw@briarwoodretreat.org
GEO:33.0492689;-97.0905356
X-APPLE-STRUCTURED-LOCATION;VALUE=URI;X-ADDRESS=Bridlewood Golf Club 4000 Windsor Dr. Flower Mound TX 75028 United States;X-APPLE-RADIUS=500;X-TITLE=4000 Windsor Dr.:geo:-97.0905356,33.0492689
END:VEVENT
BEGIN:VEVENT
DTSTART;TZID=America/Chicago:20181020T090000
DTEND;TZID=America/Chicago:20181020T153000
DTSTAMP:20260420T213042
CREATED:20170531T050000Z
LAST-MODIFIED:20180321T165257Z
UID:16254-1540026000-1540049400@www.ntnl.org
SUMMARY:Parish Lay Ministry Academy\, Fall 2018\, Course 2
DESCRIPTION:
URL:https://www.ntnl.org/event/plma-fall-2018-course-2/
LOCATION:Christ Evangelical Lutheran Mission Center at Briarwood\, 680 Copper Canyon Rd.\, Argyle\, TX\, 76226\, United States
CATEGORIES:Parish Lay Ministry Academy
ATTACH;FMTTYPE=image/jpeg:https://www.ntnl.org/wp-content/uploads/2017/04/plmbw.jpg
ORGANIZER;CN="NT-NL Parish Lay Ministry Academy":MAILTO:DeanPLMA@ntnl.org
GEO:33.0908265;-97.1099253
X-APPLE-STRUCTURED-LOCATION;VALUE=URI;X-ADDRESS=Christ Evangelical Lutheran Mission Center at Briarwood 680 Copper Canyon Rd. Argyle TX 76226 United States;X-APPLE-RADIUS=500;X-TITLE=680 Copper Canyon Rd.:geo:-97.1099253,33.0908265
END:VEVENT
BEGIN:VEVENT
DTSTART;TZID=America/Chicago:20181020T160000
DTEND;TZID=America/Chicago:20181020T190000
DTSTAMP:20260420T213042
CREATED:20171025T153216Z
LAST-MODIFIED:20180920T165251Z
UID:17664-1540051200-1540062000@www.ntnl.org
SUMMARY:MEF "Seeds That Change" Dinner/Fundraiser
DESCRIPTION:REGISTER / DONATE HERE. \n\n“Seeds That Change” \nThe Executive Director and Board \nof the \nMission Endowment Fund \nNT-NL Synod of the ELCA \nwould be honored by your presence at the \nAnnual Dinner and Fund Raiser \nwith \nSilent Auction/Entertainment \nSaturday\, October 20\, 2018\, 4:00-7:00 p.m. \nTicket Donation: $40.00 \nTable of 8 Discounted at $300.00 \nCalvary Lutheran Church \n7020 Baker Blvd. Richland Hills\, TX 76118 \n\nREGISTER / DONATE HERE. \n\n“Semillas Que Cambian” \nla Directora Ejecutiva y el Consejo \nde \nMission Endowment Fund \nNT-NL Synod of the ELCA \nse Honra en invitarle a la \nCena Anual para Recaudacion de Fondos \ncon \nSubantas Silenciosa y en Vivo/con Entretenimiento  \nSabado 20 de Octobre de 2018\, 4:00-7:00 p.m. \nDonacion: $40.00 \nMesa para 8 con Descuento: $300.00 \nCalvary Lutheran Church \n7020 Baker Blvd.\, Richland Hills\, TX 76118 \n\nREGISTRARSE / DONAR AQUÍ.
URL:https://www.ntnl.org/event/2018-mef-seeds-dinner/
LOCATION:Calvary Lutheran Church – Richland Hills\, 7620 Baker Blvd\, Richland Hills\, TX\, 76118\, United States
CATEGORIES:Mission Endowment Fund
GEO:32.8082274;-97.2131714
X-APPLE-STRUCTURED-LOCATION;VALUE=URI;X-ADDRESS=Calvary Lutheran Church – Richland Hills 7620 Baker Blvd Richland Hills TX 76118 United States;X-APPLE-RADIUS=500;X-TITLE=7620 Baker Blvd:geo:-97.2131714,32.8082274
END:VEVENT
END:VCALENDAR