BEGIN:VCALENDAR
VERSION:2.0
PRODID:-//Northern Texas - Northern Louisiana Synod, ELCA - ECPv6.15.20//NONSGML v1.0//EN
CALSCALE:GREGORIAN
METHOD:PUBLISH
X-ORIGINAL-URL:https://www.ntnl.org
X-WR-CALDESC:Events for Northern Texas - Northern Louisiana Synod, ELCA
REFRESH-INTERVAL;VALUE=DURATION:PT1H
X-Robots-Tag:noindex
X-PUBLISHED-TTL:PT1H
BEGIN:VTIMEZONE
TZID:America/Chicago
BEGIN:DAYLIGHT
TZOFFSETFROM:-0600
TZOFFSETTO:-0500
TZNAME:CDT
DTSTART:20180311T080000
END:DAYLIGHT
BEGIN:STANDARD
TZOFFSETFROM:-0500
TZOFFSETTO:-0600
TZNAME:CST
DTSTART:20181104T070000
END:STANDARD
BEGIN:DAYLIGHT
TZOFFSETFROM:-0600
TZOFFSETTO:-0500
TZNAME:CDT
DTSTART:20190310T080000
END:DAYLIGHT
BEGIN:STANDARD
TZOFFSETFROM:-0500
TZOFFSETTO:-0600
TZNAME:CST
DTSTART:20191103T070000
END:STANDARD
BEGIN:DAYLIGHT
TZOFFSETFROM:-0600
TZOFFSETTO:-0500
TZNAME:CDT
DTSTART:20200308T080000
END:DAYLIGHT
BEGIN:STANDARD
TZOFFSETFROM:-0500
TZOFFSETTO:-0600
TZNAME:CST
DTSTART:20201101T070000
END:STANDARD
END:VTIMEZONE
BEGIN:VEVENT
DTSTART;VALUE=DATE:20190426
DTEND;VALUE=DATE:20190428
DTSTAMP:20260421T173517
CREATED:20180427T152910Z
LAST-MODIFIED:20190424T160632Z
UID:19433-1556236800-1556409599@www.ntnl.org
SUMMARY:2019 Synod Assembly
DESCRIPTION:THEME | TEMA \nWhat happens in the church doesn’t stay in the church | Lo que pasa en la iglesia no se queda en la iglesia \nSCRIPTURE | SAGRADA ESCRITURA \n“In the same way\, let your light shine before others\, so that they may see your good works and give glory to your God in heaven.” Matthew 5:16 | “De la misma manera\, deja que tu luz brille ante los demás\, para que puedan ver tus buenas obras y dar gloria a tu Dios en el cielo.” Mateo 5:16 \nThe Assembly offering will be split\, half to the Mission Endowment Fund and half to Metroplex West Conference (our host conference) to designate for a mission within the conference. \nOur next Synod Assembly\, April 26-27\, 2019\, is being hosted by\, and will take place at\, Calvary Lutheran Church\, 7620 Baker Blvd\, Richland Hills\, TX – (817) 284-8724 \nAssembly will begin at 1pm on Friday and will end by 6pm on Saturday. Calvary will have Western Worship on Sunday. Everyone is welcome to stay over and join. \nOur Assembly Reference Materials (formerly called the Book of Reports) can be found here\, including an updated agenda\, and may continue to be updated in the coming days. \n \nDisplayer / Vendor Registration is CLOSED. We have maxed out the space in the church! We appreciate your interest. \nOnline Registration is CLOSED. You are still welcome to attend\, and you can register on-site. \nRegistration Fees: \nVoting Member Early Bird (until March 14) = $150 \nVoting Member Regular (March 15 – April 15) = $165 \nVoting Member On-Site = $200 \nRetired Rostered Voting Member Early Bird (until March 14) = $100 \nRetired Rostered Voting Member Regular (March 15 – April 15) = $110 \nRetired Rostered Voting Member On-Site = $125 \nVisitors Early Bird (until March 14) = $25 \nVisitors Regular (March 15 – April 15) = $35 \nVisitors On-Site = $75 \nVendors = $100 \nDisplayers = $50 \nHard Copy of Assembly Reference Materials (previously called the Book of Reports) = $25 \nMeals provided = 2 \nHotels being used – rate of $99 per night (plus taxes & fees) – Cut-off date for guaranteed hotel rate was March 28\, 2019 \nHeadquarters Hotel – LaQuinta and Suites*\n653 NE Loop 820\, Richland Hills (may show as Hurst)\, TX 76118\n817-595-4442 \nComfort Suites*\n643 NE Loop 820\, Richland Hills (may show as Hurst)\, TX\n817-595-3332 \n* share a parking lot and are 1.5 miles from Calvary Lutheran\, Richland Hills\, just down the service road. \nHilton Garden Inn\n1615 Campus Dr.\, Hurst\, TX 76054\n817-281-5800\n3.5 miles from Calvary Lutheran\, Richland Hills \nTexas Hotel Occupancy Tax Forms
URL:https://www.ntnl.org/event/2019-synod-assembly/
LOCATION:Calvary Lutheran Church – Richland Hills\, 7620 Baker Blvd\, Richland Hills\, TX\, 76118\, United States
ORGANIZER;CN="NT-NL Synod%2C ELCA":MAILTO:office@ntnl.org
GEO:32.8082274;-97.2131714
X-APPLE-STRUCTURED-LOCATION;VALUE=URI;X-ADDRESS=Calvary Lutheran Church – Richland Hills 7620 Baker Blvd Richland Hills TX 76118 United States;X-APPLE-RADIUS=500;X-TITLE=7620 Baker Blvd:geo:-97.2131714,32.8082274
END:VEVENT
BEGIN:VEVENT
DTSTART;VALUE=DATE:20190426
DTEND;VALUE=DATE:20190429
DTSTAMP:20260421T173517
CREATED:20180914T003404Z
LAST-MODIFIED:20190323T180918Z
UID:20436-1556236800-1556495999@www.ntnl.org
SUMMARY:Houston Gathering Reunion at Synod Assembly
DESCRIPTION:We are excited to announce that as part of the 2019 NT-NL Synod Assembly we invite high school youth to gather in Fort Worth for a \nNT-NL HOUSTON GATHERING REUNION\nApril 26-28\, 2019 \nWorship\,\nService Projects\,\nDinner\nEvening Out with the Bishop \nDue to a grant\, we are able to offer this event for only $50/person (based on quad hotel occupancy)\, plus a $2 fee per credit card charge. We encourage groups of 4 or more youth to please register with an adult designated to the youth part of the Assembly that is able to transport your teens to the service project and “evening out.” We can help provide chaperones/transportation for small groups. \nBlessings\,\nThe Planning Team\ninfo@ntnlyouth.org \nAll NT-NL High School Youth are invited to come celebrate a year of BEING THE CHANGE! \nThis event will happen concurrently with the NT-NL SYNOD ASSEMBLY. \nRegister online. \nClick here for a registration packet with full details.
URL:https://www.ntnl.org/event/houston-gathering-reunion-at-synod-assembly/
LOCATION:Calvary Lutheran Church – Richland Hills\, 7620 Baker Blvd\, Richland Hills\, TX\, 76118\, United States
ORGANIZER;CN="NT-NL Youth Leaders":MAILTO:NTNLYouthLeaders@yahoo.com
GEO:32.8082274;-97.2131714
X-APPLE-STRUCTURED-LOCATION;VALUE=URI;X-ADDRESS=Calvary Lutheran Church – Richland Hills 7620 Baker Blvd Richland Hills TX 76118 United States;X-APPLE-RADIUS=500;X-TITLE=7620 Baker Blvd:geo:-97.2131714,32.8082274
END:VEVENT
END:VCALENDAR