BEGIN:VCALENDAR
VERSION:2.0
PRODID:-//Northern Texas - Northern Louisiana Synod, ELCA - ECPv6.15.20//NONSGML v1.0//EN
CALSCALE:GREGORIAN
METHOD:PUBLISH
X-ORIGINAL-URL:https://www.ntnl.org
X-WR-CALDESC:Events for Northern Texas - Northern Louisiana Synod, ELCA
REFRESH-INTERVAL;VALUE=DURATION:PT1H
X-Robots-Tag:noindex
X-PUBLISHED-TTL:PT1H
BEGIN:VTIMEZONE
TZID:America/Chicago
BEGIN:DAYLIGHT
TZOFFSETFROM:-0600
TZOFFSETTO:-0500
TZNAME:CDT
DTSTART:20180311T080000
END:DAYLIGHT
BEGIN:STANDARD
TZOFFSETFROM:-0500
TZOFFSETTO:-0600
TZNAME:CST
DTSTART:20181104T070000
END:STANDARD
BEGIN:DAYLIGHT
TZOFFSETFROM:-0600
TZOFFSETTO:-0500
TZNAME:CDT
DTSTART:20190310T080000
END:DAYLIGHT
BEGIN:STANDARD
TZOFFSETFROM:-0500
TZOFFSETTO:-0600
TZNAME:CST
DTSTART:20191103T070000
END:STANDARD
BEGIN:DAYLIGHT
TZOFFSETFROM:-0600
TZOFFSETTO:-0500
TZNAME:CDT
DTSTART:20200308T080000
END:DAYLIGHT
BEGIN:STANDARD
TZOFFSETFROM:-0500
TZOFFSETTO:-0600
TZNAME:CST
DTSTART:20201101T070000
END:STANDARD
END:VTIMEZONE
BEGIN:VEVENT
DTSTART;VALUE=DATE:20191007
DTEND;VALUE=DATE:20191010
DTSTAMP:20260420T013324
CREATED:20180524T202344Z
LAST-MODIFIED:20190829T154312Z
UID:19582-1570406400-1570665599@www.ntnl.org
SUMMARY:Engaging Anti-Racism for the Wholeness of the Church: 2019 NT-NL Leadership Convocation
DESCRIPTION:REGISTER HERE. \nSummary \nRacism (conscious and unconscious\, explicit and implied) is a deep problem in American society. We are called to stand against racism. But how? This three-day workshop will help you and your congregations build stronger coalitions for affecting change in your communities and more effectively sharing the Good News of God’s love for the entire world. \nSessions \nDay 1 \nOur first day together lays the groundwork for our time together. We will begin by introducing foundational terms and concepts. Together\, we will determine a baseline for conversation while developing relationships of trust. We will look at imbalances of power and privilege so we can better comprehend how implicit bias shapes our interactions with others. \nDay 2 \nWe will use several tools that help facilitate our self-awareness so we can better participate in coalitional justice work. By knowing ourselves and how we are implicated in systems of race\, racism\, classism\, gender discrimination\, sexuality discrimination\, etc.\, we can better partner with others. The day will end with a recommitment to forming community for the sake of justice. \nDay 3 \nOur final session will focus on equipping all training participants with tangible tools to carry on with this work in their own communities. Each of the resources utilized throughout the training will be shared\, with further instruction on how they can be introduced and implemented. The work does not end with the end of this training; it continues in your congregations and communities. \n\nOur speaker will be Taurean Webb! \n \nTaurean J. Webb self-identifies as an activist-scholar\, teacher and former youth pastor\, specializing in “coalition training” for and within faith-based communities. Since 2012\, Webb has trained congregations\, activist groups\, community centers (such as YWCAs) and high schools\, domestically and globally\, on how to organize and build sustainable relationships\, across various categories of difference. Specifically\, in his coalition training work\, Webb offers short-term (1-day\, 3-day\, weeklong)\, longer-term (1-2 month) and custom workshops around issues such as interracial and interfaith coalition-building\, diversity and inclusion\, implicit bias\, white privilege and others subject areas. Though not all of his work is faith-based\, to Webb\, organizing for social change—and expanding the ways that communities are able to think about God—are paramount to the Christian faith commission. In other words\, he has an affinity for engaging the work of justice and social change within communities of faith\, in particular. \nWebb is a Phi Beta Kappa graduate of Morehouse College (Atlanta\, GA)\, having also completed masters degrees at Columbia University (NY) and Northwestern University (IL)\, respectively. He is currently completing a certificate in Philanthropy and Non-Profit Management at Northwestern University and concluding his PhD dissertation at Garrett-Evangelical Theological Seminary (Evanston\, IL) in the field of Theology and Ethics. \nWebb serves as the Director of the Center for the Church and the Black Experience and Instructor of Religion & Race at Garrett-Evangelical Theological Seminary. He lives in Chicago\, Il with his wife and daughter. \n\nTentative schedule: \nMonday \nMorning   Registration \nNoon   Lunch \n1:00pm   Opening Devotion \n1:30pm   Bishop Erik Greeting/Overview \n1:45pm   1st Session (3 hrs) \n4:45pm   Break \n5:00pm   Dinner \n6:00pm   2nd Session (1.5 hrs) \n7:30pm   Worship \n8:15pm   Nightcap with refreshments and snacks \nTuesday \n8:00am   Breakfast \n9:00am   Devotion \n9:15am   3rd Session (2.5 hrs) \n11:45am   Lunch \n2:00pm   4th Session (2.75 hrs) \n4:45pm   Break \n5:00pm   Worship (outside if weather permits) \n6:00pm   Dinner (outside – BBQ/cookout) \n7:00pm   5th Session (1 hr) \n8:15pm   Nightcap with refreshments and snacks \nWednesday \n8:00am   Breakfast \n8:45am   Devotion \n9:15am   6th Session (2.25 hrs) \n11:30am   Closing Prayer \nNoon   Dismissal (no lunch provided) \nThirteen (13) Continuing Education Contact Hours \n\nPricing \nThis is the third year in a row we’ve been able to keep our pricing the same\, even though the value for this training is significantly more than the cost paid by each participant. \nIf staying overnight at Briarwood for the full experience: \nQuail Run ($245 per person\, double occupancy) \nOak Grove ($185 per person\, 8-12 person cabin) \nTrails End ($160 per person\, 18-person cabin) \nIf bringing your spouse to stay with you: \nQuail Run ($180) \nOak Grove ($100) \nTrails End ($100) \nIf commuting: \n3 Days ($150) \nSpouse ($140) \nREGISTER HERE.
URL:https://www.ntnl.org/event/2019-leadership-convocation/
LOCATION:Briarwood Leadership Center\, 670 Copper Canyon Rd.\, Argyle\, TX\, 76226\, United States
CATEGORIES:Briarwood Leadership Center
ORGANIZER;CN="NT-NL Synod%2C ELCA":MAILTO:office@ntnl.org
GEO:33.0886127;-97.1074111
X-APPLE-STRUCTURED-LOCATION;VALUE=URI;X-ADDRESS=Briarwood Leadership Center 670 Copper Canyon Rd. Argyle TX 76226 United States;X-APPLE-RADIUS=500;X-TITLE=670 Copper Canyon Rd.:geo:-97.1074111,33.0886127
END:VEVENT
BEGIN:VEVENT
DTSTART;VALUE=DATE:20191010
DTEND;VALUE=DATE:20191012
DTSTAMP:20260420T013324
CREATED:20191006T205817Z
LAST-MODIFIED:20191006T205817Z
UID:22884-1570665600-1570838399@www.ntnl.org
SUMMARY:Best Practices for Faithful 21st Century Worship and Music Leaders
DESCRIPTION:October 10-11\, 2019\, at St Michael and All Angels Episcopal Church in Dallas \nSponsored by the Church Music Institute (CMI) of Dallas with the generous support of the Lilly Endowment Inc\, this conference brings clergy\, musicians\, and laity to engage in a thoughtful discussion of the most important task of the church\, the worship of God.  Keynote speaker is Rev. Peter W. Marty\, editor of The Christian Century\, a journal devoted to shaping America’s conversation about religion and faith in public life. A frequent preacher and speaker at churches and conferences across the country\, Marty has written numerous articles related to culture\, character\, and faith issues in our day.  He will explore how to deepen the outward perspective and inward self-understanding of pastors and musicians\, and address the growing secularity of culture with a people who\, in their willingness to worship almost anything\, are busy making God into their own image. \nAdditional speakers include Ellen Johnston and William Roberts\, who will lead workshop on clergy/musician dynamics; Rev. Dr. George Mason and Doug Haney\, the pastor/musician duo at Wilshire Baptist Church in Dallas.  The 2018-19 LillyCMI Scholars\, clergy/musician teams who with congregational representatives have engaged in theological and practical conversations with one another and their congregations\, will share new findings from their worship and liturgy projects. Registration is $50\, or $35 for members of CMI\, AGO\, or ACDA. A discount of 15% is available for two or more from the same church. Visit www.churchmusicinstitute.org and click “events” for more information and to register.
URL:https://www.ntnl.org/event/best-practices-for-faithful-21st-century-worship-and-music-leaders/
ORGANIZER;CN="Church Music Institute":MAILTO:info@churchmusicinstitute.org
END:VEVENT
BEGIN:VEVENT
DTSTART;VALUE=DATE:20191011
DTEND;VALUE=DATE:20191014
DTSTAMP:20260420T013324
CREATED:20190608T162505Z
LAST-MODIFIED:20190730T191146Z
UID:21714-1570752000-1571011199@www.ntnl.org
SUMMARY:2019 W-ELCA NT-NL SWO Retreat
DESCRIPTION:Women of the ELCA / NT-NL Synodical Women’s Organization Retreat \nTheme: “God’s Undivided Neighborhood” \n“Which of these three\, do you think\, was a neighbor to the man who fell into the hands of the robbers?” He said\, “The one who showed him mercy.” Jesus said to him\, “Go and do likewise.” Luke 10:36-37 NRSV \nButman Methodist Camp in Merkel\, TX \nFull details can be found here.
URL:https://www.ntnl.org/event/2019-welca-ntnl-swo-retreat/
END:VEVENT
BEGIN:VEVENT
DTSTART;VALUE=DATE:20191012
DTEND;VALUE=DATE:20191013
DTSTAMP:20260420T013324
CREATED:20191025T182719Z
LAST-MODIFIED:20191025T183342Z
UID:23052-1570838400-1570924799@www.ntnl.org
SUMMARY:Secondary School of Theological Education (SSTE) | Escuela Secundaria de Educación Teológica (ESET)
DESCRIPTION:SSTE | ESET Session
URL:https://www.ntnl.org/event/sste-eset-session/2019-10-12/
LOCATION:Briarwood Leadership Center\, 670 Copper Canyon Rd.\, Argyle\, TX\, 76226\, United States
CATEGORIES:SSTE | ESET
GEO:33.0886127;-97.1074111
X-APPLE-STRUCTURED-LOCATION;VALUE=URI;X-ADDRESS=Briarwood Leadership Center 670 Copper Canyon Rd. Argyle TX 76226 United States;X-APPLE-RADIUS=500;X-TITLE=670 Copper Canyon Rd.:geo:-97.1074111,33.0886127
END:VEVENT
END:VCALENDAR