BEGIN:VCALENDAR
VERSION:2.0
PRODID:-//Northern Texas - Northern Louisiana Synod, ELCA - ECPv6.15.20//NONSGML v1.0//EN
CALSCALE:GREGORIAN
METHOD:PUBLISH
X-ORIGINAL-URL:https://www.ntnl.org
X-WR-CALDESC:Events for Northern Texas - Northern Louisiana Synod, ELCA
REFRESH-INTERVAL;VALUE=DURATION:PT1H
X-Robots-Tag:noindex
X-PUBLISHED-TTL:PT1H
BEGIN:VTIMEZONE
TZID:America/Chicago
BEGIN:DAYLIGHT
TZOFFSETFROM:-0600
TZOFFSETTO:-0500
TZNAME:CDT
DTSTART:20190310T080000
END:DAYLIGHT
BEGIN:STANDARD
TZOFFSETFROM:-0500
TZOFFSETTO:-0600
TZNAME:CST
DTSTART:20191103T070000
END:STANDARD
BEGIN:DAYLIGHT
TZOFFSETFROM:-0600
TZOFFSETTO:-0500
TZNAME:CDT
DTSTART:20200308T080000
END:DAYLIGHT
BEGIN:STANDARD
TZOFFSETFROM:-0500
TZOFFSETTO:-0600
TZNAME:CST
DTSTART:20201101T070000
END:STANDARD
BEGIN:DAYLIGHT
TZOFFSETFROM:-0600
TZOFFSETTO:-0500
TZNAME:CDT
DTSTART:20210314T080000
END:DAYLIGHT
BEGIN:STANDARD
TZOFFSETFROM:-0500
TZOFFSETTO:-0600
TZNAME:CST
DTSTART:20211107T070000
END:STANDARD
END:VTIMEZONE
BEGIN:VEVENT
DTSTART;VALUE=DATE:20200216
DTEND;VALUE=DATE:20200219
DTSTAMP:20260419T184214
CREATED:20191119T173447Z
LAST-MODIFIED:20200118T175354Z
UID:23354-1581811200-1582070399@www.ntnl.org
SUMMARY:Texas Interfaith Advocacy Days
DESCRIPTION:Registration is now open for Texas Impact‘s inaugural Texas Interfaith Advocacy Days! \nThis 3-day civic engagement intensive will feature workshops to strengthen your advocacy skills; policy presentations on key issues; and opportunities to engage lawmakers directly\, including a trip to the Texas Capitol. \nLocation: University Presbyterian Church\, Austin\, TX \nRegister and find out more. \nAn added bonus to the conference will be Texas’ only U. S. Senate candidate forum on climate change\, which will be open to the public and will not require advance registration.
URL:https://www.ntnl.org/event/texas-interfaith-advocacy-days-2020/
CATEGORIES:Partner Organizations
ATTACH;FMTTYPE=image/png:https://www.ntnl.org/wp-content/uploads/2017/04/LogoRectangleTIALT.png
ORGANIZER;CN="Texas Impact":MAILTO:bee@texasimpact.org
END:VEVENT
BEGIN:VEVENT
DTSTART;TZID=America/Chicago:20200222T090000
DTEND;TZID=America/Chicago:20200222T120000
DTSTAMP:20260419T184214
CREATED:20191114T002358Z
LAST-MODIFIED:20191114T002423Z
UID:23249-1582362000-1582372800@www.ntnl.org
SUMMARY:ESET (SSTE) Módulo 6 (Día 4 de 5)
DESCRIPTION:Ética en el Oficio Pastoral (Día 4 de 5)
URL:https://www.ntnl.org/event/eset-sste-modulo-6d/
LOCATION:Briarwood Leadership Center\, 670 Copper Canyon Rd.\, Argyle\, TX\, 76226\, United States
CATEGORIES:SSTE | ESET
GEO:33.0886127;-97.1074111
X-APPLE-STRUCTURED-LOCATION;VALUE=URI;X-ADDRESS=Briarwood Leadership Center 670 Copper Canyon Rd. Argyle TX 76226 United States;X-APPLE-RADIUS=500;X-TITLE=670 Copper Canyon Rd.:geo:-97.1074111,33.0886127
END:VEVENT
BEGIN:VEVENT
DTSTART;TZID=America/Chicago:20200222T100000
DTEND;TZID=America/Chicago:20200222T100000
DTSTAMP:20260419T184214
CREATED:20191120T170032Z
LAST-MODIFIED:20191120T170032Z
UID:23398-1582365600-1582365600@www.ntnl.org
SUMMARY:Discovering Hope: Building Vitality in Your Congregation
DESCRIPTION:A Conference to explore the best practices for Vital Ministry \nTopics covered include:\nØ Stories of Hope: Finding Vitality in your Congregation\nØ Making Disciples: Learning to Live Jesus’ Way\nØ Evangelism: A Way of Life\nØ Leadership: Who’s Driving the Tractor?\nØ Discovering the Gift of Place\nØ Mission: Possible – Discovering Hope for the Future \nWe encourage at least 3 people from each congregation to attend.\nRegistration donation: $20 per congregation (payable at the door)\nIncludes: a copy of the book\, “Discovering Hope\,” and other materials.\n(One book per congregation) \nLight Breakfast and Lunch will be provided \nPlease sign up by Tuesday\, February 18\, 2020. \nQuestions? Contact: Rev. Jeff Vayda\nPhone: 806-795-2283 | Email: Jeffrey.vayda@ttu.edu \nClick here to download a flyer.
URL:https://www.ntnl.org/event/discovering-hope-building-vitality-in-your-congregation-feb-2020/
LOCATION:Gloria Dei Lutheran Church\, 1706 Slide Rd.\, Lubbock\, TX\, 79416\, United States
GEO:33.5798833;-101.9232216
X-APPLE-STRUCTURED-LOCATION;VALUE=URI;X-ADDRESS=Gloria Dei Lutheran Church 1706 Slide Rd. Lubbock TX 79416 United States;X-APPLE-RADIUS=500;X-TITLE=1706 Slide Rd.:geo:-101.9232216,33.5798833
END:VEVENT
BEGIN:VEVENT
DTSTART;TZID=America/Chicago:20200222T100000
DTEND;TZID=America/Chicago:20200222T120000
DTSTAMP:20260419T184214
CREATED:20181218T200316Z
LAST-MODIFIED:20200117T230951Z
UID:21081-1582365600-1582372800@www.ntnl.org
SUMMARY:Engaging the Border: Theology and Practice
DESCRIPTION:Engaging the Border: Theology and Practice \nA Morning of Education and Theological Reflection with Dr. Javier Alanis on the Situation at Our Southern Border and How We Can Make A Difference \nSponsored by the NTNL Public Witness Team \nLunch provided! \nDr. Alanis is the Director of the Lutheran Seminary Program in the Southwest (LSPS) in Austin\, Tx. His academic interests include peace and justice concerns as they relate to the role of the church in society\, and in particular along the U.S.-Mexican border. \nIf planning to attend\, an RSVP would be appreciated. Please respond to Rev. Wayne Menking: wmenking@gmail.com. \nClick here for a flyer.
URL:https://www.ntnl.org/event/pwt-mtg-engaging-the-border/
LOCATION:Shepherd of Life Lutheran Church\, 715 E. Lamar Blvd.\, Arlington\, TX\, 76011\, United States
CATEGORIES:Public Witness Team
GEO:32.7652667;-97.1008227
X-APPLE-STRUCTURED-LOCATION;VALUE=URI;X-ADDRESS=Shepherd of Life Lutheran Church 715 E. Lamar Blvd. Arlington TX 76011 United States;X-APPLE-RADIUS=500;X-TITLE=715 E. Lamar Blvd.:geo:-97.1008227,32.7652667
END:VEVENT
END:VCALENDAR