BEGIN:VCALENDAR
VERSION:2.0
PRODID:-//Northern Texas - Northern Louisiana Synod, ELCA - ECPv6.15.20//NONSGML v1.0//EN
CALSCALE:GREGORIAN
METHOD:PUBLISH
X-WR-CALNAME:Northern Texas - Northern Louisiana Synod, ELCA
X-ORIGINAL-URL:https://www.ntnl.org
X-WR-CALDESC:Events for Northern Texas - Northern Louisiana Synod, ELCA
REFRESH-INTERVAL;VALUE=DURATION:PT1H
X-Robots-Tag:noindex
X-PUBLISHED-TTL:PT1H
BEGIN:VTIMEZONE
TZID:America/Chicago
BEGIN:DAYLIGHT
TZOFFSETFROM:-0600
TZOFFSETTO:-0500
TZNAME:CDT
DTSTART:20190310T080000
END:DAYLIGHT
BEGIN:STANDARD
TZOFFSETFROM:-0500
TZOFFSETTO:-0600
TZNAME:CST
DTSTART:20191103T070000
END:STANDARD
BEGIN:DAYLIGHT
TZOFFSETFROM:-0600
TZOFFSETTO:-0500
TZNAME:CDT
DTSTART:20200308T080000
END:DAYLIGHT
BEGIN:STANDARD
TZOFFSETFROM:-0500
TZOFFSETTO:-0600
TZNAME:CST
DTSTART:20201101T070000
END:STANDARD
BEGIN:DAYLIGHT
TZOFFSETFROM:-0600
TZOFFSETTO:-0500
TZNAME:CDT
DTSTART:20210314T080000
END:DAYLIGHT
BEGIN:STANDARD
TZOFFSETFROM:-0500
TZOFFSETTO:-0600
TZNAME:CST
DTSTART:20211107T070000
END:STANDARD
END:VTIMEZONE
BEGIN:VEVENT
DTSTART;TZID=America/Chicago:20200416T100000
DTEND;TZID=America/Chicago:20200416T103000
DTSTAMP:20260419T220851
CREATED:20200409T200245Z
LAST-MODIFIED:20200409T200245Z
UID:24889-1587031200-1587033000@www.ntnl.org
SUMMARY:Weekly NT-NL Leadership Prayer\, Check-in
DESCRIPTION:NT-NL Synod ELCA is inviting you to a scheduled Zoom meeting. \nTopic: Leadership prayer\, check-in \nTime: 10:00 AM Central Time \n        Every week on Thursday \nJoin Zoom Meeting \nhttps://zoom.us/j/686256906 \nMeeting ID: 686 256 906 \n  \nOne tap mobile \n+13462487799\,\,686256906# US (Houston) \n+16699006833\,\,686256906# US (San Jose) \n  \nDial by your location \n+1 346 248 7799 US (Houston) \n+1 669 900 6833 US (San Jose) \n+1 312 626 6799 US (Chicago) \n+1 646 558 8656 US (New York) \n+1 253 215 8782 US \n+1 301 715 8592 US \nMeeting ID: 686 256 906
URL:https://www.ntnl.org/event/weekly-leadership-prayer-apr16/
CATEGORIES:NT-NL Synod
ORGANIZER;CN="NT-NL Synod%2C ELCA":MAILTO:office@ntnl.org
END:VEVENT
BEGIN:VEVENT
DTSTART;TZID=America/Chicago:20200418T090000
DTEND;TZID=America/Chicago:20200418T153000
DTSTAMP:20260419T220851
CREATED:20181204T200449Z
LAST-MODIFIED:20191019T151158Z
UID:20812-1587200400-1587223800@www.ntnl.org
SUMMARY:Parish Lay Ministry Academy\, Spring 2020\, Course 2
DESCRIPTION:If joining remotely… \nTopic: PLMA\, Spring 2020\, Course 2\nTime: Apr 18\, 2020 09:00 AM Central Time (US and Canada) \nJoin Zoom Meeting\nhttps://zoom.us/j/524432751 \nMeeting ID: 524 432 751 \nOne tap mobile\n+16699006833\,\,524432751# US (San Jose)\n+16465588656\,\,524432751# US (New York) \nDial by your location\n+1 669 900 6833 US (San Jose)\n+1 646 558 8656 US (New York)\nMeeting ID: 524 432 751
URL:https://www.ntnl.org/event/plma-spring-2020-course-2/
LOCATION:Christ Evangelical Lutheran Mission Center at Briarwood\, 680 Copper Canyon Rd.\, Argyle\, TX\, 76226\, United States
CATEGORIES:Parish Lay Ministry Academy
ATTACH;FMTTYPE=image/jpeg:https://www.ntnl.org/wp-content/uploads/2017/04/plmbw.jpg
ORGANIZER;CN="NT-NL Parish Lay Ministry Academy":MAILTO:DeanPLMA@ntnl.org
GEO:33.0908265;-97.1099253
X-APPLE-STRUCTURED-LOCATION;VALUE=URI;X-ADDRESS=Christ Evangelical Lutheran Mission Center at Briarwood 680 Copper Canyon Rd. Argyle TX 76226 United States;X-APPLE-RADIUS=500;X-TITLE=680 Copper Canyon Rd.:geo:-97.1099253,33.0908265
END:VEVENT
END:VCALENDAR