BEGIN:VCALENDAR
VERSION:2.0
PRODID:-//Northern Texas - Northern Louisiana Synod, ELCA - ECPv6.15.20//NONSGML v1.0//EN
CALSCALE:GREGORIAN
METHOD:PUBLISH
X-WR-CALNAME:Northern Texas - Northern Louisiana Synod, ELCA
X-ORIGINAL-URL:https://www.ntnl.org
X-WR-CALDESC:Events for Northern Texas - Northern Louisiana Synod, ELCA
REFRESH-INTERVAL;VALUE=DURATION:PT1H
X-Robots-Tag:noindex
X-PUBLISHED-TTL:PT1H
BEGIN:VTIMEZONE
TZID:America/Chicago
BEGIN:DAYLIGHT
TZOFFSETFROM:-0600
TZOFFSETTO:-0500
TZNAME:CDT
DTSTART:20190310T080000
END:DAYLIGHT
BEGIN:STANDARD
TZOFFSETFROM:-0500
TZOFFSETTO:-0600
TZNAME:CST
DTSTART:20191103T070000
END:STANDARD
BEGIN:DAYLIGHT
TZOFFSETFROM:-0600
TZOFFSETTO:-0500
TZNAME:CDT
DTSTART:20200308T080000
END:DAYLIGHT
BEGIN:STANDARD
TZOFFSETFROM:-0500
TZOFFSETTO:-0600
TZNAME:CST
DTSTART:20201101T070000
END:STANDARD
BEGIN:DAYLIGHT
TZOFFSETFROM:-0600
TZOFFSETTO:-0500
TZNAME:CDT
DTSTART:20210314T080000
END:DAYLIGHT
BEGIN:STANDARD
TZOFFSETFROM:-0500
TZOFFSETTO:-0600
TZNAME:CST
DTSTART:20211107T070000
END:STANDARD
END:VTIMEZONE
BEGIN:VEVENT
DTSTART;TZID=America/Chicago:20200505T120000
DTEND;TZID=America/Chicago:20200505T140000
DTSTAMP:20260422T235726
CREATED:20200416T161819Z
LAST-MODIFIED:20200424T233041Z
UID:24977-1588680000-1588687200@www.ntnl.org
SUMMARY:Learning Coaching Skills for Grief and Loss
DESCRIPTION:Presenter: Dr. Don Eisenhauer\, Coaching at End of Life \nEvery day\, we receive updates on the COVID-19 pandemic. This crisis has resulted in another pandemic — a pandemic of grief. This session will explore how leaders can use basic Coaching skills to be present with individuals in the midst of their grief. The focus will be on supporting our local faith communities\, as well as society as a whole. \nThis webinar is open to all. You do not need to be a rostered/authorized leader in NT-NL or even the ELCA\, nor do you need coach training or certifications. These skills are applicable in a variety of vocational service\, and we encourage you to attend. \n  \nJoin Zoom Meeting\nhttps://zoom.us/j/99550632250\nMeeting ID: 995 5063 2250 \nOne tap mobile\n+13126266799\,\,99550632250# US (Chicago)\n+16465588656\,\,99550632250# US (New York) \nDial by your location\n+1 312 626 6799 US (Chicago)\n+1 646 558 8656 US (New York)\n+1 346 248 7799 US (Houston)\n+1 669 900 6833 US (San Jose)\n+1 253 215 8782 US\n+1 301 715 8592 US\nMeeting ID: 995 5063 2250
URL:https://www.ntnl.org/event/learning-coaching-skills-for-grief-and-loss/
CATEGORIES:Briarwood Leadership Center,NT-NL Synod,Partner Organizations
ORGANIZER;CN="Briarwood Leadership Center":MAILTO:bw@briarwoodretreat.org
END:VEVENT
BEGIN:VEVENT
DTSTART;TZID=America/Chicago:20200506T130000
DTEND;TZID=America/Chicago:20200506T140000
DTSTAMP:20260422T235726
CREATED:20200416T154913Z
LAST-MODIFIED:20200521T163323Z
UID:24969-1588770000-1588773600@www.ntnl.org
SUMMARY:Weekly Online Gathering for ELCA Leaders
DESCRIPTION:Here to Serve: Being Church in the Time of COVID-19 \nWeekly Online Gathering for ELCA Leaders \nWednesdays\, 1:00 PM Central \nYou are invited to join this weekly meeting designed to provide encouragement and support for ELCA leaders in all realms. Participants will hear topical presentations related to how we are called to be Church in the time of COVID-19\, as well as an opportunity to be in small group discussions with an ELCA group coach facilitating the conversation. All of this is designed to help us process our feelings in this strange and fearful time and to create a space where we can each name our next most faithful step forward in our unique context. \nYou are welcome to share this invitation with any other ELCA leader\, rostered or lay. #ELCAChurchTogether #HereToServe \nELCA Coaching is inviting you to a scheduled Zoom meeting. \nTopic: Being Church in the Time of COVID-19 – Weekly Gathering for ELCA Leaders\nTime: Wednesdays 01:00 PM Central Time (US and Canada) \nJoin Zoom Meeting\nhttps://zoom.us/j/180439412?pwd=WlVwUUxyUE5mY2IxMktHQXFJdGNMdz09\nMeeting ID: 180 439 412\nPassword: 648160 \nOne tap mobile\n+13462487799\,\,180439412#\,\,#\,648160# US (Houston)\n+16699006833\,\,180439412#\,\,#\,648160# US (San Jose) \nDial by your location\n+1 346 248 7799 US (Houston)\n+1 669 900 6833 US (San Jose)\n+1 253 215 8782 US\n+1 301 715 8592 US\n+1 312 626 6799 US (Chicago)\n+1 646 876 9923 US (New York)\nMeeting ID: 180 439 412\nPassword: 648160 \nYou may have heard concerns around using Zoom as a meeting platform. Upon conferring with leadership in our office and experts in the field\, it has been affirmed that we are adhering to all of the recommended protocols and guidance for “safer use of Zoom.” It is highly recommended that participants have the most current version of Zoom. If you have concerns\, please email jill.beverlin@elca.org for more information.
URL:https://www.ntnl.org/event/weekly-online-gathering-for-elca-leaders-may6/
CATEGORIES:NT-NL Synod,Partner Organizations
ORGANIZER;CN="ELCA Coaching":MAILTO:info@elcacoaching.org
END:VEVENT
BEGIN:VEVENT
DTSTART;TZID=America/Chicago:20200507T100000
DTEND;TZID=America/Chicago:20200507T103000
DTSTAMP:20260422T235726
CREATED:20200409T200947Z
LAST-MODIFIED:20200409T201018Z
UID:24896-1588845600-1588847400@www.ntnl.org
SUMMARY:Weekly NT-NL Leadership Prayer\, Check-in
DESCRIPTION:NT-NL Synod ELCA is inviting you to a scheduled Zoom meeting. \nTopic: Leadership prayer\, check-in \nTime: 10:00 AM Central Time \n        Every week on Thursday \nJoin Zoom Meeting \nhttps://zoom.us/j/686256906 \nMeeting ID: 686 256 906 \n  \nOne tap mobile \n+13462487799\,\,686256906# US (Houston) \n+16699006833\,\,686256906# US (San Jose) \n  \nDial by your location \n+1 346 248 7799 US (Houston) \n+1 669 900 6833 US (San Jose) \n+1 312 626 6799 US (Chicago) \n+1 646 558 8656 US (New York) \n+1 253 215 8782 US \n+1 301 715 8592 US \nMeeting ID: 686 256 906
URL:https://www.ntnl.org/event/weekly-leadership-prayer-may7/
CATEGORIES:NT-NL Synod
ORGANIZER;CN="NT-NL Synod%2C ELCA":MAILTO:office@ntnl.org
END:VEVENT
BEGIN:VEVENT
DTSTART;TZID=America/Chicago:20200509T090000
DTEND;TZID=America/Chicago:20200509T120000
DTSTAMP:20260422T235726
CREATED:20191114T002859Z
LAST-MODIFIED:20191114T002922Z
UID:23259-1589014800-1589025600@www.ntnl.org
SUMMARY:ESET (SSTE) Módulo 7 (Día 4 de 5)
DESCRIPTION:Entendiendo el Nuevo Testamento (Día 4 de 5)
URL:https://www.ntnl.org/event/eset-sste-modulo-7d/
LOCATION:Briarwood Leadership Center\, 670 Copper Canyon Rd.\, Argyle\, TX\, 76226\, United States
CATEGORIES:SSTE | ESET
GEO:33.0886127;-97.1074111
X-APPLE-STRUCTURED-LOCATION;VALUE=URI;X-ADDRESS=Briarwood Leadership Center 670 Copper Canyon Rd. Argyle TX 76226 United States;X-APPLE-RADIUS=500;X-TITLE=670 Copper Canyon Rd.:geo:-97.1074111,33.0886127
END:VEVENT
END:VCALENDAR