BEGIN:VCALENDAR
VERSION:2.0
PRODID:-//Northern Texas - Northern Louisiana Synod, ELCA - ECPv6.15.20//NONSGML v1.0//EN
CALSCALE:GREGORIAN
METHOD:PUBLISH
X-ORIGINAL-URL:https://www.ntnl.org
X-WR-CALDESC:Events for Northern Texas - Northern Louisiana Synod, ELCA
REFRESH-INTERVAL;VALUE=DURATION:PT1H
X-Robots-Tag:noindex
X-PUBLISHED-TTL:PT1H
BEGIN:VTIMEZONE
TZID:America/Chicago
BEGIN:DAYLIGHT
TZOFFSETFROM:-0600
TZOFFSETTO:-0500
TZNAME:CDT
DTSTART:20190310T080000
END:DAYLIGHT
BEGIN:STANDARD
TZOFFSETFROM:-0500
TZOFFSETTO:-0600
TZNAME:CST
DTSTART:20191103T070000
END:STANDARD
BEGIN:DAYLIGHT
TZOFFSETFROM:-0600
TZOFFSETTO:-0500
TZNAME:CDT
DTSTART:20200308T080000
END:DAYLIGHT
BEGIN:STANDARD
TZOFFSETFROM:-0500
TZOFFSETTO:-0600
TZNAME:CST
DTSTART:20201101T070000
END:STANDARD
BEGIN:DAYLIGHT
TZOFFSETFROM:-0600
TZOFFSETTO:-0500
TZNAME:CDT
DTSTART:20210314T080000
END:DAYLIGHT
BEGIN:STANDARD
TZOFFSETFROM:-0500
TZOFFSETTO:-0600
TZNAME:CST
DTSTART:20211107T070000
END:STANDARD
END:VTIMEZONE
BEGIN:VEVENT
DTSTART;TZID=America/Chicago:20200624T130000
DTEND;TZID=America/Chicago:20200624T140000
DTSTAMP:20260421T181328
CREATED:20200521T163900Z
LAST-MODIFIED:20200625T171335Z
UID:25608-1593003600-1593007200@www.ntnl.org
SUMMARY:Weekly Online Gathering for ELCA Leaders
DESCRIPTION:Being Church in Times of Crisis \nWeekly Online Gathering for ELCA Leaders \nWednesdays\, 1:00 PM Central \nYou are invited to join this weekly gathering designed to provide encouragement and support for ELCA leaders across the church. Participants will hear topical presentations related to how we are called to be Church in times of crisis\, as well as an opportunity to be in small group discussions with an ELCA group coach facilitating the conversation. All of this is designed to help us process our feelings in this strange and fearful time and to create a space where we can each name our next most faithful step forward in our unique context. You are welcome to share this invitation with any other ELCA leader\, rostered or lay. #ELCAChurchTogether \nELCA Coaching is inviting you to a scheduled Zoom meeting. \nTopic: Being Church in Times of Crisis – Weekly Gathering for ELCA Leaders\nTime: Wednesdays 01:00 PM Central Time (US and Canada) \nJoin Zoom Meeting\nhttps://zoom.us/j/180439412?pwd=WlVwUUxyUE5mY2IxMktHQXFJdGNMdz09\nMeeting ID: 180 439 412\nPassword: 648160 \nOne tap mobile\n+13462487799\,\,180439412#\,\,#\,648160# US (Houston)\n+16699006833\,\,180439412#\,\,#\,648160# US (San Jose) \nDial by your location\n+1 346 248 7799 US (Houston)\n+1 669 900 6833 US (San Jose)\n+1 253 215 8782 US\n+1 301 715 8592 US\n+1 312 626 6799 US (Chicago)\n+1 646 876 9923 US (New York)\nMeeting ID: 180 439 412\nPassword: 648160
URL:https://www.ntnl.org/event/weekly-online-gathering-for-elca-leaders-jun24/
CATEGORIES:NT-NL Synod,Partner Organizations
ORGANIZER;CN="ELCA Coaching":MAILTO:info@elcacoaching.org
END:VEVENT
BEGIN:VEVENT
DTSTART;TZID=America/Chicago:20200625T100000
DTEND;TZID=America/Chicago:20200625T103000
DTSTAMP:20260421T181328
CREATED:20200521T165834Z
LAST-MODIFIED:20200521T165855Z
UID:25633-1593079200-1593081000@www.ntnl.org
SUMMARY:Weekly NT-NL Leadership Prayer\, Check-in
DESCRIPTION:NT-NL Synod ELCA is inviting you to a scheduled Zoom meeting. \nTopic: Leadership prayer\, check-in \nTime: 10:00 AM Central Time \n        Every week on Thursday \nJoin Zoom Meeting \nhttps://zoom.us/j/686256906 \nMeeting ID: 686 256 906 \n  \nOne tap mobile \n+13462487799\,\,686256906# US (Houston) \n+16699006833\,\,686256906# US (San Jose) \n  \nDial by your location \n+1 346 248 7799 US (Houston) \n+1 669 900 6833 US (San Jose) \n+1 312 626 6799 US (Chicago) \n+1 646 558 8656 US (New York) \n+1 253 215 8782 US \n+1 301 715 8592 US \nMeeting ID: 686 256 906
URL:https://www.ntnl.org/event/weekly-leadership-prayer-jun25/
CATEGORIES:NT-NL Synod
ORGANIZER;CN="NT-NL Synod%2C ELCA":MAILTO:office@ntnl.org
END:VEVENT
BEGIN:VEVENT
DTSTART;TZID=America/Chicago:20200625T190000
DTEND;TZID=America/Chicago:20200625T203000
DTSTAMP:20260421T181328
CREATED:20200608T013233Z
LAST-MODIFIED:20200615T004134Z
UID:25924-1593111600-1593117000@www.ntnl.org
SUMMARY:Conversations at Briarwood
DESCRIPTION:Briarwood Leadership Center is starting a new series of interactive online conversations to equip the church in this complicated time. Intended for NT-NL leaders\, both rostered and lay\, these conversations will cover a variety of topics. \nThursday evenings @ 7pm Central via Zoom \nHosted by Pr. Robert O. Smith\, Director\, Briarwood Leadership Center \n \nUlysses W. Burley III\, MD\, on COVID-19 and Black America \nThursday\, June 25 \nHouston native Ulysses W. Burley III\, MD\, is the founder of UBtheCURE LLC. He studied at Morehouse College and Northwestern University Feinberg School of Medicine. Ulysses served as Program Director for the Evangelical Lutheran Church in America (ELCA) Strategy on HIV/AIDS and as a member of the United States Presidential Advisory Council on HIV/AIDS. He leads on issues at the intersection of Faith\, Health\, and Human Rights. \nJoin Zoom Meeting\nhttps://us02web.zoom.us/j/4318388272 \nMeeting ID: 431 838 8272\nOne tap mobile\n+13462487799\,\,4318388272# US (Houston)\n+12532158782\,\,4318388272# US (Tacoma)
URL:https://www.ntnl.org/event/conversations-at-briarwood-jun25/
CATEGORIES:Briarwood Leadership Center,NT-NL Synod
ORGANIZER;CN="Briarwood Leadership Center":MAILTO:bw@briarwoodretreat.org
END:VEVENT
BEGIN:VEVENT
DTSTART;TZID=America/Chicago:20200627T100000
DTEND;TZID=America/Chicago:20200627T113000
DTSTAMP:20260421T181328
CREATED:20200606T023521Z
LAST-MODIFIED:20200618T004254Z
UID:25733-1593252000-1593257400@www.ntnl.org
SUMMARY:Living Connected: The Spiritual Discipline of Creation Care (Food)
DESCRIPTION:The NT-NL Public Witness Team for Peace and Justice is hosting an online series of workshops that explore our use of the gifts of creation. Through small group activities and short presentations\, you will discover how daily use of the gifts connect us and will reflect on using the gifts in ways that love God and neighbor. By doing so\, your daily actions can become spiritual practices\, leading to wholeness of life for us and all of creation. \nThe series is offered on Saturday mornings and Tuesday evenings. Each session stands alone. You can take part in one or as many as you want. \nSaturdays\, 10:00 – 11:30 am | Tuesdays\, 7:00 – 8:30 pm\nJune 27 – Food | June 30 – Food\nJuly 25 – Water | July 28 – Water\nAugust 22 – Material Goods | August 25 – Material Goods\nSeptember 26 – Waste | September 29 – Waste\nOctober 24 – Land | October 27 – Land\nNovember 21 – Energy | November 24 – Energy \nThe workshop presenter is Katrina Martich\, a Lutheran deaconess and environmental engineer. She currently serves as a green shepherd for Lutherans Restoring Creation and on the ELCA Sustainability Table. For more information about Living Connected and the workshops\, email Katrina at contact@katrinamartich.com. RSVP here for any or all workshops. \nClick here for a bulletin insert.
URL:https://www.ntnl.org/event/living-connected-the-spiritual-discipline-of-creation-care-food-jun27/
CATEGORIES:NT-NL Synod,Public Witness Team
ATTACH;FMTTYPE=image/png:https://www.ntnl.org/wp-content/uploads/2020/06/Living-Connected-logo.png
END:VEVENT
END:VCALENDAR