BEGIN:VCALENDAR
VERSION:2.0
PRODID:-//Northern Texas - Northern Louisiana Synod, ELCA - ECPv6.15.20//NONSGML v1.0//EN
CALSCALE:GREGORIAN
METHOD:PUBLISH
X-ORIGINAL-URL:https://www.ntnl.org
X-WR-CALDESC:Events for Northern Texas - Northern Louisiana Synod, ELCA
REFRESH-INTERVAL;VALUE=DURATION:PT1H
X-Robots-Tag:noindex
X-PUBLISHED-TTL:PT1H
BEGIN:VTIMEZONE
TZID:America/Chicago
BEGIN:DAYLIGHT
TZOFFSETFROM:-0600
TZOFFSETTO:-0500
TZNAME:CDT
DTSTART:20200308T080000
END:DAYLIGHT
BEGIN:STANDARD
TZOFFSETFROM:-0500
TZOFFSETTO:-0600
TZNAME:CST
DTSTART:20201101T070000
END:STANDARD
BEGIN:DAYLIGHT
TZOFFSETFROM:-0600
TZOFFSETTO:-0500
TZNAME:CDT
DTSTART:20210314T080000
END:DAYLIGHT
BEGIN:STANDARD
TZOFFSETFROM:-0500
TZOFFSETTO:-0600
TZNAME:CST
DTSTART:20211107T070000
END:STANDARD
BEGIN:DAYLIGHT
TZOFFSETFROM:-0600
TZOFFSETTO:-0500
TZNAME:CDT
DTSTART:20220313T080000
END:DAYLIGHT
BEGIN:STANDARD
TZOFFSETFROM:-0500
TZOFFSETTO:-0600
TZNAME:CST
DTSTART:20221106T070000
END:STANDARD
END:VTIMEZONE
BEGIN:VEVENT
DTSTART;TZID=America/Chicago:20210107T130000
DTEND;TZID=America/Chicago:20210107T140000
DTSTAMP:20260425T091822
CREATED:20201110T224440Z
LAST-MODIFIED:20201217T024843Z
UID:28187-1610024400-1610028000@www.ntnl.org
SUMMARY:Systems Theory and Anxiety workshop
DESCRIPTION:When: January 7th\, 1-2pm Central\nCost: Free\nVenue: Zoom (see link below)\n\n\n\nDeacon Mary Ann Schwabe’s presentation will give a refresher course on System Theory and dig into how anxiety affects all of our relationships and the systems – family\, congregation\, society. Discussing the difference between chronic and acute anxiety\, this presentation is intended to give us language for ongoing conversations throughout 2021. \nThroughout 2020 church leaders have experienced new and different forms of pressure. 2021 will bring another set of these pressures as we continue to engage an environment of pandemic\, political challenges and division in society. Anxiety increases tension\, understanding your role as leader in that anxiety\, owning that\, and processing it will make you a more effective leader. \nMary Ann Schwabe is a Deacon who serves as the Natural Systems Coordinator in the Office of the Presiding Bishop for the churchwide office in Chicago. \n\n\nJoin Zoom Meeting\nhttps://zoom.us/j/94824486019?pwd=NnVwTUpIN3BKWmVHMTdRMzFvQzdtdz09 \nMeeting ID: 948 2448 6019\nPasscode: 918223 \nOne tap mobile\n+13462487799\,\,94824486019#\,\,\,\,\,\,0#\,\,918223# US (Houston)\n+16699006833\,\,94824486019#\,\,\,\,\,\,0#\,\,918223# US (San Jose) \nDial by your location\n+1 346 248 7799 US (Houston)\n+1 669 900 6833 US (San Jose)\n+1 253 215 8782 US (Tacoma)\n+1 646 558 8656 US (New York)\n+1 301 715 8592 US (Washington D.C)\n+1 312 626 6799 US (Chicago)\nMeeting ID: 948 2448 6019\nPasscode: 918223
URL:https://www.ntnl.org/event/systems-theory-anxiety-workshop/
CATEGORIES:Briarwood Leadership Center,NT-NL Synod
ORGANIZER;CN="Briarwood Leadership Center":MAILTO:bw@briarwoodretreat.org
END:VEVENT
END:VCALENDAR