BEGIN:VCALENDAR
VERSION:2.0
PRODID:-//Northern Texas - Northern Louisiana Synod, ELCA - ECPv6.15.20//NONSGML v1.0//EN
CALSCALE:GREGORIAN
METHOD:PUBLISH
X-ORIGINAL-URL:https://www.ntnl.org
X-WR-CALDESC:Events for Northern Texas - Northern Louisiana Synod, ELCA
REFRESH-INTERVAL;VALUE=DURATION:PT1H
X-Robots-Tag:noindex
X-PUBLISHED-TTL:PT1H
BEGIN:VTIMEZONE
TZID:America/Chicago
BEGIN:DAYLIGHT
TZOFFSETFROM:-0600
TZOFFSETTO:-0500
TZNAME:CDT
DTSTART:20200308T080000
END:DAYLIGHT
BEGIN:STANDARD
TZOFFSETFROM:-0500
TZOFFSETTO:-0600
TZNAME:CST
DTSTART:20201101T070000
END:STANDARD
BEGIN:DAYLIGHT
TZOFFSETFROM:-0600
TZOFFSETTO:-0500
TZNAME:CDT
DTSTART:20210314T080000
END:DAYLIGHT
BEGIN:STANDARD
TZOFFSETFROM:-0500
TZOFFSETTO:-0600
TZNAME:CST
DTSTART:20211107T070000
END:STANDARD
BEGIN:DAYLIGHT
TZOFFSETFROM:-0600
TZOFFSETTO:-0500
TZNAME:CDT
DTSTART:20220313T080000
END:DAYLIGHT
BEGIN:STANDARD
TZOFFSETFROM:-0500
TZOFFSETTO:-0600
TZNAME:CST
DTSTART:20221106T070000
END:STANDARD
END:VTIMEZONE
BEGIN:VEVENT
DTSTART;VALUE=DATE:20210120
DTEND;VALUE=DATE:20210124
DTSTAMP:20260419T194942
CREATED:20201113T172028Z
LAST-MODIFIED:20201113T172048Z
UID:28242-1611100800-1611446399@www.ntnl.org
SUMMARY:2021 ELCA World Hunger Leadership Gathering
DESCRIPTION:Greetings from ELCA World Hunger! Whether you are a newly connected or longtime advocate of our shared work\, we are grateful for your partnership in seeking a just world where all are fed. \nThis signature event gathers ELCA World Hunger’s leaders for a time of networking\, idea sharing\, learning and planning for our shared ministry to address hunger and its root causes in our local and global communities. Next year’s event\, January 20 through 23\, we will center on John 6:11-12 and the theme “And All Were Satisfied.” For the first time in the event’s history\, we will gather virtually! \nWe celebrate the new opportunities this gathering brings\, including the chance to welcome more participants than ever before. As we look forward\, we know that our future church is younger and more diverse; who do you want to invite to be part of the conversation and our ministry together? \nRegister here: https://community.elca.org/online-registration/2021-elca-world-hunger-leadership-gathering-january. The event fee is $20\, with sponsorship opportunities available to those for whom the cost would be a barrier to attending. Once you register\, you will receive the information needed to join in the event. \nLet us know if you have any questions: hunger@elca.org or 773-380-1749. \nUntil all are fed\,\nJuliana Glassco and the ELCA World Hunger Team
URL:https://www.ntnl.org/event/2021-elca-world-hunger-leadership-gathering/
CATEGORIES:NT-NL Synod,Partner Organizations
END:VEVENT
BEGIN:VEVENT
DTSTART;TZID=America/Chicago:20210123T100000
DTEND;TZID=America/Chicago:20210123T113000
DTSTAMP:20260419T194942
CREATED:20210106T010621Z
LAST-MODIFIED:20210106T010621Z
UID:28932-1611396000-1611401400@www.ntnl.org
SUMMARY:Living Connected Workshop on Creation’s Gift of Waste
DESCRIPTION:Waste as a gift may sound strange\, but throughout creation\, the waste of one creature becomes the life of another in a continuous cycle. The exception is our species\, which declares things useless and buries or incinerates them. This Living Connected workshop will: \n\nReflect on the way our systems make it easy to be wasteful;\nDiscuss spiritual practices for viewing waste differently; and\nProvide resources for making faith-based choices about waste.\n\nNT-NL Public Witness is offering this workshop online twice in January 2021. The presenter is Katrina Martich\, a Lutheran Deaconess and licensed environmental engineer in Texas. \nSaturday\, January 23\, 10:00 AM – 11:30 AM CST \nTuesday\, January 26\, 7:00 PM – 8:30 PM CST \nRegister at katrinamartich.com for the Zoom link. \nLiving Connected presents creation care as a spiritual discipline\, formed by using the gifts of creation in just and loving ways. Workshops are offered at a reduced cost thanks to a grant from the NT-NL Synod Mission Endowment Fund. For more information\, send an email to Katrina at contact@katrinamartich.com
URL:https://www.ntnl.org/event/living-connected-workshop-on-creations-gift-of-waste/2021-01-23/
CATEGORIES:NT-NL Synod,Public Witness Team
ATTACH;FMTTYPE=image/png:https://www.ntnl.org/wp-content/uploads/2020/06/Living-Connected-logo.png
END:VEVENT
END:VCALENDAR