BEGIN:VCALENDAR
VERSION:2.0
PRODID:-//Northern Texas - Northern Louisiana Synod, ELCA - ECPv6.15.20//NONSGML v1.0//EN
CALSCALE:GREGORIAN
METHOD:PUBLISH
X-WR-CALNAME:Northern Texas - Northern Louisiana Synod, ELCA
X-ORIGINAL-URL:https://www.ntnl.org
X-WR-CALDESC:Events for Northern Texas - Northern Louisiana Synod, ELCA
REFRESH-INTERVAL;VALUE=DURATION:PT1H
X-Robots-Tag:noindex
X-PUBLISHED-TTL:PT1H
BEGIN:VTIMEZONE
TZID:America/Chicago
BEGIN:DAYLIGHT
TZOFFSETFROM:-0600
TZOFFSETTO:-0500
TZNAME:CDT
DTSTART:20200308T080000
END:DAYLIGHT
BEGIN:STANDARD
TZOFFSETFROM:-0500
TZOFFSETTO:-0600
TZNAME:CST
DTSTART:20201101T070000
END:STANDARD
BEGIN:DAYLIGHT
TZOFFSETFROM:-0600
TZOFFSETTO:-0500
TZNAME:CDT
DTSTART:20210314T080000
END:DAYLIGHT
BEGIN:STANDARD
TZOFFSETFROM:-0500
TZOFFSETTO:-0600
TZNAME:CST
DTSTART:20211107T070000
END:STANDARD
BEGIN:DAYLIGHT
TZOFFSETFROM:-0600
TZOFFSETTO:-0500
TZNAME:CDT
DTSTART:20220313T080000
END:DAYLIGHT
BEGIN:STANDARD
TZOFFSETFROM:-0500
TZOFFSETTO:-0600
TZNAME:CST
DTSTART:20221106T070000
END:STANDARD
END:VTIMEZONE
BEGIN:VEVENT
DTSTART;TZID=America/Chicago:20210211T130000
DTEND;TZID=America/Chicago:20210211T143000
DTSTAMP:20260421T195408
CREATED:20210208T235829Z
LAST-MODIFIED:20210208T235829Z
UID:29321-1613048400-1613053800@www.ntnl.org
SUMMARY:Collective Genius: The Art and Practice of Leading Innovation
DESCRIPTION:Virtual Keynote with Dr. Linda. A. Hill \nClick here to join the webinar!\nPassword: ELCA \nTo join via phone\, call: (312) 626-6799  |  Webinar ID: 879 3348 5378  |  Passcode: 788569 \nWhat does it take to build organizations that can innovate again and again? \nThe short answer: the right leadership. Utilizing findings outlined in her book “Collective Genius\,” Professor Hill\nwill discuss how leaders at such companies as Google\, HCL and Pixar developed the key capabilities to get\ninnovation done. \nThis session reveals how these organizations go about developing a context where people are willing and able\nto do the hard work that innovative problem solving requires. They build communities with a shared purpose\nand a consistent set of values and rules of engagement that allow individual slices of genius to be leveraged\ninto collective genius. This speech also offers insight into what organizations can do to develop leaders with\nthe right mindset and talents. \nAbout Dr. Linda A. Hill \nLinda Hill is the Wallace Brett Donham Professor of Business Administration at the Harvard Business School\n(HBS (and chair of the HBS Leadership Initiative. Dr. Hill is regarded as one of the world’s top experts on\nleadership. She was named by Thinkers50 as one of the top ten management thinkers in the world in 2013 and\nreceived the Thinkers50 Innovation Award in 2015. In addition to presenting insights from her research\ncaptured in the book Collective Genius: The Art and Practice of Leading Innovation\, Dr. Hill will also discuss the\nleadership imperative for innovation today published in her book Being the Boss: The Three Imperatives for\nBecoming a Great Leader. \nDr. Hill is co-founder of Paradox Strategies — a leadership and consulting firm that advises organizations and\nboards on innovation\, leadership and diversity\, equity\, and inclusion. She is a current and past Board member\nof multiple publicly traded companies and sits on numerous boards of non-profit institutions globally\, including\nthe Board of Trustees of the Aspen Forum for the Future of Higher Education\, the United Nations Institute for\nTraining and Research\, The Rockefeller Foundation\, and the Nelson Mandela Children’s Fund USA. Hill is also a\nmember of the HR People + Strategy Advisory Council.
URL:https://www.ntnl.org/event/collective-genius-the-art-and-practice-of-leading-innovation/
CATEGORIES:NT-NL Synod,Partner Organizations
ATTACH;FMTTYPE=image/png:https://www.ntnl.org/wp-content/uploads/2021/02/Dr-Linda-Hill.png
END:VEVENT
END:VCALENDAR