BEGIN:VCALENDAR
VERSION:2.0
PRODID:-//Northern Texas - Northern Louisiana Synod, ELCA - ECPv6.15.20//NONSGML v1.0//EN
CALSCALE:GREGORIAN
METHOD:PUBLISH
X-WR-CALNAME:Northern Texas - Northern Louisiana Synod, ELCA
X-ORIGINAL-URL:https://www.ntnl.org
X-WR-CALDESC:Events for Northern Texas - Northern Louisiana Synod, ELCA
REFRESH-INTERVAL;VALUE=DURATION:PT1H
X-Robots-Tag:noindex
X-PUBLISHED-TTL:PT1H
BEGIN:VTIMEZONE
TZID:America/Chicago
BEGIN:DAYLIGHT
TZOFFSETFROM:-0600
TZOFFSETTO:-0500
TZNAME:CDT
DTSTART:20210314T080000
END:DAYLIGHT
BEGIN:STANDARD
TZOFFSETFROM:-0500
TZOFFSETTO:-0600
TZNAME:CST
DTSTART:20211107T070000
END:STANDARD
BEGIN:DAYLIGHT
TZOFFSETFROM:-0600
TZOFFSETTO:-0500
TZNAME:CDT
DTSTART:20220313T080000
END:DAYLIGHT
BEGIN:STANDARD
TZOFFSETFROM:-0500
TZOFFSETTO:-0600
TZNAME:CST
DTSTART:20221106T070000
END:STANDARD
BEGIN:DAYLIGHT
TZOFFSETFROM:-0600
TZOFFSETTO:-0500
TZNAME:CDT
DTSTART:20230312T080000
END:DAYLIGHT
BEGIN:STANDARD
TZOFFSETFROM:-0500
TZOFFSETTO:-0600
TZNAME:CST
DTSTART:20231105T070000
END:STANDARD
END:VTIMEZONE
BEGIN:VEVENT
DTSTART;TZID=America/Chicago:20220917T100000
DTEND;TZID=America/Chicago:20220917T120000
DTSTAMP:20260420T214955
CREATED:20181218T200316Z
LAST-MODIFIED:20220902T154604Z
UID:27494-1663408800-1663416000@www.ntnl.org
SUMMARY:Public Witness Team meeting
DESCRIPTION:Welcome! We are the Public Witness Team for Peace and Justice of the Northern Texas-Northern Louisiana (NT-NL) Synod of the ELCA. We meet on the second Saturday of most months. Our mission is to give public witness to issues of justice and peace in the synod and in the community\, and this includes both education and advocacy. One of our goals is to assist congregations in the NT-NL Synod in their efforts to be a public church within their own communities. \n\nAnyone is welcome to join us! \nJoin via Zoom Meeting: https://zoom.us/j/9028368725 \nOne tap mobile:\n+17207072699\,\,9028368725# US (Denver)\n+16465588656\,\,9028368725# US (New York) \nOr dial either number:\n+1 720 707 2699 US (Denver)\n+1 646 558 8656 US (New York)\nMeeting ID: 902 836 8725
URL:https://www.ntnl.org/event/pwt-mtg-2019-04-13-2019-12-14-2022-09-10/
CATEGORIES:NT-NL Synod,Public Witness Team
END:VEVENT
END:VCALENDAR