BEGIN:VCALENDAR
VERSION:2.0
PRODID:-//Northern Texas - Northern Louisiana Synod, ELCA - ECPv6.15.20//NONSGML v1.0//EN
CALSCALE:GREGORIAN
METHOD:PUBLISH
X-WR-CALNAME:Northern Texas - Northern Louisiana Synod, ELCA
X-ORIGINAL-URL:https://www.ntnl.org
X-WR-CALDESC:Events for Northern Texas - Northern Louisiana Synod, ELCA
REFRESH-INTERVAL;VALUE=DURATION:PT1H
X-Robots-Tag:noindex
X-PUBLISHED-TTL:PT1H
BEGIN:VTIMEZONE
TZID:America/Chicago
BEGIN:DAYLIGHT
TZOFFSETFROM:-0600
TZOFFSETTO:-0500
TZNAME:CDT
DTSTART:20210314T080000
END:DAYLIGHT
BEGIN:STANDARD
TZOFFSETFROM:-0500
TZOFFSETTO:-0600
TZNAME:CST
DTSTART:20211107T070000
END:STANDARD
BEGIN:DAYLIGHT
TZOFFSETFROM:-0600
TZOFFSETTO:-0500
TZNAME:CDT
DTSTART:20220313T080000
END:DAYLIGHT
BEGIN:STANDARD
TZOFFSETFROM:-0500
TZOFFSETTO:-0600
TZNAME:CST
DTSTART:20221106T070000
END:STANDARD
BEGIN:DAYLIGHT
TZOFFSETFROM:-0600
TZOFFSETTO:-0500
TZNAME:CDT
DTSTART:20230312T080000
END:DAYLIGHT
BEGIN:STANDARD
TZOFFSETFROM:-0500
TZOFFSETTO:-0600
TZNAME:CST
DTSTART:20231105T070000
END:STANDARD
END:VTIMEZONE
BEGIN:VEVENT
DTSTART;VALUE=DATE:20221210
DTEND;VALUE=DATE:20221211
DTSTAMP:20260424T094633
CREATED:20221128T230929Z
LAST-MODIFIED:20221208T002025Z
UID:36678-1670630400-1670716799@www.ntnl.org
SUMMARY:Conferencia Latina Celebration Service
DESCRIPTION:On Saturday\, December 10\, at 5:00pm (please note the updated / earlier start time)\, a worship service will be held at Santa Maria de Guadalupe\, 2601 S MacArthur Blvd\, Irving\, TX 75060. This worship will commemorate the reunion of this congregation with our Conferencia Latina and NT-NL. You are invited to join us. ELCA Presiding Bishop Elizabeth Eaton will be present to celebrate with us. Rostered leaders are invited to vest; the color is white. Please RSVP to Pastor Moises Carrasquillo: pastormoises18@gmail.com
URL:https://www.ntnl.org/event/conferencia-latina-celebration-service/
LOCATION:Iglesia Luterana Santa María\, 2601 S. MacArthur Blvd.\, Irving\, TX\, 75060\, United States
CATEGORIES:NT-NL Synod
ORGANIZER;CN="NT-NL Synod%2C ELCA":MAILTO:office@ntnl.org
GEO:32.7860741;-96.9603427
X-APPLE-STRUCTURED-LOCATION;VALUE=URI;X-ADDRESS=Iglesia Luterana Santa María 2601 S. MacArthur Blvd. Irving TX 75060 United States;X-APPLE-RADIUS=500;X-TITLE=2601 S. MacArthur Blvd.:geo:-96.9603427,32.7860741
END:VEVENT
END:VCALENDAR