BEGIN:VCALENDAR
VERSION:2.0
PRODID:-//Northern Texas - Northern Louisiana Synod, ELCA - ECPv6.15.20//NONSGML v1.0//EN
CALSCALE:GREGORIAN
METHOD:PUBLISH
X-WR-CALNAME:Northern Texas - Northern Louisiana Synod, ELCA
X-ORIGINAL-URL:https://www.ntnl.org
X-WR-CALDESC:Events for Northern Texas - Northern Louisiana Synod, ELCA
REFRESH-INTERVAL;VALUE=DURATION:PT1H
X-Robots-Tag:noindex
X-PUBLISHED-TTL:PT1H
BEGIN:VTIMEZONE
TZID:America/Chicago
BEGIN:DAYLIGHT
TZOFFSETFROM:-0600
TZOFFSETTO:-0500
TZNAME:CDT
DTSTART:20220313T080000
END:DAYLIGHT
BEGIN:STANDARD
TZOFFSETFROM:-0500
TZOFFSETTO:-0600
TZNAME:CST
DTSTART:20221106T070000
END:STANDARD
BEGIN:DAYLIGHT
TZOFFSETFROM:-0600
TZOFFSETTO:-0500
TZNAME:CDT
DTSTART:20230312T080000
END:DAYLIGHT
BEGIN:STANDARD
TZOFFSETFROM:-0500
TZOFFSETTO:-0600
TZNAME:CST
DTSTART:20231105T070000
END:STANDARD
BEGIN:DAYLIGHT
TZOFFSETFROM:-0600
TZOFFSETTO:-0500
TZNAME:CDT
DTSTART:20240310T080000
END:DAYLIGHT
BEGIN:STANDARD
TZOFFSETFROM:-0500
TZOFFSETTO:-0600
TZNAME:CST
DTSTART:20241103T070000
END:STANDARD
END:VTIMEZONE
BEGIN:VEVENT
DTSTART;VALUE=DATE:20230106
DTEND;VALUE=DATE:20230109
DTSTAMP:20260420T212937
CREATED:20220909T000916Z
LAST-MODIFIED:20220909T000916Z
UID:35628-1672963200-1673222399@www.ntnl.org
SUMMARY:Peer Ministry Leadership Training
DESCRIPTION:From Janelle Miller\, NT-NL Youth Ministry coordinator (ntnlyouthleaders@yahoo.com): \nNT-NL Youth Leaders & Pastors\, \nWe are excited to announce that we are collaborating to host a PEER MINISTRY LEADERSHIP TRAINING (limited to 6-7 per congregation) in January. This is an event where Pastors / Youth Leaders identify young people and invite them to attend. \nWHAT IS PEER MINISTRY? It is the story of the good Samaritan. Only instead of preaching and teaching it\, you get the skills necessary to live it! \nThree Peer Ministry Tracks offered:\nPEER MINISTRY I\nYou will enhance your skills of listening\, helping peers and communication. You will discover how caring relationships are a vital ministry. \nPEER MINISTRY II\nFor those who have completed PM I. You will learn more skills for sharing your faith\, addressing sensitive issues and dealing with difficult people. \nPEER MINISTRY III\nFor those who have completed PM I & PMII. They will apply their skills in real world scenarios\, will help lead worship and will have discussions on “now what?” this group will put the skills they have learned into practice at their schools\, churches and post graduation. \nWHAT WE WILL BE DOING THIS WEEKEND…\n**Attending peer ministry sessions\n**Worship\n**Service project\n**Social event in the community\n**Great food and fellowship \nWHAT YOUR REGISTRATION INCLUDES…\n**2 nights lodging (hotel)\n**Saturday meals (3)\, Sunday breakfast\n**Materials\n**Saturday night social event \nREGISTRATION\n**Cost is $90 if registered & paid by November 1\n**Cost is $115 if registered after November 1\n**Registration includes quad occupancy at the hotel — your own bed is available for an extra fee\n**This Leadership Event allows students to attend without an adult from their church\n**A pastor or youth leader must invite a young person to be apart of this event. \nWe will also be hosting a JUNIOR HIGH & SENIOR HIGH YOUTH GATHERING in February. \nClick here for a flyer with more details about both the January and February events.
URL:https://www.ntnl.org/event/peer-ministry-leadership-training/
CATEGORIES:NT-NL Synod
ATTACH;FMTTYPE=image/jpeg:https://www.ntnl.org/wp-content/uploads/2022/09/PeerMinistry.jpg
ORGANIZER;CN="NT-NL Synod%2C ELCA":MAILTO:office@ntnl.org
END:VEVENT
END:VCALENDAR