BEGIN:VCALENDAR
VERSION:2.0
PRODID:-//Northern Texas - Northern Louisiana Synod, ELCA - ECPv6.15.20//NONSGML v1.0//EN
CALSCALE:GREGORIAN
METHOD:PUBLISH
X-WR-CALNAME:Northern Texas - Northern Louisiana Synod, ELCA
X-ORIGINAL-URL:https://www.ntnl.org
X-WR-CALDESC:Events for Northern Texas - Northern Louisiana Synod, ELCA
REFRESH-INTERVAL;VALUE=DURATION:PT1H
X-Robots-Tag:noindex
X-PUBLISHED-TTL:PT1H
BEGIN:VTIMEZONE
TZID:America/Chicago
BEGIN:DAYLIGHT
TZOFFSETFROM:-0600
TZOFFSETTO:-0500
TZNAME:CDT
DTSTART:20220313T080000
END:DAYLIGHT
BEGIN:STANDARD
TZOFFSETFROM:-0500
TZOFFSETTO:-0600
TZNAME:CST
DTSTART:20221106T070000
END:STANDARD
BEGIN:DAYLIGHT
TZOFFSETFROM:-0600
TZOFFSETTO:-0500
TZNAME:CDT
DTSTART:20230312T080000
END:DAYLIGHT
BEGIN:STANDARD
TZOFFSETFROM:-0500
TZOFFSETTO:-0600
TZNAME:CST
DTSTART:20231105T070000
END:STANDARD
BEGIN:DAYLIGHT
TZOFFSETFROM:-0600
TZOFFSETTO:-0500
TZNAME:CDT
DTSTART:20240310T080000
END:DAYLIGHT
BEGIN:STANDARD
TZOFFSETFROM:-0500
TZOFFSETTO:-0600
TZNAME:CST
DTSTART:20241103T070000
END:STANDARD
END:VTIMEZONE
BEGIN:VEVENT
DTSTART;VALUE=DATE:20230210
DTEND;VALUE=DATE:20230213
DTSTAMP:20260420T230134
CREATED:20220909T002151Z
LAST-MODIFIED:20230109T185538Z
UID:35632-1675987200-1676246399@www.ntnl.org
SUMMARY:Junior High & Senior High Youth Gathering
DESCRIPTION:From Janelle Miller\, NT-NL Youth Ministry coordinator (ntnlyouthleaders@yahoo.com): \nNT-NL Youth Leaders & Pastors\, \nWe are excited to announce that we are collaborating to host a JUNIOR HIGH & SENIOR HIGH YOUTH GATHERING in February. \nThis event is for NTNL junior high and senior high youth! The event includes Small Group Activities\, Songs\, Games\, Worship\, Service Projects \, & Group Dynamix! Registration includes programs\, Friday hotel (quad occupancy)\, meals\, and Group Dynamix). \nFEBRUARY 10-12\, 2023\n8pm Friday night – 7am Sunday morning\n(Our event will end with a Group Dynamix lock in) \nREGISTRATION Fee: $120 Early Bird Registration (by Nov. 20 )\n$145 Regular Registration (Nov. 20 – Jan. 22)\n*Additional $30 for your own bed \nClick here for a flyer with more details about both the January and February events.
URL:https://www.ntnl.org/event/junior-high-senior-high-youth-gathering/
CATEGORIES:NT-NL Synod
ATTACH;FMTTYPE=image/jpeg:https://www.ntnl.org/wp-content/uploads/2022/09/YouthGathering2023.jpg
ORGANIZER;CN="NT-NL Synod%2C ELCA":MAILTO:office@ntnl.org
END:VEVENT
BEGIN:VEVENT
DTSTART;TZID=America/Chicago:20230211T100000
DTEND;TZID=America/Chicago:20230211T123000
DTSTAMP:20260420T230134
CREATED:20230123T194125Z
LAST-MODIFIED:20230518T103345Z
UID:37984-1676109600-1676118600@www.ntnl.org
SUMMARY:Public Witness Team meeting
DESCRIPTION:Welcome! We are the Public Witness Team for Peace and Justice of the Northern Texas-Northern Louisiana (NT-NL) Synod of the ELCA. We meet on the second Saturday of most months. Our mission is to give public witness to issues of justice and peace in the synod and in the community\, and this includes both education and advocacy. One of our goals is to assist congregations in the NT-NL Synod in their efforts to be a public church within their own communities. \nFor our 2023 meetings\, the plan is to host a hybrid meeting in-person at Shepherd of Life Lutheran Church in Arlington\, TX\, with Zoom connection available for those who would prefer that. \n\nAnyone is welcome to join us! \nhttps://us06web.zoom.us/j/88956792219?pwd=SWo5YjVaelFEbTB5Q2JDRnVKc20zdz09Meeting ID: 889 5679 2219Passcode: MTtJDJQW88 \nOne tap mobile+13462487799\,\,88956792219#\,\,\,\,*8614505675# US (Houston)+12532158782\,\,88956792219#\,\,\,\,*8614505675# US (Tacoma)Dial by your location        +1 346 248 7799 US (Houston)        +1 669 444 9171 US        +1 719 359 4580 US        +1 720 707 2699 US (Denver)        +1 253 215 8782 US (Tacoma)        +1 309 205 3325 US        +1 312 626 6799 US (Chicago)        +1 360 209 5623 US        +1 386 347 5053 US        +1 507 473 4847 US        +1 564 217 2000 US        +1 646 558 8656 US (New York)        +1 646 931 3860 US        +1 689 278 1000 US        +1 301 715 8592 US (Washington DC)Meeting ID: 889 5679 2219Passcode: 8614505675
URL:https://www.ntnl.org/event/pwt-mtg/2023-02-11/
LOCATION:Shepherd of Life Lutheran Church\, 715 E. Lamar Blvd.\, Arlington\, TX\, 76011\, United States
CATEGORIES:NT-NL Synod,Public Witness Team
ATTACH;FMTTYPE=image/png:https://www.ntnl.org/wp-content/uploads/2018/12/PWT-logo.png
GEO:32.7652667;-97.1008227
X-APPLE-STRUCTURED-LOCATION;VALUE=URI;X-ADDRESS=Shepherd of Life Lutheran Church 715 E. Lamar Blvd. Arlington TX 76011 United States;X-APPLE-RADIUS=500;X-TITLE=715 E. Lamar Blvd.:geo:-97.1008227,32.7652667
END:VEVENT
END:VCALENDAR