BEGIN:VCALENDAR
VERSION:2.0
PRODID:-//Northern Texas - Northern Louisiana Synod, ELCA - ECPv6.15.20//NONSGML v1.0//EN
CALSCALE:GREGORIAN
METHOD:PUBLISH
X-WR-CALNAME:Northern Texas - Northern Louisiana Synod, ELCA
X-ORIGINAL-URL:https://www.ntnl.org
X-WR-CALDESC:Events for Northern Texas - Northern Louisiana Synod, ELCA
REFRESH-INTERVAL;VALUE=DURATION:PT1H
X-Robots-Tag:noindex
X-PUBLISHED-TTL:PT1H
BEGIN:VTIMEZONE
TZID:America/Chicago
BEGIN:DAYLIGHT
TZOFFSETFROM:-0600
TZOFFSETTO:-0500
TZNAME:CDT
DTSTART:20220313T080000
END:DAYLIGHT
BEGIN:STANDARD
TZOFFSETFROM:-0500
TZOFFSETTO:-0600
TZNAME:CST
DTSTART:20221106T070000
END:STANDARD
BEGIN:DAYLIGHT
TZOFFSETFROM:-0600
TZOFFSETTO:-0500
TZNAME:CDT
DTSTART:20230312T080000
END:DAYLIGHT
BEGIN:STANDARD
TZOFFSETFROM:-0500
TZOFFSETTO:-0600
TZNAME:CST
DTSTART:20231105T070000
END:STANDARD
BEGIN:DAYLIGHT
TZOFFSETFROM:-0600
TZOFFSETTO:-0500
TZNAME:CDT
DTSTART:20240310T080000
END:DAYLIGHT
BEGIN:STANDARD
TZOFFSETFROM:-0500
TZOFFSETTO:-0600
TZNAME:CST
DTSTART:20241103T070000
END:STANDARD
END:VTIMEZONE
BEGIN:VEVENT
DTSTART;VALUE=DATE:20231013
DTEND;VALUE=DATE:20231015
DTSTAMP:20260423T154331
CREATED:20230913T151314Z
LAST-MODIFIED:20230913T151314Z
UID:40384-1697155200-1697327999@www.ntnl.org
SUMMARY:NT-NL WELCA Conference
DESCRIPTION:The 2023 NT-NL Synodical Women’s Organization Convention well be held on October 13-14 at Grace\, Carrolton. More information can be found here or on the NT-NL SWO webpage.
URL:https://www.ntnl.org/event/nt-nl-welca-conference/
LOCATION:Grace Lutheran Church – Carrollton\, 1200 East Hebron Pkwy\, Carrollton\, TX\, 75010\, United States
CATEGORIES:Partner Organizations
ORGANIZER;CN="Women of the ELCA":MAILTO:women.elca@elca.org
GEO:33.0227562;-96.908626
X-APPLE-STRUCTURED-LOCATION;VALUE=URI;X-ADDRESS=Grace Lutheran Church – Carrollton 1200 East Hebron Pkwy Carrollton TX 75010 United States;X-APPLE-RADIUS=500;X-TITLE=1200 East Hebron Pkwy:geo:-96.908626,33.0227562
END:VEVENT
BEGIN:VEVENT
DTSTART;VALUE=DATE:20231014
DTEND;VALUE=DATE:20231015
DTSTAMP:20260423T154331
CREATED:20230619T132040Z
LAST-MODIFIED:20230619T132330Z
UID:39891-1697241600-1697327999@www.ntnl.org
SUMMARY:Parish Lay Ministry Academy\, Fall 2023\, Course 2
DESCRIPTION:To register and for full details: https://www.ntnl.org/ministries/plma/
URL:https://www.ntnl.org/event/parish-lay-ministry-academy-fall-2023-course-2/
CATEGORIES:NT-NL Synod,Parish Lay Ministry Academy
ORGANIZER;CN="NT-NL Parish Lay Ministry Academy":MAILTO:DeanPLMA@ntnl.org
END:VEVENT
END:VCALENDAR