BEGIN:VCALENDAR
VERSION:2.0
PRODID:-//Northern Texas - Northern Louisiana Synod, ELCA - ECPv6.15.20//NONSGML v1.0//EN
CALSCALE:GREGORIAN
METHOD:PUBLISH
X-WR-CALNAME:Northern Texas - Northern Louisiana Synod, ELCA
X-ORIGINAL-URL:https://www.ntnl.org
X-WR-CALDESC:Events for Northern Texas - Northern Louisiana Synod, ELCA
REFRESH-INTERVAL;VALUE=DURATION:PT1H
X-Robots-Tag:noindex
X-PUBLISHED-TTL:PT1H
BEGIN:VTIMEZONE
TZID:America/Chicago
BEGIN:DAYLIGHT
TZOFFSETFROM:-0600
TZOFFSETTO:-0500
TZNAME:CDT
DTSTART:20150308T080000
END:DAYLIGHT
BEGIN:STANDARD
TZOFFSETFROM:-0500
TZOFFSETTO:-0600
TZNAME:CST
DTSTART:20151101T070000
END:STANDARD
BEGIN:DAYLIGHT
TZOFFSETFROM:-0600
TZOFFSETTO:-0500
TZNAME:CDT
DTSTART:20160313T080000
END:DAYLIGHT
BEGIN:STANDARD
TZOFFSETFROM:-0500
TZOFFSETTO:-0600
TZNAME:CST
DTSTART:20161106T070000
END:STANDARD
BEGIN:DAYLIGHT
TZOFFSETFROM:-0600
TZOFFSETTO:-0500
TZNAME:CDT
DTSTART:20170312T080000
END:DAYLIGHT
BEGIN:STANDARD
TZOFFSETFROM:-0500
TZOFFSETTO:-0600
TZNAME:CST
DTSTART:20171105T070000
END:STANDARD
BEGIN:DAYLIGHT
TZOFFSETFROM:-0600
TZOFFSETTO:-0500
TZNAME:CDT
DTSTART:20180311T080000
END:DAYLIGHT
BEGIN:STANDARD
TZOFFSETFROM:-0500
TZOFFSETTO:-0600
TZNAME:CST
DTSTART:20181104T070000
END:STANDARD
BEGIN:DAYLIGHT
TZOFFSETFROM:-0600
TZOFFSETTO:-0500
TZNAME:CDT
DTSTART:20190310T080000
END:DAYLIGHT
BEGIN:STANDARD
TZOFFSETFROM:-0500
TZOFFSETTO:-0600
TZNAME:CST
DTSTART:20191103T070000
END:STANDARD
END:VTIMEZONE
BEGIN:VTIMEZONE
TZID:America/New_York
BEGIN:DAYLIGHT
TZOFFSETFROM:-0500
TZOFFSETTO:-0400
TZNAME:EDT
DTSTART:20160313T070000
END:DAYLIGHT
BEGIN:STANDARD
TZOFFSETFROM:-0400
TZOFFSETTO:-0500
TZNAME:EST
DTSTART:20161106T060000
END:STANDARD
BEGIN:DAYLIGHT
TZOFFSETFROM:-0500
TZOFFSETTO:-0400
TZNAME:EDT
DTSTART:20170312T070000
END:DAYLIGHT
BEGIN:STANDARD
TZOFFSETFROM:-0400
TZOFFSETTO:-0500
TZNAME:EST
DTSTART:20171105T060000
END:STANDARD
BEGIN:DAYLIGHT
TZOFFSETFROM:-0500
TZOFFSETTO:-0400
TZNAME:EDT
DTSTART:20180311T070000
END:DAYLIGHT
BEGIN:STANDARD
TZOFFSETFROM:-0400
TZOFFSETTO:-0500
TZNAME:EST
DTSTART:20181104T060000
END:STANDARD
END:VTIMEZONE
BEGIN:VEVENT
DTSTART;TZID=America/Chicago:20161018T120000
DTEND;TZID=America/Chicago:20161018T130000
DTSTAMP:20260424T111953
CREATED:20160920T050000Z
LAST-MODIFIED:20170907T141825Z
UID:16166-1476792000-1476795600@www.ntnl.org
SUMMARY:FREE Webinar: New Overtime Rules
DESCRIPTION:The U.S. Department of Labor has adopted new overtime regulations under the Fair Labor Standards Act (FLSA)\, which go into effect on December 1\, 2016. Among other changes\, these regulations increase the minimum salary for exempt employees from $23\,000 to $47\,476. Many congregations\, synods\, and other ministries of the church have questions about how this impacts their employees and ministries. Does it apply to churches? What about pastors? Youth workers? Sextons? How about schools? Or camps? Join us for a free webinar on how the new regulations will affect religious institutions\, and try to answer many of these questions. \nHosts: \nSteve Knowles\, Senior Attorney\, Davis & Kuelthau \nThomas Cunniff\, Associate General Counsel\, Evangelical Lutheran Church in America (ELCA) \nRegister here: https://community.elca.org/FLSAwebinar \nMust register by October 14.
URL:https://www.ntnl.org/event/free-webinar-new-overtime-rules/
END:VEVENT
BEGIN:VEVENT
DTSTART;VALUE=DATE:20180624
DTEND;VALUE=DATE:20180628
DTSTAMP:20260424T111953
CREATED:20160830T050000Z
LAST-MODIFIED:20180405T185812Z
UID:16159-1529798400-1530143999@www.ntnl.org
SUMMARY:The ELCA Multicultural Youth Leadership Event
DESCRIPTION:The Multicultural Youth Leadership Event is a pre-event to the Gathering and exists to empower young people of color and those whose primary language is other than English to claim their story as a part of God’s story; in order to move toward healing and wholeness as transformational leaders in the church and in the world. \nMYLE’s core values include:\nCulture is explored. Participants will experience an inclusive community that seeks to build understanding and appreciation of the various cultures and ethnicities that are a part of this church.\nLeaders are formed. Youth and adults will learn about the issues in their communities and how to effect change.\nIdentity is claimed. Participants will be encouraged to uncover their story and live out their God-given calling in the world.\nFaith is deepened. Youth and adults will explore the intersection of faith and life and how our faith calls us to act justly in the world.\nFriends are made. Participants will connect with peers who are looking to build relationships and have a good time. \nMYLE 2018 will be held June 24 – 27\, 2018. The cost for MYLE is $190 per person and includes all housing\, program and some food expenses during MYLE. To learn more about previous MYLEs\, follow them on Facebook.
URL:https://www.ntnl.org/event/elca-multicultural-youth-leadership-event/
END:VEVENT
BEGIN:VEVENT
DTSTART;VALUE=DATE:20180624
DTEND;VALUE=DATE:20180628
DTSTAMP:20260424T111953
CREATED:20160830T050000Z
LAST-MODIFIED:20180405T185648Z
UID:16158-1529798400-1530143999@www.ntnl.org
SUMMARY:the tAble: an ELCA gathering of youth with disabilities
DESCRIPTION:The tAble (formerly the Definitely-abled Youth Leadership Event or DAYLE) is a pre-event to the ELCA Youth Gathering that is designed to bless and empower young people who live with a wide range of physical\, cognitive and emotional disabilities\, so that they might grow as faithful\, wise and courageous witnesses. The event also gives participants the opportunity to acclimate and orient themselves to the city of Houston and the venues in which the Gathering are being held. \nThe tAble is open to youth who are ages 14-18 or engaged in high school youth group or enrolled in high school or the vocational education equivalent. Youth who attend the tAble must be accompanied by an adult companion. \nThe tAble will be held June 24 – 27\, 2018. The cost for the tAble is $190 per person and includes all housing\, program and some food expenses during the tAble.
URL:https://www.ntnl.org/event/table-elca-gathering-youth-disabilities/
ATTACH;FMTTYPE=image/png:https://www.ntnl.org/wp-content/uploads/2017/04/the-tAble.png
END:VEVENT
BEGIN:VEVENT
DTSTART;VALUE=DATE:20180627
DTEND;VALUE=DATE:20180702
DTSTAMP:20260424T111953
CREATED:20160518T050000Z
LAST-MODIFIED:20180613T175857Z
UID:16143-1530057600-1530489599@www.ntnl.org
SUMMARY:2018 ELCA Youth Gathering
DESCRIPTION:PRAY FOR OUR YOUTH DURING THIS LIFE-CHANGING EVENT. \nEvery three years\, 30\,000 high school youth and their adult leaders from across the Evangelical Lutheran Church in America (ELCA) gather for a week of faith formation known as the Gathering. Through days spent in interactive learning\, worship\, Bible study\, service\, and fellowship\, young people grow in faith and are challenged and inspired to live their faith in their daily lives. \nAn important part of the Gathering’s ministry are the two pre-events\, the Multicultural Youth Leadership Event (MYLE)\, a faith formation and leadership development event primarily for youth of color\, and the tAble\, an ELCA gathering of youth with disabilities. \nClick here for a flyer with more details\, important dates\, etc. \nContact Information for NT-NL Gathering Team: \n\nGathering Synod Coordinator is Janelle Miller (janellemiller@yahoo.com) 817-726-7031\nSynod Day Coordinator is Christian Marbach (c.marbach@faithce.com) 254-421-8450
URL:https://www.ntnl.org/event/elca-youth-gathering/
CATEGORIES:Y
ATTACH;FMTTYPE=image/jpeg:https://www.ntnl.org/wp-content/uploads/2017/04/2018-ELCA-Youth-Gathering-e1487177148483.jpg
END:VEVENT
BEGIN:VEVENT
DTSTART;TZID=America/Chicago:20160525T190000
DTEND;TZID=America/Chicago:20160525T200000
DTSTAMP:20260424T111953
CREATED:20160514T050000Z
LAST-MODIFIED:20170907T141826Z
UID:16141-1464202800-1464206400@www.ntnl.org
SUMMARY:"A Place for All" Webcast with ELCA Presiding Bishop Elizabeth Eaton
DESCRIPTION:
URL:https://www.ntnl.org/event/place-webcast-elca-presiding-bishop-elizabeth-eaton/
CATEGORIES:Y
ATTACH;FMTTYPE=image/jpeg:https://www.ntnl.org/wp-content/uploads/2017/04/Webcast_banner_Aplace4all.ashx_.jpg
END:VEVENT
BEGIN:VEVENT
DTSTART;VALUE=DATE:20170807
DTEND;VALUE=DATE:20170811
DTSTAMP:20260424T111953
CREATED:20160418T050000Z
LAST-MODIFIED:20170907T141801Z
UID:16140-1502064000-1502409599@www.ntnl.org
SUMMARY:ELCA Rostered Ministers Gathering
DESCRIPTION:This will be an opportunity for our Rostered Ministers to assemble for worship\, education\, and fellowship. We will gather under the theme\, “On the Way … Together\,” using the Emmaus Road story (Luke 24:13-35) to guide our time together. \nLike and follow this facebook page for updates: https://www.facebook.com/ELCARLG2017/ \nHere’s the webpage for the event: http://www.elca.org/RMG \nDUE TO AN OVERWHELMING RESPONSE AND LIMITATIONS ON SPACE\, REGISTRATION CLOSED ON JUNE 1\, 2017. See the Facebook post from that day for more details. \nThe hashtag for this gathering will be #ELCAOnTheWay \nIf you have questions\, please e-mail 2017RosteredGathering@elca.org. \nTwo pre-gatherings will take place before this main event occurs. The ELCA Federal Chaplains will meet that Sunday and Monday\, and there will be a Young Rostered Leaders Gathering on Sunday and Monday for folks in their 20’s and 30’s.
URL:https://www.ntnl.org/event/rostered-leaders-gathering/
CATEGORIES:Y
ATTACH;FMTTYPE=image/png:https://www.ntnl.org/wp-content/uploads/2017/04/Rostered-Ministers-Gathering-2017-e1477583121630.png
END:VEVENT
BEGIN:VEVENT
DTSTART;VALUE=DATE:20160808
DTEND;VALUE=DATE:20160814
DTSTAMP:20260424T111953
CREATED:20160331T050000Z
LAST-MODIFIED:20170907T141825Z
UID:16136-1470614400-1471132799@www.ntnl.org
SUMMARY:ELCA Churchwide Assembly
DESCRIPTION:
URL:https://www.ntnl.org/event/elca-churchwide-assembly/
LOCATION:Ernest N. Morial Convention Center\, New Orleans\, LA\, United States
ATTACH;FMTTYPE=image/jpeg:https://www.ntnl.org/wp-content/uploads/2017/04/CWAbanner1400x500.ashx_.jpg
END:VEVENT
BEGIN:VEVENT
DTSTART;VALUE=DATE:20160810
DTEND;VALUE=DATE:20160814
DTSTAMP:20260424T111953
CREATED:20160331T050000Z
LAST-MODIFIED:20170907T141825Z
UID:16137-1470787200-1471132799@www.ntnl.org
SUMMARY:ELCA Grace Gathering
DESCRIPTION:
URL:https://www.ntnl.org/event/elca-grace-gathering/
LOCATION:Ernest N. Morial Convention Center\, New Orleans\, LA\, United States
ATTACH;FMTTYPE=image/jpeg:https://www.ntnl.org/wp-content/uploads/2017/07/Grace-Gathering-banner.ashx_.jpg
END:VEVENT
BEGIN:VEVENT
DTSTART;VALUE=DATE:20160911
DTEND;VALUE=DATE:20160912
DTSTAMP:20260424T111953
CREATED:20160331T050000Z
LAST-MODIFIED:20170907T141825Z
UID:16138-1473552000-1473638399@www.ntnl.org
SUMMARY:ELCA Day of Service
DESCRIPTION:
URL:https://www.ntnl.org/event/elca-day-service/
ATTACH;FMTTYPE=image/png:https://www.ntnl.org/wp-content/uploads/2017/04/2016-Day-of-Service.png
END:VEVENT
END:VCALENDAR