BEGIN:VCALENDAR
VERSION:2.0
PRODID:-//Northern Texas - Northern Louisiana Synod, ELCA - ECPv6.15.20//NONSGML v1.0//EN
CALSCALE:GREGORIAN
METHOD:PUBLISH
X-WR-CALNAME:Northern Texas - Northern Louisiana Synod, ELCA
X-ORIGINAL-URL:https://www.ntnl.org
X-WR-CALDESC:Events for Northern Texas - Northern Louisiana Synod, ELCA
REFRESH-INTERVAL;VALUE=DURATION:PT1H
X-Robots-Tag:noindex
X-PUBLISHED-TTL:PT1H
BEGIN:VTIMEZONE
TZID:America/Chicago
BEGIN:DAYLIGHT
TZOFFSETFROM:-0600
TZOFFSETTO:-0500
TZNAME:CDT
DTSTART:20130310T080000
END:DAYLIGHT
BEGIN:STANDARD
TZOFFSETFROM:-0500
TZOFFSETTO:-0600
TZNAME:CST
DTSTART:20131103T070000
END:STANDARD
BEGIN:DAYLIGHT
TZOFFSETFROM:-0600
TZOFFSETTO:-0500
TZNAME:CDT
DTSTART:20140309T080000
END:DAYLIGHT
BEGIN:STANDARD
TZOFFSETFROM:-0500
TZOFFSETTO:-0600
TZNAME:CST
DTSTART:20141102T070000
END:STANDARD
BEGIN:DAYLIGHT
TZOFFSETFROM:-0600
TZOFFSETTO:-0500
TZNAME:CDT
DTSTART:20150308T080000
END:DAYLIGHT
BEGIN:STANDARD
TZOFFSETFROM:-0500
TZOFFSETTO:-0600
TZNAME:CST
DTSTART:20151101T070000
END:STANDARD
BEGIN:DAYLIGHT
TZOFFSETFROM:-0600
TZOFFSETTO:-0500
TZNAME:CDT
DTSTART:20160313T080000
END:DAYLIGHT
BEGIN:STANDARD
TZOFFSETFROM:-0500
TZOFFSETTO:-0600
TZNAME:CST
DTSTART:20161106T070000
END:STANDARD
BEGIN:DAYLIGHT
TZOFFSETFROM:-0600
TZOFFSETTO:-0500
TZNAME:CDT
DTSTART:20170312T080000
END:DAYLIGHT
BEGIN:STANDARD
TZOFFSETFROM:-0500
TZOFFSETTO:-0600
TZNAME:CST
DTSTART:20171105T070000
END:STANDARD
END:VTIMEZONE
BEGIN:VEVENT
DTSTART;TZID=America/Chicago:20160115T193000
DTEND;TZID=America/Chicago:20160117T120000
DTSTAMP:20260422T165531
CREATED:20150708T050000Z
LAST-MODIFIED:20170907T141827Z
UID:16101-1452886200-1453032000@www.ntnl.org
SUMMARY:High School Service Weekend 2016
DESCRIPTION:High School Service Weekend Registration Packet \nFor more information\, contact NTNLYouthLeaders@yahoo.com.
URL:https://www.ntnl.org/event/high-school-service-weekend-2016/
ATTACH;FMTTYPE=image/png:https://www.ntnl.org/wp-content/uploads/2017/04/HS-service-weekend.png
ORGANIZER;CN="NT-NL Youth Leaders":MAILTO:NTNLYouthLeaders@yahoo.com
END:VEVENT
BEGIN:VEVENT
DTSTART;TZID=America/Chicago:20150628T133000
DTEND;TZID=America/Chicago:20150628T200000
DTSTAMP:20260422T165531
CREATED:20150505T050000Z
LAST-MODIFIED:20170907T141829Z
UID:16087-1435498200-1435521600@www.ntnl.org
SUMMARY:Storybook Beginning - NT-NL Youth
DESCRIPTION:You are invited to join other NT-NL Youth Groups going to Detroit this summer for the ELCA Youth Gathering. \nThe theme for this year’s Gathering is the entire book of Mark. This STORYBOOK BEGINNING event will include a presentation of the story of Jesus in Mark by TLU professor Dr. Phil Ruge-Jones\, who is a Markan scholar and storyteller. Dr. Ruge-Jones will present a live performance of the book of Mark for our group. \nWe will also have games\, conversations\, and dinner together so our young people from the NT-NL Mission Area can meet each other as we all prepare for this Journey To Detroit! In addition\, there will be an opportunity for adult leaders to collaborate and share. This event has been paid for by several gifts and all we ask is $5 per person for dinner if you are able. \nMany of you may be traveling from out of town and we have several local churches and host families that would love to gift you with housing for this weekend if you would like to make it a weekend event for your kids. DFW is a great place to do teambuilding with your group—museums\, Texas Rangers baseball games\, Six Flags Over Texas\, Hurricane Harbor\, the Fort Worth Stockyards\, and much more. \nPlease RSVP by Monday\, June 22! Of course earlier is better\, and there will be a special treat for the first three groups that sign up! \n  \nREGISTER HERE:  https://docs.google.com/forms/d/1Kwoel2fy1-FE1dLtR-VVFZBTDdu88xLosr54-STXhYc/viewform?usp=send_form \n 
URL:https://www.ntnl.org/event/storybook-beginning-nt-nl-youth/
LOCATION:Briarwood Leadership Center\, 670 Copper Canyon Rd.\, Argyle\, TX\, 76226\, United States
CATEGORIES:Y
ATTACH;FMTTYPE=image/jpeg:https://www.ntnl.org/wp-content/uploads/2017/04/Storybook-beginning-e1431100680107.jpg
ORGANIZER;CN="NT-NL Youth Leaders":MAILTO:NTNLYouthLeaders@yahoo.com
GEO:33.0886127;-97.1074111
X-APPLE-STRUCTURED-LOCATION;VALUE=URI;X-ADDRESS=Briarwood Leadership Center 670 Copper Canyon Rd. Argyle TX 76226 United States;X-APPLE-RADIUS=500;X-TITLE=670 Copper Canyon Rd.:geo:-97.1074111,33.0886127
END:VEVENT
BEGIN:VEVENT
DTSTART;TZID=America/Chicago:20141114T193000
DTEND;TZID=America/Chicago:20141116T113000
DTSTAMP:20260422T165531
CREATED:20140822T050000Z
LAST-MODIFIED:20170907T141852Z
UID:16029-1415993400-1416137400@www.ntnl.org
SUMMARY:2014 Junior High Youth Gathering
DESCRIPTION:Download the 2014 LYO Junior High Registration packet here! \nEarly registration deadline is October 20th.
URL:https://www.ntnl.org/event/2014-junior-high-youth-gathering/
CATEGORIES:Y
ATTACH;FMTTYPE=image/png:https://www.ntnl.org/wp-content/uploads/2017/04/2014-LYO-JH-Registration.png
ORGANIZER;CN="NT-NL Youth Leaders":MAILTO:NTNLYouthLeaders@yahoo.com
END:VEVENT
BEGIN:VEVENT
DTSTART;TZID=America/Chicago:20160219T200000
DTEND;TZID=America/Chicago:20160221T130000
DTSTAMP:20260422T165531
CREATED:20140813T050000Z
LAST-MODIFIED:20170907T141826Z
UID:16103-1455912000-1456059600@www.ntnl.org
SUMMARY:Peer Ministry Leadership Event 2016
DESCRIPTION:Leadership training\, service\, and lots of fun! \nPeer Ministry I\, II\, & III\nFebruary 19-21\, 2016\n8:00 p.m. Friday-1:00 p.m. Sunday\nBriarwood Retreat Center\nFor youth in grades 9-12 \nThree Peer Ministry Tracks offered: \nPEER MINISTRY I\nYou will enhance your skills of listening\,\nhelping peers and communication. You\nwill discover how caring relationships are\na vital ministry. \nPEER MINISTRY II\nFor those who have completed PM I. You\nwill learn more skills for sharing your\nfaith\, addressing sensitive issues and\ndealing with difficult people. \nPEER MINISTRY III\nFor those who have completed PM I &\nPMII. They will apply their skills in real world\nscenarios\, will help lead worship and will have\ndiscussions on “now what?” \n  \nWhat will we be doing during this weekend… \n\nAttending peer ministry sessions\nWorship\nService project\nGreat food and fellowship\n\nWhat your registration includes… \n\n2 nights lodging (bring linens/sleeping bag)\nSaturday meals (3)\, Sunday breakfast & lunch\nMaterials\n\nDownload the 2016 Peer Ministry registration brochure here. \nQuestions?\nCall Janelle Miller at 817-726-7031 or email NTNLYouthLeaders@yahoo.com.
URL:https://www.ntnl.org/event/peer-ministry-2016/
LOCATION:Briarwood Leadership Center\, 670 Copper Canyon Rd.\, Argyle\, TX\, 76226\, United States
CATEGORIES:Y
ORGANIZER;CN="NT-NL Youth Leaders":MAILTO:NTNLYouthLeaders@yahoo.com
GEO:33.0886127;-97.1074111
X-APPLE-STRUCTURED-LOCATION;VALUE=URI;X-ADDRESS=Briarwood Leadership Center 670 Copper Canyon Rd. Argyle TX 76226 United States;X-APPLE-RADIUS=500;X-TITLE=670 Copper Canyon Rd.:geo:-97.1074111,33.0886127
END:VEVENT
BEGIN:VEVENT
DTSTART;TZID=America/Chicago:20150220T200000
DTEND;TZID=America/Chicago:20150222T130000
DTSTAMP:20260422T165531
CREATED:20140813T050000Z
LAST-MODIFIED:20170907T141851Z
UID:16025-1424462400-1424610000@www.ntnl.org
SUMMARY:Peer Ministry Leadership Event
DESCRIPTION:Leadership training\, service\, and lots of fun! \nPeer Ministry I\, II\, & III\nFebruary 20-22\n8:00 p.m. Friday-1:00 p.m. Sunday\nBriarwood Retreat Center\nFor youth in grades 9-12 \nThree Peer Ministry Tracks offered: \nPEER MINISTRY I\nYou will enhance your skills of listening\,\nhelping peers and communication. You\nwill discover how caring relationships are\na vital ministry. \nPEER MINISTRY II\nFor those who have completed PM I. You\nwill learn more skills for sharing your\nfaith\, addressing sensitive issues and\ndealing with difficult people. \nPEER MINISTRY III\nFor those who have completed PM I &\nPMII. They will apply their skills in real world\nscenarios\, will help lead worship and will have\ndiscussions on “now what?” \n  \nWhat will we be doing during this weekend… \n\nAttending peer ministry sessions\nWorship\nService project\nGreat food and fellowship\n\nWhat your registration includes… \n\n2 nights lodging (bring linens/sleeping bag)\nSaturday meals (3)\, Sunday breakfast & lunch\nMaterials\n\nDownload the 2015 Peer Ministry registration brochure here. \nQuestions?\nCall Janelle Miller at 817-726-7031 or email NTNLYouthLeaders@yahoo.com.
URL:https://www.ntnl.org/event/peer-ministry/
LOCATION:Briarwood Leadership Center\, 670 Copper Canyon Rd.\, Argyle\, TX\, 76226\, United States
CATEGORIES:Y
ATTACH;FMTTYPE=image/png:https://www.ntnl.org/wp-content/uploads/2017/04/Peer-Ministry1.png
ORGANIZER;CN="NT-NL Youth Leaders":MAILTO:NTNLYouthLeaders@yahoo.com
GEO:33.0886127;-97.1074111
X-APPLE-STRUCTURED-LOCATION;VALUE=URI;X-ADDRESS=Briarwood Leadership Center 670 Copper Canyon Rd. Argyle TX 76226 United States;X-APPLE-RADIUS=500;X-TITLE=670 Copper Canyon Rd.:geo:-97.1074111,33.0886127
END:VEVENT
BEGIN:VEVENT
DTSTART;TZID=America/Chicago:20150116T200000
DTEND;TZID=America/Chicago:20150118T113000
DTSTAMP:20260422T165531
CREATED:20140813T050000Z
LAST-MODIFIED:20170907T141852Z
UID:16027-1421438400-1421580600@www.ntnl.org
SUMMARY:2015 High School Extravaganza
DESCRIPTION:3RD ANNUAL NT-NL HIGH SCHOOL EXTRAVAGANZA\nJanuary 16-18\, 2015\nWorship\nSocial Outing\nService Projects\nFun & Games!\nThe schedule is for everyone to arrive at Calvary Lutheran Church in Fort Worth between 7:30-8:00 p.m. on Friday. The weekend will end with worship on Sunday morning. Groups will be heading out about 11:30 a.m. \nEach group will be asked to bring water bottles for their kids and a couple of snacks to share with the larger group on Friday night. We will send out service project assignments with your confirmation letter so you will know if special tools or attire are needed. \nThe Extravaganza Hosts will provide continental breakfast\, lunch and dinner on Saturday\, as well as breakfast on Sunday morning. \nHousing will be in the Family Life Center at Calvary so please bring bedding and an air mattress. We have showers so bring towels and shower stuff. \nIf congregations would prefer to stay at a hotel there are several within a few miles and we can block rooms for you. Please let us know if you would like to stay at a hotel as soon as possible so we know how many rooms to negotiate for. Any hotel costs are in addition to the $45 registration fee and will be paid directly to the hotel.  \nRegistration is due on December 7.  \nPlease send a deposit of $20 per youth to hold your spot. You will notice that we have dropped the cost considerably from last year since everyone is also raising money for the National Youth Gathering and we want to make this event affordable for everyone. \nDownload the registration packet here. \n 
URL:https://www.ntnl.org/event/2015-high-school-extravaganza/
CATEGORIES:Y
ATTACH;FMTTYPE=image/png:https://www.ntnl.org/wp-content/uploads/2017/04/2015-NT-NL-HS-Extravaganza-poster.png
ORGANIZER;CN="NT-NL Youth Leaders":MAILTO:NTNLYouthLeaders@yahoo.com
END:VEVENT
BEGIN:VEVENT
DTSTART;TZID=America/Chicago:20150305T090000
DTEND;TZID=America/Chicago:20150306T170000
DTSTAMP:20260422T165531
CREATED:20140812T050000Z
LAST-MODIFIED:20170907T141851Z
UID:16023-1425546000-1425661200@www.ntnl.org
SUMMARY:Peer Ministry Adult Facilitator Training
DESCRIPTION:Peer Ministry is a vital ministry in congregations throughout the country and several right here in the NT-NL Mission Area! \nWe are bringing in a national trainer to train more adults to be facilitators.   We are fortunate to be able to keep the training cost low since Tom Schwolert\, a certified trainer of Peer Ministry facilitators\, lives in the area! \n  \nCost is $200 for each adult (includes the training\, materials\, and lunch) \n$500 flat fee for churches who bring 3 or more adults \n  \nYou can go to www.everydayllc.org to learn more about Peer Ministry. \nDownload the Peer Ministry facilitator training registration form here. Please contact NTNLYouthLeaders@yahoo.com for more information.
URL:https://www.ntnl.org/event/peer-ministry-adult-facilitator-training/
CATEGORIES:Y
ATTACH;FMTTYPE=image/png:https://www.ntnl.org/wp-content/uploads/2017/04/Peer-Ministry-e1425322531472.png
ORGANIZER;CN="NT-NL Youth Leaders":MAILTO:NTNLYouthLeaders@yahoo.com
END:VEVENT
END:VCALENDAR