BEGIN:VCALENDAR
VERSION:2.0
PRODID:-//Northern Texas - Northern Louisiana Synod, ELCA - ECPv6.15.20//NONSGML v1.0//EN
CALSCALE:GREGORIAN
METHOD:PUBLISH
X-ORIGINAL-URL:https://www.ntnl.org
X-WR-CALDESC:Events for Northern Texas - Northern Louisiana Synod, ELCA
REFRESH-INTERVAL;VALUE=DURATION:PT1H
X-Robots-Tag:noindex
X-PUBLISHED-TTL:PT1H
BEGIN:VTIMEZONE
TZID:America/Chicago
BEGIN:DAYLIGHT
TZOFFSETFROM:-0600
TZOFFSETTO:-0500
TZNAME:CDT
DTSTART:20130310T080000
END:DAYLIGHT
BEGIN:STANDARD
TZOFFSETFROM:-0500
TZOFFSETTO:-0600
TZNAME:CST
DTSTART:20131103T070000
END:STANDARD
BEGIN:DAYLIGHT
TZOFFSETFROM:-0600
TZOFFSETTO:-0500
TZNAME:CDT
DTSTART:20140309T080000
END:DAYLIGHT
BEGIN:STANDARD
TZOFFSETFROM:-0500
TZOFFSETTO:-0600
TZNAME:CST
DTSTART:20141102T070000
END:STANDARD
BEGIN:DAYLIGHT
TZOFFSETFROM:-0600
TZOFFSETTO:-0500
TZNAME:CDT
DTSTART:20150308T080000
END:DAYLIGHT
BEGIN:STANDARD
TZOFFSETFROM:-0500
TZOFFSETTO:-0600
TZNAME:CST
DTSTART:20151101T070000
END:STANDARD
END:VTIMEZONE
BEGIN:VEVENT
DTSTART;TZID=America/Chicago:20140607T153000
DTEND;TZID=America/Chicago:20140607T180000
DTSTAMP:20260422T235916
CREATED:20140501T050000Z
LAST-MODIFIED:20170907T141854Z
UID:16007-1402155000-1402164000@www.ntnl.org
SUMMARY:Celebrating Diversity Through Praise & Worship
DESCRIPTION:St. John’s Lutheran Church\nBethany Lutheran Church\nMt. Olive Lutheran Church\nPresent a Vigil of Pentecost Service \nCelebrating Diversity\nthrough Praise & Worship\nJoin us June 7th in front of Mt. Olive Lutheran Church\, where we will loudly sing hymns and make music letting the whole neighborhood know that we are there. \nAt 3:55 p.m. we will proceed up the steps into the sanctuary where we will celebrate and worship with music\, the Word\, and uplifting messages. \nAfter the worship\, we will continue our fellowship with a Potluck Supper on the grounds.
URL:https://www.ntnl.org/event/celebrating-diversity-praise-worship/
CATEGORIES:Y
ORGANIZER;CN="Pastor Cheryl Walenta-Gorvie":MAILTO:churchoffice@bethany.net
END:VEVENT
BEGIN:VEVENT
DTSTART;TZID=America/Chicago:20140315T090000
DTEND;TZID=America/Chicago:20140315T133000
DTSTAMP:20260422T235916
CREATED:20140224T060000Z
LAST-MODIFIED:20170907T141855Z
UID:15992-1394874000-1394890200@www.ntnl.org
SUMMARY:"Turning the Mirror Inward"—Institutionalized Racism: Root Causes of Racial Inequities
DESCRIPTION:Racial Equity Consultant Joyce James \nThis workshop\, presented by 2014 Mission Assembly Keynote Speaker Joyce James\, will be a unique opportunity for leaders in the church\, through facilitated dialogue and reflection\, to analyze the structure and relationships that exists across systems and institutions that contribute to racial inequities. \nWorkshop participants will: \n\nUnderstand the historical context for how U.S. institutions came to be and who they have been designed to serve;\nUnderstand why people are poor and the role of the Church and other institutions in the oppression of the same populations;\nExamine the attitudes and assumptions that have shaped the response of systems and institutions placing the burden and responsibility for poor outcomes on individuals\, rather than on systems.\nBegin the journey toward understanding institutionalized racism as the underlying cause of all racial inequities and recognizing systems transformation as the cure.\n\nRegistration: $15 per person\, includes lunch. To register\, please call Bethany Lutheran Church at 214-348-9690 or email churchoffice@bethany.net. \nFor more information\, please contact:\nPastor Cheryl Walenta Gorvie\, Bethany Lutheran Church (214-348-9690)\nPastor Chuck Hubbard\, Gloria Dei Lutheran Church (972/442-6405)
URL:https://www.ntnl.org/event/turning-mirror-inward-institutionalized-racism-root-causes-racial-inequities/
ORGANIZER;CN="Pastor Cheryl Walenta-Gorvie":MAILTO:churchoffice@bethany.net
END:VEVENT
END:VCALENDAR