BEGIN:VCALENDAR
VERSION:2.0
PRODID:-//Northern Texas - Northern Louisiana Synod, ELCA - ECPv6.15.20//NONSGML v1.0//EN
CALSCALE:GREGORIAN
METHOD:PUBLISH
X-WR-CALNAME:Northern Texas - Northern Louisiana Synod, ELCA
X-ORIGINAL-URL:https://www.ntnl.org
X-WR-CALDESC:Events for Northern Texas - Northern Louisiana Synod, ELCA
REFRESH-INTERVAL;VALUE=DURATION:PT1H
X-Robots-Tag:noindex
X-PUBLISHED-TTL:PT1H
BEGIN:VTIMEZONE
TZID:America/Chicago
BEGIN:DAYLIGHT
TZOFFSETFROM:-0600
TZOFFSETTO:-0500
TZNAME:CDT
DTSTART:20130310T080000
END:DAYLIGHT
BEGIN:STANDARD
TZOFFSETFROM:-0500
TZOFFSETTO:-0600
TZNAME:CST
DTSTART:20131103T070000
END:STANDARD
BEGIN:DAYLIGHT
TZOFFSETFROM:-0600
TZOFFSETTO:-0500
TZNAME:CDT
DTSTART:20140309T080000
END:DAYLIGHT
BEGIN:STANDARD
TZOFFSETFROM:-0500
TZOFFSETTO:-0600
TZNAME:CST
DTSTART:20141102T070000
END:STANDARD
BEGIN:DAYLIGHT
TZOFFSETFROM:-0600
TZOFFSETTO:-0500
TZNAME:CDT
DTSTART:20150308T080000
END:DAYLIGHT
BEGIN:STANDARD
TZOFFSETFROM:-0500
TZOFFSETTO:-0600
TZNAME:CST
DTSTART:20151101T070000
END:STANDARD
BEGIN:DAYLIGHT
TZOFFSETFROM:-0600
TZOFFSETTO:-0500
TZNAME:CDT
DTSTART:20160313T080000
END:DAYLIGHT
BEGIN:STANDARD
TZOFFSETFROM:-0500
TZOFFSETTO:-0600
TZNAME:CST
DTSTART:20161106T070000
END:STANDARD
END:VTIMEZONE
BEGIN:VEVENT
DTSTART;TZID=America/Chicago:20150521T100000
DTEND;TZID=America/Chicago:20150521T120000
DTSTAMP:20260420T052158
CREATED:20140522T050000Z
LAST-MODIFIED:20170907T141850Z
UID:16012-1432202400-1432209600@www.ntnl.org
SUMMARY:PLMA Board Meeting
DESCRIPTION:
URL:https://www.ntnl.org/event/plma-board-meeting-2/
CATEGORIES:N
ORGANIZER;CN="Pastor Jane Mar":MAILTO:jane@ntnl.org
END:VEVENT
BEGIN:VEVENT
DTSTART;TZID=America/Chicago:20140801T170000
DTEND;TZID=America/Chicago:20140801T210000
DTSTAMP:20260420T052158
CREATED:20140513T050000Z
LAST-MODIFIED:20170907T141854Z
UID:16008-1406912400-1406926800@www.ntnl.org
SUMMARY:Candidacy Committee Meeting
DESCRIPTION:
URL:https://www.ntnl.org/event/candidacy-committee-meeting-2/
CATEGORIES:N
ORGANIZER;CN="Pastor Jane Mar":MAILTO:jane@ntnl.org
END:VEVENT
BEGIN:VEVENT
DTSTART;TZID=America/Chicago:20140802T083000
DTEND;TZID=America/Chicago:20140802T150000
DTSTAMP:20260420T052158
CREATED:20140227T060000Z
LAST-MODIFIED:20170907T141853Z
UID:15998-1406968200-1406991600@www.ntnl.org
SUMMARY:Candidacy Committee Meeting
DESCRIPTION:
URL:https://www.ntnl.org/event/candidacy-committee-meeting/
CATEGORIES:N
ORGANIZER;CN="Pastor Jane Mar":MAILTO:jane@ntnl.org
END:VEVENT
BEGIN:VEVENT
DTSTART;TZID=America/Chicago:20140819T100000
DTEND;TZID=America/Chicago:20140819T160000
DTSTAMP:20260420T052158
CREATED:20140227T060000Z
LAST-MODIFIED:20170907T141853Z
UID:15999-1408442400-1408464000@www.ntnl.org
SUMMARY:NT-NL Boundary Awareness Seminar
DESCRIPTION:“Not only individual victims\, but congregations and communities are betrayed by clergy misconduct.”\n—Pamela Cooper-White \nThese betrayals twist relationships\, plant suspicion\, and create permanent and crippling wounds.  This brokenness cries out for justice. \nBoundary Training is an opportunity to for the church to practice justice by engaging in conversation about: \n\nthe use and misuse of power;\nappropriate boundaries and how they provide of justice\, mercy\, and loving kindness;\nexamining current behaviors;\nhow to create healthy communities of transparency and honor.\n\nJoin us for this training with the Rev. Judith Spindt\, Director of Evangelical Mission for the Southwest Texas Synod. \nThis one-day seminar is strongly recommended for all leaders in the church\, rostered and lay\, employed and volunteer. The seminar will address how to establish and maintain personal and professional boundaries\, when dealing with coworkers\, with parishioners\, and with youth. \nFor those in and around the Metroplex\, we request that you attend in person at Briarwood. Those of you outside the Metroplex will be able to participate via live stream; you will have to validate your participation. Pastor Jane Mar will provide more information about that process the day of the event. \nPlease join us for this important seminar. Most church insurance plans strongly recommend congregation leaders and staff attend this training; even if you have attended a boundary workshop in the past\, rostered leaders are expected to attend one at least every three years. \nCost is $12\, for lunch. Please email Pastor Jane Mar at jane@ntnl.org to register.
URL:https://www.ntnl.org/event/nt-nl-boundaries-seminar/
LOCATION:Briarwood Leadership Center\, 670 Copper Canyon Rd.\, Argyle\, TX\, 76226\, United States
CATEGORIES:Y
ATTACH;FMTTYPE=image/jpeg:https://www.ntnl.org/wp-content/uploads/2017/04/Boundary-Awareness-Training-e1400791432527.jpg
ORGANIZER;CN="Pastor Jane Mar":MAILTO:jane@ntnl.org
GEO:33.0886127;-97.1074111
X-APPLE-STRUCTURED-LOCATION;VALUE=URI;X-ADDRESS=Briarwood Leadership Center 670 Copper Canyon Rd. Argyle TX 76226 United States;X-APPLE-RADIUS=500;X-TITLE=670 Copper Canyon Rd.:geo:-97.1074111,33.0886127
END:VEVENT
BEGIN:VEVENT
DTSTART;TZID=America/Chicago:20141219T080000
DTEND;TZID=America/Chicago:20141220T150000
DTSTAMP:20260420T052158
CREATED:20140219T060000Z
LAST-MODIFIED:20170907T141852Z
UID:15988-1418976000-1419087600@www.ntnl.org
SUMMARY:Candidacy Committee Retreat
DESCRIPTION:
URL:https://www.ntnl.org/event/candidacy-committee-retreat/
LOCATION:Briarwood Leadership Center\, 670 Copper Canyon Rd.\, Argyle\, TX\, 76226\, United States
CATEGORIES:N
ORGANIZER;CN="Pastor Jane Mar":MAILTO:jane@ntnl.org
GEO:33.0886127;-97.1074111
X-APPLE-STRUCTURED-LOCATION;VALUE=URI;X-ADDRESS=Briarwood Leadership Center 670 Copper Canyon Rd. Argyle TX 76226 United States;X-APPLE-RADIUS=500;X-TITLE=670 Copper Canyon Rd.:geo:-97.1074111,33.0886127
END:VEVENT
BEGIN:VEVENT
DTSTART;TZID=America/Chicago:20140228T120000
DTEND;TZID=America/Chicago:20140301T120000
DTSTAMP:20260420T052158
CREATED:20140218T060000Z
LAST-MODIFIED:20170907T141855Z
UID:15968-1393588800-1393675200@www.ntnl.org
SUMMARY:2014 Congregational Leadership Academy
DESCRIPTION:This year\, the Congregational Leadership Academy will be held over one weekend\, with additional\, follow-up Skype sessions\, rather than three weekends. We hope this makes it easier for those traveling! \n \nGather your team (at least two lay people and the pastor or SAWL from the congregation\, maximum of 6 people per team)\, or\, if your congregation does not have a pastor or SAWL\, you may register as an individual. \nA block of rooms has been reserved at the Howard Johnson hotel\, 5108 Interstate 27\, Lubbock TX 79404\, under the name Jane Mar. Please call 806-741-1600 to book your reservation.
URL:https://www.ntnl.org/event/2014-congregational-leadership-academy/
ORGANIZER;CN="Pastor Jane Mar":MAILTO:jane@ntnl.org
END:VEVENT
BEGIN:VEVENT
DTSTART;TZID=America/Chicago:20140318T093000
DTEND;TZID=America/Chicago:20140318T153000
DTSTAMP:20260420T052158
CREATED:20140218T060000Z
LAST-MODIFIED:20170907T141855Z
UID:15973-1395135000-1395156600@www.ntnl.org
SUMMARY:Table Talk: Death of the Mainline—NOT!
DESCRIPTION:Is the announcement of the death of mainline churches premature? \nJoin Dr. Ted Campbell\, Associate Professor of Church History at Perkins School of Theology\, to learn why he thinks mainline churches are alive and well and what that means for your ministry. \n \nTo register\, email Pastor Jane Mar at jane@ntnl.org. Cost is $12 which includes lunch. \nClick here to find out more about the 2014 Table Talk series. \nLivestream links: \nMorning session \nAfternoon session \n 
URL:https://www.ntnl.org/event/table-talk-death-mainline/
ORGANIZER;CN="Pastor Jane Mar":MAILTO:jane@ntnl.org
END:VEVENT
BEGIN:VEVENT
DTSTART;TZID=America/Chicago:20140506T093000
DTEND;TZID=America/Chicago:20140506T153000
DTSTAMP:20260420T052158
CREATED:20140218T060000Z
LAST-MODIFIED:20170907T141854Z
UID:15974-1399368600-1399390200@www.ntnl.org
SUMMARY:Table Talk: A Helpful Smile in Every Aisle
DESCRIPTION:Why are coffee shops and not the church the place where people gather? \nLearn how the best practices of four and five star service providers can apply to your church and what they can do to strengthen your outreach and hospitality. \nDr. Bill Withers\, Assistant Director of The Institute for Leadership Education at Wartburg College will be our featured speaker. Bill has studied and consulted with Proctor & Gamble\, Ritz Carlton\, Disney and Starbucks. \n \n  \nClick here to read more about the 2014 Table Talk series.
URL:https://www.ntnl.org/event/table-talk-helpful-smile-every-aisle/
ORGANIZER;CN="Pastor Jane Mar":MAILTO:jane@ntnl.org
END:VEVENT
BEGIN:VEVENT
DTSTART;TZID=America/Chicago:20140923T093000
DTEND;TZID=America/Chicago:20140923T153000
DTSTAMP:20260420T052158
CREATED:20140218T060000Z
LAST-MODIFIED:20170907T141853Z
UID:15975-1411464600-1411486200@www.ntnl.org
SUMMARY:CANCELED - Table Talk: Moral Injury
DESCRIPTION:Unfortunately Dr. Rita Brock has had to cancel her presentation tomorrow at Briarwood due to a medical issue. WE apologize for the late notice. \nHow can we be better equipped to walk with those facing difficult decisions or who have lived through morally challenging events\, such as withdrawing life support? \nJoin the Rev. Dr. Rita Brock\, Co-Director of the Soul Repair Center at Brite Divinity School\, to learn about pastoral care and moral injury. \nThis event will be live-streamed: AM session | PM session \n  \n \nClick here to read more about the 2014 Table Talk series. \nTo register\, please complete the form below. Registration deadline is September 19.
URL:https://www.ntnl.org/event/table-talk-moral-injury/
CATEGORIES:Y
ORGANIZER;CN="Pastor Jane Mar":MAILTO:jane@ntnl.org
END:VEVENT
END:VCALENDAR